Workbook

Sheet ENTRY
A1: LOCATION | B1: MAPSHEET | C1: POLYGON | D1: Ha. | E1: METERS | F1: DATE | G1: GPS | H1: GPS | I1: LICENCEE | J1: CONTRACT | K1: SURVEY | L1: SURVEYORS | M1: CERT | N1: PIXEL | O1: INF=1 | P1: S/L | Q1: DISTANCE | S1: SW | T1: 1 | U1: 2 | V1: 3 | W1: 4 | X1: 5 | Y1: 6 | Z1: Bl | AA1: At | AB1: Ct | AC1: Ep | AD1: SW | AE1: 1 | AF1: 2 | AG1: 3 | AH1: 4 | AI1: 5 | AJ1: 6 | AK1: Bl | AL1: At | AM1: Ct | AN1: Ep | AO1: SW | AP1: 1 | AQ1: 2 | AR1: 3 | AS1: 4 | AT1: 5 | AU1: 6 | AV1: Bl | AW1: At | AX1: Ct | AY1: Ep | AZ1: SW | BA1: 1 | BB1: 2 | BC1: 3 | BD1: 4 | BE1: 5 | BF1: 6 | BG1: Bl | BH1: At | BI1: Ct | BJ1: Ep | BK1: SW | BL1: 1 | BM1: 2 | BN1: 3 | BO1: 4 | BP1: 5 | BQ1: 6 | BR1: Bl | BS1: At | BT1: Ct | BU1: Ep | BV1: SW | BW1: 1 | BX1: 2 | BY1: 3 | BZ1: 4 | CA1: 5 | CB1: 6 | CC1: Bl | CD1: At | CE1: Ct | CF1: Ep | CG1: SW | CH1: 1 | CI1: 2 | CJ1: 3 | CK1: 4 | CL1: 5 | CM1: 6 | CN1: Bl | CO1: At | CP1: Ct | CQ1: Ep | CR1: SW | CS1: 1 | CT1: 2 | CU1: 3 | CV1: 4 | CW1: 5 | CX1: 6 | CY1: Bl | CZ1: At | DA1: Ct | DB1: Ep | DC1: SW | DD1: 1 | DE1: 2 | DF1: 3 | DG1: 4 | DH1: 5 | DI1: 6 | DJ1: Bl | DK1: At | DL1: Ct | DM1: Ep | DN1: SW | DO1: 1 | DP1: 2 | DQ1: 3 | DR1: 4 | DS1: 5 | DT1: 6 | DU1: Bl | DV1: At | DW1: Ct | DX1: Ep | DY1: SW | DZ1: 1 | EA1: 2 | EB1: 3 | EC1: 4 | ED1: 5 | EE1: 6 | EF1: Bl | EG1: At | EH1: Ct | EI1: Ep | EJ1: =COUNTIF(EJ3:EJ200,">0") -> 8 | EK1: # ENT. | EL1: # PARENT | EM1: # | EN1: # | EO1: # CALLOW | EP1: # ENT. | EQ1: # PARENT | ER1: # | ES1: # | ET1: # CALLOW | EV1: TOTAL | EW1: TOTAL | EX1: TOTAL | EY1: TOTAL | EZ1: TOTAL | FA1: TOTAL | FB1: TOTAL | FC1: TOTAL | FD1: TOTAL | FE1: TOTAL | FF1: TOTAL | FG1: TOTAL | FH1: TOTAL | FI1: TOTAL SW & | FJ1: TOTAL # OF
B2: CP# | C2: # | E2: SURVEYED | G2: N | H2: W | J2: # | K2: TYPE | M2: # | N2: # | O2: UNINF.=0 | Q2: START | R2: END | S2: 12.5 | T2: 12.5 | U2: 12.5 | V2: 12.5 | W2: 12.5 | X2: 12.5 | Y2: 12.5 | Z2: 12.5 | AA2: 12.5 | AB2: 12.5 | AC2: 12.5 | AD2: 17.5 | AE2: 17.5 | AF2: 17.5 | AG2: 17.5 | AH2: 17.5 | AI2: 17.5 | AJ2: 17.5 | AK2: 17.5 | AL2: 17.5 | AM2: 17.5 | AN2: 17.5 | AO2: 25.1 | AP2: 25.1 | AQ2: 25.1 | AR2: 25.1 | AS2: 25.1 | AT2: 25.1 | AU2: 25.1 | AV2: 25.1 | AW2: 25.1 | AX2: 25.1 | AY2: 25.1 | AZ2: 30.1 | BA2: 30.1 | BB2: 30.1 | BC2: 30.1 | BD2: 30.1 | BE2: 30.1 | BF2: 30.1 | BG2: 30.1 | BH2: 30.1 | BI2: 30.1 | BJ2: 30.1 | BK2: 35.1 | BL2: 35.1 | BM2: 35.1 | BN2: 35.1 | BO2: 35.1 | BP2: 35.1 | BQ2: 35.1 | BR2: 35.1 | BS2: 35.1 | BT2: 35.1 | BU2: 35.1 | BV2: 40.1 | BW2: 40.1 | BX2: 40.1 | BY2: 40.1 | BZ2: 40.1 | CA2: 40.1 | CB2: 40.1 | CC2: 40.1 | CD2: 40.1 | CE2: 40.1 | CF2: 40.1 | CG2: 45.1 | CH2: 45.1 | CI2: 45.1 | CJ2: 45.1 | CK2: 45.1 | CL2: 45.1 | CM2: 45.1 | CN2: 45.1 | CO2: 45.1 | CP2: 45.1 | CQ2: 45.1 | CR2: 50.1 | CS2: 50.1 | CT2: 50.1 | CU2: 50.1 | CV2: 50.1 | CW2: 50.1 | CX2: 50.1 | CY2: 50.1 | CZ2: 50.1 | DA2: 50.1 | DB2: 50.1 | DC2: 55.1 | DD2: 55.1 | DE2: 55.1 | DF2: 55.1 | DG2: 55.1 | DH2: 55.1 | DI2: 55.1 | DJ2: 55.1 | DK2: 55.1 | DL2: 55.1 | DM2: 55.1 | DN2: 60.1 | DO2: 60.1 | DP2: 60.1 | DQ2: 60.1 | DR2: 60.1 | DS2: 60.1 | DT2: 60.1 | DU2: 60.1 | DV2: 60.1 | DW2: 60.1 | DX2: 60.1 | DY2: 65.1 | DZ2: 65.1 | EA2: 65.1 | EB2: 65.1 | EC2: 65.1 | ED2: 65.1 | EE2: 65.1 | EF2: 65.1 | EG2: 65.1 | EH2: 65.1 | EI2: 65.1 | EJ2: S/L # | EK2: HOLES | EL2: ADULTS | EM2: LARVAE | EN2: PUPAE | EO2: ADULTS | EP2: HOLES | EQ2: ADULTS | ER2: LARVAE | ES2: PUPAE | ET2: ADULTS | EV2: PIXELS | EW2: Sw | EX2: CODE 1'S | EY2: CODE 2'S | EZ2: CODE 3'S | FA2: CODE 4'S | FB2: CODE 5'S | FC2: CODE 6'S | FD2: Bl | FE2: At | FF2: Ct | FG2: Ep | FH2: SW STEMS | FI2: MERCH STEMS | FJ2: BARK PATCHES
A3: Blackwater-Nation | B3: 93O 043 | C3: 1 | D3: 106.9 | E3: 10000 | F3: Dec 5,7-9, 19 | G3: 55° 26' 26.0" | H3: 123° 32' 35.2" | I3: MFLNRO&RD | J3: FH208240007 | K3: GRID | L3: A. O'Grady, C. Lewis, , T. Jenner | M3: YES | N3: 1 | O3: {=IF(OR(AE3:AJ3>0,AP3:AU3>0,BA3:BF3>0,BL3:BQ3>0,BW3:CB3>0,CH3:CM3>0,CS3:CX3,DD3:DI3>0,DO3:DT3>0,DZ3:EE3),1,0)} -> 0 | P3: 1 | Q3: 0 | R3: 100 | S3: 11 | Z3: 22 | AA3: 14 | AD3: 1 | AK3: 6 | AO3: 1 | AV3: 1 | EJ3: 1 | EK3: 2 | EM3: 4 | EP3: 3 | ER3: 14 | EV3: =IF(R3>=1,1,0) -> 1 | EW3: =S3+AD3+AO3+AZ3+BK3+BV3+CG3+CR3+DC3+DN3+DY3 -> 13 | EX3: =T3+AE3+AP3+BA3+BL3+BW3+CH3+CS3+DD3+DO3+DZ3 -> 0 | EY3: =U3+AF3+AQ3+BB3+BM3+BX3+CI3+CT3+DE3+DP3+EA3 -> 0 | EZ3: =V3+AG3+AR3+BC3+BN3+BY3+CJ3+CU3+DF3+DQ3+EB3 -> 0 | FA3: =W3+AH3+AS3+BD3+BO3+BZ3+CK3+CV3+DG3+DR3+EC3 -> 0 | FB3: =X3+AI3+AT3+BE3+BP3+CA3+CL3+CW3+DH3+DS3+ED3 -> 0 | FC3: =Y3+AJ3+AU3+BF3+BQ3+CB3+CM3+CX3+DI3+DT3+EE3 -> 0 | FD3: =Z3+AK3+AV3+BG3+BR3+CC3+CN3+CY3+DJ3+DU3+EF3 -> 29 | ... FG3: =AC3+AN3+AY3+BJ3+BU3+CF3+CQ3+DB3+DM3+DX3+EI3 -> 0 | FH3: =EW3+EX3+EY3+EZ3+FA3+FB3+FC3 -> 13 | FI3: =FD3+FE3+FF3+FG3+FH3 -> 56 | FJ3: =IF(EK3>=1,1,0) -> 1 | FK3: =IF(EP3>=1,1,0) -> 1
N4: 2 | O4: {=IF(OR(AE4:AJ4>0,AP4:AU4>0,BA4:BF4>0,BL4:BQ4>0,BW4:CB4>0,CH4:CM4>0,CS4:CX4,DD4:DI4>0,DO4:DT4>0,DZ4:EE4),1,0)} -> 0 | P4: 1 | Q4: 100 | R4: 200 | S4: 6 | Z4: 14 | AD4: 4 | AK4: 3 | AN4: 3 | AO4: 1 | AV4: 5 | AY4: 1 | AZ4: 3 | BG4: 3 | BJ4: 3 | BR4: 1 | EJ4: 1 | EK4: 2 | EM4: 4 | EP4: 3 | ER4: 2 | EV4: =IF(R4>=1,1,0) -> 1 | EW4: =S4+AD4+AO4+AZ4+BK4+BV4+CG4+CR4+DC4+DN4+DY4 -> 14 | EX4: =T4+AE4+AP4+BA4+BL4+BW4+CH4+CS4+DD4+DO4+DZ4 -> 0 | EY4: =U4+AF4+AQ4+BB4+BM4+BX4+CI4+CT4+DE4+DP4+EA4 -> 0 | EZ4: =V4+AG4+AR4+BC4+BN4+BY4+CJ4+CU4+DF4+DQ4+EB4 -> 0 | FA4: =W4+AH4+AS4+BD4+BO4+BZ4+CK4+CV4+DG4+DR4+EC4 -> 0 | FB4: =X4+AI4+AT4+BE4+BP4+CA4+CL4+CW4+DH4+DS4+ED4 -> 0 | FC4: =Y4+AJ4+AU4+BF4+BQ4+CB4+CM4+CX4+DI4+DT4+EE4 -> 0 | FD4: =Z4+AK4+AV4+BG4+BR4+CC4+CN4+CY4+DJ4+DU4+EF4 -> 26 | ... FG4: =AC4+AN4+AY4+BJ4+BU4+CF4+CQ4+DB4+DM4+DX4+EI4 -> 7 | FH4: =EW4+EX4+EY4+EZ4+FA4+FB4+FC4 -> 14 | FI4: =FD4+FE4+FF4+FG4+FH4 -> 47 | FJ4: =IF(EK4>=1,1,0) -> 1 | FK4: =IF(EP4>=1,1,0) -> 1
N5: 3 | O5: {=IF(OR(AE5:AJ5>0,AP5:AU5>0,BA5:BF5>0,BL5:BQ5>0,BW5:CB5>0,CH5:CM5>0,CS5:CX5,DD5:DI5>0,DO5:DT5>0,DZ5:EE5),1,0)} -> 0 | P5: 1 | Q5: 200 | R5: 300 | S5: 5 | Z5: 30 | AD5: 2 | AK5: 18 | AN5: 1 | AO5: 1 | AV5: 13 | AZ5: 2 | BG5: 8 | BR5: 3 | CN5: 1 | EJ5: 2 | EK5: 2 | EL5: 4 | EP5: 3 | EQ5: 3 | EV5: =IF(R5>=1,1,0) -> 1 | EW5: =S5+AD5+AO5+AZ5+BK5+BV5+CG5+CR5+DC5+DN5+DY5 -> 10 | EX5: =T5+AE5+AP5+BA5+BL5+BW5+CH5+CS5+DD5+DO5+DZ5 -> 0 | EY5: =U5+AF5+AQ5+BB5+BM5+BX5+CI5+CT5+DE5+DP5+EA5 -> 0 | EZ5: =V5+AG5+AR5+BC5+BN5+BY5+CJ5+CU5+DF5+DQ5+EB5 -> 0 | FA5: =W5+AH5+AS5+BD5+BO5+BZ5+CK5+CV5+DG5+DR5+EC5 -> 0 | FB5: =X5+AI5+AT5+BE5+BP5+CA5+CL5+CW5+DH5+DS5+ED5 -> 0 | FC5: =Y5+AJ5+AU5+BF5+BQ5+CB5+CM5+CX5+DI5+DT5+EE5 -> 0 | FD5: =Z5+AK5+AV5+BG5+BR5+CC5+CN5+CY5+DJ5+DU5+EF5 -> 73 | ... FG5: =AC5+AN5+AY5+BJ5+BU5+CF5+CQ5+DB5+DM5+DX5+EI5 -> 1 | FH5: =EW5+EX5+EY5+EZ5+FA5+FB5+FC5 -> 10 | FI5: =FD5+FE5+FF5+FG5+FH5 -> 84 | FJ5: =IF(EK5>=1,1,0) -> 1 | FK5: =IF(EP5>=1,1,0) -> 1
N6: 4 | O6: {=IF(OR(AE6:AJ6>0,AP6:AU6>0,BA6:BF6>0,BL6:BQ6>0,BW6:CB6>0,CH6:CM6>0,CS6:CX6,DD6:DI6>0,DO6:DT6>0,DZ6:EE6),1,0)} -> 0 | P6: 1 | Q6: 300 | R6: 400 | S6: 1 | Z6: 9 | AD6: 5 | AK6: 3 | AO6: 2 | AV6: 4 | AZ6: 1 | BG6: 7 | BJ6: 1 | BK6: 4 | BR6: 4 | BU6: 1 | BV6: 2 | EJ6: 2 | EK6: 6 | EM6: 7 | EO6: 6 | EP6: 2 | ER6: 14 | EV6: =IF(R6>=1,1,0) -> 1 | EW6: =S6+AD6+AO6+AZ6+BK6+BV6+CG6+CR6+DC6+DN6+DY6 -> 15 | EX6: =T6+AE6+AP6+BA6+BL6+BW6+CH6+CS6+DD6+DO6+DZ6 -> 0 | EY6: =U6+AF6+AQ6+BB6+BM6+BX6+CI6+CT6+DE6+DP6+EA6 -> 0 | EZ6: =V6+AG6+AR6+BC6+BN6+BY6+CJ6+CU6+DF6+DQ6+EB6 -> 0 | FA6: =W6+AH6+AS6+BD6+BO6+BZ6+CK6+CV6+DG6+DR6+EC6 -> 0 | FB6: =X6+AI6+AT6+BE6+BP6+CA6+CL6+CW6+DH6+DS6+ED6 -> 0 | FC6: =Y6+AJ6+AU6+BF6+BQ6+CB6+CM6+CX6+DI6+DT6+EE6 -> 0 | FD6: =Z6+AK6+AV6+BG6+BR6+CC6+CN6+CY6+DJ6+DU6+EF6 -> 27 | ... FG6: =AC6+AN6+AY6+BJ6+BU6+CF6+CQ6+DB6+DM6+DX6+EI6 -> 2 | FH6: =EW6+EX6+EY6+EZ6+FA6+FB6+FC6 -> 15 | FI6: =FD6+FE6+FF6+FG6+FH6 -> 44 | FJ6: =IF(EK6>=1,1,0) -> 1 | FK6: =IF(EP6>=1,1,0) -> 1
A7: TOTAL STEMS PER HECTARE | D7: TOTAL STEMS IN BLOCK | G7: TOTAL STEMS IN BLOCK PER CODE | N7: 5 | O7: {=IF(OR(AE7:AJ7>0,AP7:AU7>0,BA7:BF7>0,BL7:BQ7>0,BW7:CB7>0,CH7:CM7>0,CS7:CX7,DD7:DI7>0,DO7:DT7>0,DZ7:EE7),1,0)} -> 0 | P7: 1 | Q7: 400 | R7: 500 | S7: 3 | Z7: 3 | AC7: 7 | AD7: 3 | AK7: 1 | AO7: 1 | AV7: 1 | BG7: 2 | BJ7: 2 | BU7: 2 | BV7: 2 | CG7: 1 | EJ7: 4 | EK7: 2 | EQ7: 3 | EV7: =IF(R7>=1,1,0) -> 1 | EW7: =S7+AD7+AO7+AZ7+BK7+BV7+CG7+CR7+DC7+DN7+DY7 -> 10 | EX7: =T7+AE7+AP7+BA7+BL7+BW7+CH7+CS7+DD7+DO7+DZ7 -> 0 | EY7: =U7+AF7+AQ7+BB7+BM7+BX7+CI7+CT7+DE7+DP7+EA7 -> 0 | EZ7: =V7+AG7+AR7+BC7+BN7+BY7+CJ7+CU7+DF7+DQ7+EB7 -> 0 | FA7: =W7+AH7+AS7+BD7+BO7+BZ7+CK7+CV7+DG7+DR7+EC7 -> 0 | FB7: =X7+AI7+AT7+BE7+BP7+CA7+CL7+CW7+DH7+DS7+ED7 -> 0 | FC7: =Y7+AJ7+AU7+BF7+BQ7+CB7+CM7+CX7+DI7+DT7+EE7 -> 0 | FD7: =Z7+AK7+AV7+BG7+BR7+CC7+CN7+CY7+DJ7+DU7+EF7 -> 7 | ... FG7: =AC7+AN7+AY7+BJ7+BU7+CF7+CQ7+DB7+DM7+DX7+EI7 -> 11 | FH7: =EW7+EX7+EY7+EZ7+FA7+FB7+FC7 -> 10 | FI7: =FD7+FE7+FF7+FG7+FH7 -> 28 | FJ7: =IF(EK7>=1,1,0) -> 1 | FK7: =IF(EP7>=1,1,0) -> 0
A8: =TOTALS!D20+TOTALS!E20+TOTALS!F20+TOTALS!G20+TOTALS!H20+TOTALS!I20+TOTALS!J20+TOTALS!I31+TOTALS!I32+TOTALS!I33 -> 425.1 | D8: =A8*D3 -> 45443.19 | I8: HEALTHY | J8: =TOTALS!D20*D3 -> 28467.47 | N8: 6 | O8: {=IF(OR(AE8:AJ8>0,AP8:AU8>0,BA8:BF8>0,BL8:BQ8>0,BW8:CB8>0,CH8:CM8>0,CS8:CX8,DD8:DI8>0,DO8:DT8>0,DZ8:EE8),1,0)} -> 0 | P8: 1 | Q8: 500 | R8: 600 | S8: 7 | Z8: 1 | AC8: 2 | AD8: 4 | AK8: 7 | AN8: 2 | AO8: 4 | AV8: 1 | AZ8: 1 | BG8: 1 | BK8: 4 | BU8: 1 | EJ8: 4 | EK8: 4 | EL8: 3 | EP8: 4 | EV8: =IF(R8>=1,1,0) -> 1 | EW8: =S8+AD8+AO8+AZ8+BK8+BV8+CG8+CR8+DC8+DN8+DY8 -> 20 | EX8: =T8+AE8+AP8+BA8+BL8+BW8+CH8+CS8+DD8+DO8+DZ8 -> 0 | EY8: =U8+AF8+AQ8+BB8+BM8+BX8+CI8+CT8+DE8+DP8+EA8 -> 0 | EZ8: =V8+AG8+AR8+BC8+BN8+BY8+CJ8+CU8+DF8+DQ8+EB8 -> 0 | FA8: =W8+AH8+AS8+BD8+BO8+BZ8+CK8+CV8+DG8+DR8+EC8 -> 0 | FB8: =X8+AI8+AT8+BE8+BP8+CA8+CL8+CW8+DH8+DS8+ED8 -> 0 | FC8: =Y8+AJ8+AU8+BF8+BQ8+CB8+CM8+CX8+DI8+DT8+EE8 -> 0 | FD8: =Z8+AK8+AV8+BG8+BR8+CC8+CN8+CY8+DJ8+DU8+EF8 -> 10 | ... FG8: =AC8+AN8+AY8+BJ8+BU8+CF8+CQ8+DB8+DM8+DX8+EI8 -> 5 | FH8: =EW8+EX8+EY8+EZ8+FA8+FB8+FC8 -> 20 | FI8: =FD8+FE8+FF8+FG8+FH8 -> 35 | FJ8: =IF(EK8>=1,1,0) -> 1 | FK8: =IF(EP8>=1,1,0) -> 1
I9: CODE 1 | J9: =TOTALS!E20*D3 -> 64.14 | N9: 7 | O9: {=IF(OR(AE9:AJ9>0,AP9:AU9>0,BA9:BF9>0,BL9:BQ9>0,BW9:CB9>0,CH9:CM9>0,CS9:CX9,DD9:DI9>0,DO9:DT9>0,DZ9:EE9),1,0)} -> 0 | P9: 1 | Q9: 600 | R9: 700 | S9: 13 | X9: 0 | Z9: 4 | AA9: 0 | AB9: 0 | AC9: 2 | AD9: 13 | AI9: 0 | AK9: 5 | AL9: 0 | AM9: 0 | AN9: 4 | AO9: 2 | AV9: 4 | AY9: 1 | BG9: 4 | BV9: 1 | EJ9: 4 | EK9: 2 | EP9: 4 | ER9: 3 | EV9: =IF(R9>=1,1,0) -> 1 | EW9: =S9+AD9+AO9+AZ9+BK9+BV9+CG9+CR9+DC9+DN9+DY9 -> 29 | EX9: =T9+AE9+AP9+BA9+BL9+BW9+CH9+CS9+DD9+DO9+DZ9 -> 0 | EY9: =U9+AF9+AQ9+BB9+BM9+BX9+CI9+CT9+DE9+DP9+EA9 -> 0 | EZ9: =V9+AG9+AR9+BC9+BN9+BY9+CJ9+CU9+DF9+DQ9+EB9 -> 0 | FA9: =W9+AH9+AS9+BD9+BO9+BZ9+CK9+CV9+DG9+DR9+EC9 -> 0 | FB9: =X9+AI9+AT9+BE9+BP9+CA9+CL9+CW9+DH9+DS9+ED9 -> 0 | FC9: =Y9+AJ9+AU9+BF9+BQ9+CB9+CM9+CX9+DI9+DT9+EE9 -> 0 | FD9: =Z9+AK9+AV9+BG9+BR9+CC9+CN9+CY9+DJ9+DU9+EF9 -> 17 | ... FG9: =AC9+AN9+AY9+BJ9+BU9+CF9+CQ9+DB9+DM9+DX9+EI9 -> 7 | FH9: =EW9+EX9+EY9+EZ9+FA9+FB9+FC9 -> 29 | FI9: =FD9+FE9+FF9+FG9+FH9 -> 53 | FJ9: =IF(EK9>=1,1,0) -> 1 | FK9: =IF(EP9>=1,1,0) -> 1
I10: CODE 2 | J10: =TOTALS!F20*D3 -> 0 | N10: 8 | O10: {=IF(OR(AE10:AJ10>0,AP10:AU10>0,BA10:BF10>0,BL10:BQ10>0,BW10:CB10>0,CH10:CM10>0,CS10:CX10,DD10:DI10>0,DO10:DT10>0,DZ10:EE10),1,0)} -> 0 | P10: 1 | Q10: 700 | R10: 800 | S10: 6 | Z10: 1 | AC10: 1 | AD10: 13 | AK10: 4 | AN10: 1 | AO10: 3 | AV10: 1 | AZ10: 1 | EJ10: 4 | EK10: 3 | EP10: 4 | EV10: =IF(R10>=1,1,0) -> 1 | EW10: =S10+AD10+AO10+AZ10+BK10+BV10+CG10+CR10+DC10+DN10+DY10 -> 23 | EX10: =T10+AE10+AP10+BA10+BL10+BW10+CH10+CS10+DD10+DO10+DZ10 -> 0 | EY10: =U10+AF10+AQ10+BB10+BM10+BX10+CI10+CT10+DE10+DP10+EA10 -> 0 | EZ10: =V10+AG10+AR10+BC10+BN10+BY10+CJ10+CU10+DF10+DQ10+EB10 -> 0 | FA10: =W10+AH10+AS10+BD10+BO10+BZ10+CK10+CV10+DG10+DR10+EC10 -> 0 | FB10: =X10+AI10+AT10+BE10+BP10+CA10+CL10+CW10+DH10+DS10+ED10 -> 0 | FC10: =Y10+AJ10+AU10+BF10+BQ10+CB10+CM10+CX10+DI10+DT10+EE10 -> 0 | FD10: =Z10+AK10+AV10+BG10+BR10+CC10+CN10+CY10+DJ10+DU10+EF10 -> 6 | ... FG10: =AC10+AN10+AY10+BJ10+BU10+CF10+CQ10+DB10+DM10+DX10+EI10 -> 2 | FH10: =EW10+EX10+EY10+EZ10+FA10+FB10+FC10 -> 23 | FI10: =FD10+FE10+FF10+FG10+FH10 -> 31 | FJ10: =IF(EK10>=1,1,0) -> 1 | FK10: =IF(EP10>=1,1,0) -> 1
I11: CODE 3 | J11: =TOTALS!G20*D3 -> 32.07 | N11: 9 | O11: {=IF(OR(AE11:AJ11>0,AP11:AU11>0,BA11:BF11>0,BL11:BQ11>0,BW11:CB11>0,CH11:CM11>0,CS11:CX11,DD11:DI11>0,DO11:DT11>0,DZ11:EE11),1,0)} -> 0 | P11: 1 | Q11: 800 | R11: 900 | S11: 14 | Z11: 20 | AD11: 3 | AK11: 6 | AO11: 4 | AV11: 1 | AY11: 1 | AZ11: 2 | BU11: 1 | BV11: 2 | EV11: =IF(R11>=1,1,0) -> 1 | EW11: =S11+AD11+AO11+AZ11+BK11+BV11+CG11+CR11+DC11+DN11+DY11 -> 25 | EX11: =T11+AE11+AP11+BA11+BL11+BW11+CH11+CS11+DD11+DO11+DZ11 -> 0 | EY11: =U11+AF11+AQ11+BB11+BM11+BX11+CI11+CT11+DE11+DP11+EA11 -> 0 | EZ11: =V11+AG11+AR11+BC11+BN11+BY11+CJ11+CU11+DF11+DQ11+EB11 -> 0 | FA11: =W11+AH11+AS11+BD11+BO11+BZ11+CK11+CV11+DG11+DR11+EC11 -> 0 | FB11: =X11+AI11+AT11+BE11+BP11+CA11+CL11+CW11+DH11+DS11+ED11 -> 0 | FC11: =Y11+AJ11+AU11+BF11+BQ11+CB11+CM11+CX11+DI11+DT11+EE11 -> 0 | FD11: =Z11+AK11+AV11+BG11+BR11+CC11+CN11+CY11+DJ11+DU11+EF11 -> 27 | ... FG11: =AC11+AN11+AY11+BJ11+BU11+CF11+CQ11+DB11+DM11+DX11+EI11 -> 2 | FH11: =EW11+EX11+EY11+EZ11+FA11+FB11+FC11 -> 25 | FI11: =FD11+FE11+FF11+FG11+FH11 -> 54 | FJ11: =IF(EK11>=1,1,0) -> 0 | FK11: =IF(EP11>=1,1,0) -> 0
A12: TOTAL INFESTED FOR EACH CODE | E12: TOTAL DBH PER CODE | I12: CODE 4 | J12: =TOTALS!H20*D3 -> 0 | N12: 10 | O12: {=IF(OR(AE12:AJ12>0,AP12:AU12>0,BA12:BF12>0,BL12:BQ12>0,BW12:CB12>0,CH12:CM12>0,CS12:CX12,DD12:DI12>0,DO12:DT12>0,DZ12:EE12),1,0)} -> 1 | P12: 1 | Q12: 900 | R12: 1000 | S12: 9 | Z12: 2 | AD12: 6 | AK12: 7 | AN12: 3 | AO12: 3 | AP12: 1 | AV12: 1 | AZ12: 1 | BG12: 2 | BU12: 1 | EV12: =IF(R12>=1,1,0) -> 1 | EW12: =S12+AD12+AO12+AZ12+BK12+BV12+CG12+CR12+DC12+DN12+DY12 -> 19 | EX12: =T12+AE12+AP12+BA12+BL12+BW12+CH12+CS12+DD12+DO12+DZ12 -> 1 | EY12: =U12+AF12+AQ12+BB12+BM12+BX12+CI12+CT12+DE12+DP12+EA12 -> 0 | EZ12: =V12+AG12+AR12+BC12+BN12+BY12+CJ12+CU12+DF12+DQ12+EB12 -> 0 | FA12: =W12+AH12+AS12+BD12+BO12+BZ12+CK12+CV12+DG12+DR12+EC12 -> 0 | FB12: =X12+AI12+AT12+BE12+BP12+CA12+CL12+CW12+DH12+DS12+ED12 -> 0 | FC12: =Y12+AJ12+AU12+BF12+BQ12+CB12+CM12+CX12+DI12+DT12+EE12 -> 0 | FD12: =Z12+AK12+AV12+BG12+BR12+CC12+CN12+CY12+DJ12+DU12+EF12 -> 12 | ... FG12: =AC12+AN12+AY12+BJ12+BU12+CF12+CQ12+DB12+DM12+DX12+EI12 -> 4 | FH12: =EW12+EX12+EY12+EZ12+FA12+FB12+FC12 -> 20 | FI12: =FD12+FE12+FF12+FG12+FH12 -> 36 | FJ12: =IF(EK12>=1,1,0) -> 0 | FK12: =IF(EP12>=1,1,0) -> 0
I13: CODE 5 | J13: =TOTALS!I20*D3 -> 10.69 | N13: 11 | O13: {=IF(OR(AE13:AJ13>0,AP13:AU13>0,BA13:BF13>0,BL13:BQ13>0,BW13:CB13>0,CH13:CM13>0,CS13:CX13,DD13:DI13>0,DO13:DT13>0,DZ13:EE13),1,0)} -> 0 | P13: 1 | Q13: 1000 | R13: 1100 | Z13: 1 | AD13: 1 | AK13: 1 | AO13: 1 | AV13: 3 | AZ13: 1 | BG13: 1 | BV13: 1 | EV13: =IF(R13>=1,1,0) -> 1 | EW13: =S13+AD13+AO13+AZ13+BK13+BV13+CG13+CR13+DC13+DN13+DY13 -> 4 | EX13: =T13+AE13+AP13+BA13+BL13+BW13+CH13+CS13+DD13+DO13+DZ13 -> 0 | EY13: =U13+AF13+AQ13+BB13+BM13+BX13+CI13+CT13+DE13+DP13+EA13 -> 0 | EZ13: =V13+AG13+AR13+BC13+BN13+BY13+CJ13+CU13+DF13+DQ13+EB13 -> 0 | FA13: =W13+AH13+AS13+BD13+BO13+BZ13+CK13+CV13+DG13+DR13+EC13 -> 0 | FB13: =X13+AI13+AT13+BE13+BP13+CA13+CL13+CW13+DH13+DS13+ED13 -> 0 | FC13: =Y13+AJ13+AU13+BF13+BQ13+CB13+CM13+CX13+DI13+DT13+EE13 -> 0 | FD13: =Z13+AK13+AV13+BG13+BR13+CC13+CN13+CY13+DJ13+DU13+EF13 -> 6 | ... FG13: =AC13+AN13+AY13+BJ13+BU13+CF13+CQ13+DB13+DM13+DX13+EI13 -> 0 | FH13: =EW13+EX13+EY13+EZ13+FA13+FB13+FC13 -> 4 | FI13: =FD13+FE13+FF13+FG13+FH13 -> 10 | FJ13: =IF(EK13>=1,1,0) -> 0 | FK13: =IF(EP13>=1,1,0) -> 0
A14: 1 | B14: =AE203+AP203+BA203+BL203+BW203+CH203+CS203+DD203+DO203 -> 6 | E14: 1 | F14: =(AE203*0.2125)+(AP203*0.275)+(BA203*0.325)+(BL203*0.375)+(BW203*0.425)+(CH203*0.475)+(CS203*0.525)+(DD203*0.575)+(DO203*0.601) -> 2 | I14: CODE 6 | J14: =TOTALS!J20*D3 -> 21.38 | N14: 12 | O14: {=IF(OR(AE14:AJ14>0,AP14:AU14>0,BA14:BF14>0,BL14:BQ14>0,BW14:CB14>0,CH14:CM14>0,CS14:CX14,DD14:DI14>0,DO14:DT14>0,DZ14:EE14),1,0)} -> 1 | P14: 1 | Q14: 1100 | R14: 1200 | S14: 1 | Z14: 4 | AD14: 1 | AK14: 2 | AO14: 4 | AU14: 1 | AV14: 5 | AZ14: 1 | BG14: 3 | BR14: 3 | CC14: 1 | EV14: =IF(R14>=1,1,0) -> 1 | EW14: =S14+AD14+AO14+AZ14+BK14+BV14+CG14+CR14+DC14+DN14+DY14 -> 7 | EX14: =T14+AE14+AP14+BA14+BL14+BW14+CH14+CS14+DD14+DO14+DZ14 -> 0 | EY14: =U14+AF14+AQ14+BB14+BM14+BX14+CI14+CT14+DE14+DP14+EA14 -> 0 | EZ14: =V14+AG14+AR14+BC14+BN14+BY14+CJ14+CU14+DF14+DQ14+EB14 -> 0 | FA14: =W14+AH14+AS14+BD14+BO14+BZ14+CK14+CV14+DG14+DR14+EC14 -> 0 | FB14: =X14+AI14+AT14+BE14+BP14+CA14+CL14+CW14+DH14+DS14+ED14 -> 0 | FC14: =Y14+AJ14+AU14+BF14+BQ14+CB14+CM14+CX14+DI14+DT14+EE14 -> 1 | FD14: =Z14+AK14+AV14+BG14+BR14+CC14+CN14+CY14+DJ14+DU14+EF14 -> 18 | ... FG14: =AC14+AN14+AY14+BJ14+BU14+CF14+CQ14+DB14+DM14+DX14+EI14 -> 0 | FH14: =EW14+EX14+EY14+EZ14+FA14+FB14+FC14 -> 8 | FI14: =FD14+FE14+FF14+FG14+FH14 -> 26 | FJ14: =IF(EK14>=1,1,0) -> 0 | FK14: =IF(EP14>=1,1,0) -> 0
A15: 2 | B15: =AF203+AQ203+BB203+BM203+BX203+CI203+DD203+DE203+DP203 -> 0 | E15: 2 | F15: =(AF203*0.2125)+(AQ203*0.275)+(BB203*0.325)+(BM203*0.375)+(BX203*0.425)+(CI203*0.475)+(CT203*0.525)+(DE203*0.575)+(DP203*0.601) -> 0 | N15: 13 | O15: {=IF(OR(AE15:AJ15>0,AP15:AU15>0,BA15:BF15>0,BL15:BQ15>0,BW15:CB15>0,CH15:CM15>0,CS15:CX15,DD15:DI15>0,DO15:DT15>0,DZ15:EE15),1,0)} -> 0 | P15: 1 | Q15: 1200 | R15: 1300 | S15: 8 | Z15: 5 | AC15: 8 | AD15: 10 | AK15: 4 | AN15: 4 | AO15: 4 | AV15: 2 | AY15: 1 | AZ15: 2 | BG15: 1 | BJ15: 1 | BK15: 3 | BR15: 3 | BV15: 1 | CC15: 1 | EV15: =IF(R15>=1,1,0) -> 1 | EW15: =S15+AD15+AO15+AZ15+BK15+BV15+CG15+CR15+DC15+DN15+DY15 -> 28 | EX15: =T15+AE15+AP15+BA15+BL15+BW15+CH15+CS15+DD15+DO15+DZ15 -> 0 | EY15: =U15+AF15+AQ15+BB15+BM15+BX15+CI15+CT15+DE15+DP15+EA15 -> 0 | EZ15: =V15+AG15+AR15+BC15+BN15+BY15+CJ15+CU15+DF15+DQ15+EB15 -> 0 | FA15: =W15+AH15+AS15+BD15+BO15+BZ15+CK15+CV15+DG15+DR15+EC15 -> 0 | FB15: =X15+AI15+AT15+BE15+BP15+CA15+CL15+CW15+DH15+DS15+ED15 -> 0 | FC15: =Y15+AJ15+AU15+BF15+BQ15+CB15+CM15+CX15+DI15+DT15+EE15 -> 0 | FD15: =Z15+AK15+AV15+BG15+BR15+CC15+CN15+CY15+DJ15+DU15+EF15 -> 16 | ... FG15: =AC15+AN15+AY15+BJ15+BU15+CF15+CQ15+DB15+DM15+DX15+EI15 -> 14 | FH15: =EW15+EX15+EY15+EZ15+FA15+FB15+FC15 -> 28 | FI15: =FD15+FE15+FF15+FG15+FH15 -> 58 | FJ15: =IF(EK15>=1,1,0) -> 0 | FK15: =IF(EP15>=1,1,0) -> 0
A16: 3 | B16: =AG203+AR203+BC203+BN203+BY203+CJ203+CU203+DF203+DQ203 -> 3 | E16: 3 | F16: =(AG203*0.2125)+(AR203*0.275)+(BC203*0.325)+(BN203*0.375)+(BY203*0.425)+(CJ203*0.475)+(CU203*0.525)+(DF203*0.575)+(DQ203*0.601) -> 1.075 | I16: TOTAL # OF BARK PATCHES | L16: =EJ1 -> 8 | N16: 14 | O16: {=IF(OR(AE16:AJ16>0,AP16:AU16>0,BA16:BF16>0,BL16:BQ16>0,BW16:CB16>0,CH16:CM16>0,CS16:CX16,DD16:DI16>0,DO16:DT16>0,DZ16:EE16),1,0)} -> 0 | P16: 1 | Q16: 1300 | R16: 1400 | S16: 7 | AC16: 15 | AD16: 4 | AN16: 6 | AY16: 4 | AZ16: 2 | BG16: 3 | BJ16: 1 | BK16: 1 | BU16: 1 | BV16: 0 | EV16: =IF(R16>=1,1,0) -> 1 | EW16: =S16+AD16+AO16+AZ16+BK16+BV16+CG16+CR16+DC16+DN16+DY16 -> 14 | EX16: =T16+AE16+AP16+BA16+BL16+BW16+CH16+CS16+DD16+DO16+DZ16 -> 0 | EY16: =U16+AF16+AQ16+BB16+BM16+BX16+CI16+CT16+DE16+DP16+EA16 -> 0 | EZ16: =V16+AG16+AR16+BC16+BN16+BY16+CJ16+CU16+DF16+DQ16+EB16 -> 0 | FA16: =W16+AH16+AS16+BD16+BO16+BZ16+CK16+CV16+DG16+DR16+EC16 -> 0 | FB16: =X16+AI16+AT16+BE16+BP16+CA16+CL16+CW16+DH16+DS16+ED16 -> 0 | FC16: =Y16+AJ16+AU16+BF16+BQ16+CB16+CM16+CX16+DI16+DT16+EE16 -> 0 | FD16: =Z16+AK16+AV16+BG16+BR16+CC16+CN16+CY16+DJ16+DU16+EF16 -> 3 | ... FG16: =AC16+AN16+AY16+BJ16+BU16+CF16+CQ16+DB16+DM16+DX16+EI16 -> 27 | FH16: =EW16+EX16+EY16+EZ16+FA16+FB16+FC16 -> 14 | FI16: =FD16+FE16+FF16+FG16+FH16 -> 44 | FJ16: =IF(EK16>=1,1,0) -> 0 | FK16: =IF(EP16>=1,1,0) -> 0
A17: 4 | B17: =AH203+AS203+BD203+BO203+BZ203+CK203+CV203+DG203+DR203 -> 0 | E17: 4 | F17: =(AH203*0.2125)+(AS203*0.275)+(BD203*0.325)+(BO203*0.375)+(BZ203*0.425)+(CK203*0.475)+(CV203*0.525)+(DG203*0.575)+(DR203*0.601) -> 0 | N17: 15 | O17: {=IF(OR(AE17:AJ17>0,AP17:AU17>0,BA17:BF17>0,BL17:BQ17>0,BW17:CB17>0,CH17:CM17>0,CS17:CX17,DD17:DI17>0,DO17:DT17>0,DZ17:EE17),1,0)} -> 0 | P17: 1 | Q17: 1400 | R17: 1500 | S17: 1 | AC17: 3 | AD17: 2 | AK17: 3 | AV17: 3 | AZ17: 5 | BK17: 1 | EV17: =IF(R17>=1,1,0) -> 1 | EW17: =S17+AD17+AO17+AZ17+BK17+BV17+CG17+CR17+DC17+DN17+DY17 -> 9 | EX17: =T17+AE17+AP17+BA17+BL17+BW17+CH17+CS17+DD17+DO17+DZ17 -> 0 | EY17: =U17+AF17+AQ17+BB17+BM17+BX17+CI17+CT17+DE17+DP17+EA17 -> 0 | EZ17: =V17+AG17+AR17+BC17+BN17+BY17+CJ17+CU17+DF17+DQ17+EB17 -> 0 | FA17: =W17+AH17+AS17+BD17+BO17+BZ17+CK17+CV17+DG17+DR17+EC17 -> 0 | FB17: =X17+AI17+AT17+BE17+BP17+CA17+CL17+CW17+DH17+DS17+ED17 -> 0 | FC17: =Y17+AJ17+AU17+BF17+BQ17+CB17+CM17+CX17+DI17+DT17+EE17 -> 0 | FD17: =Z17+AK17+AV17+BG17+BR17+CC17+CN17+CY17+DJ17+DU17+EF17 -> 6 | ... FG17: =AC17+AN17+AY17+BJ17+BU17+CF17+CQ17+DB17+DM17+DX17+EI17 -> 3 | FH17: =EW17+EX17+EY17+EZ17+FA17+FB17+FC17 -> 9 | FI17: =FD17+FE17+FF17+FG17+FH17 -> 18 | FJ17: =IF(EK17>=1,1,0) -> 0 | FK17: =IF(EP17>=1,1,0) -> 0
A18: 5 | B18: =AI203+AT203+BE203+BP203+CA203+CL203+CW203+DH203+DS203 -> 1 | E18: 5 | F18: =(AI203*0.2125)+(AT203*0.275)+(BE203*0.325)+(BP203*0.375)+(CA203*0.425)+(CL203*0.475)+(CW203*0.525)+(DH203*0.575)+(DS203*0.601) -> 0.325 | N18: 16 | O18: {=IF(OR(AE18:AJ18>0,AP18:AU18>0,BA18:BF18>0,BL18:BQ18>0,BW18:CB18>0,CH18:CM18>0,CS18:CX18,DD18:DI18>0,DO18:DT18>0,DZ18:EE18),1,0)} -> 1 | P18: 1 | Q18: 1500 | R18: 1600 | S18: 1 | Z18: 2 | AD18: 2 | AN18: 1 | AO18: 4 | AV18: 2 | AY18: 1 | AZ18: 4 | BA18: 1 | BG18: 1 | BJ18: 1 | BK18: 2 | BR18: 1 | BU18: 2 | BV18: 1 | EV18: =IF(R18>=1,1,0) -> 1 | EW18: =S18+AD18+AO18+AZ18+BK18+BV18+CG18+CR18+DC18+DN18+DY18 -> 14 | EX18: =T18+AE18+AP18+BA18+BL18+BW18+CH18+CS18+DD18+DO18+DZ18 -> 1 | EY18: =U18+AF18+AQ18+BB18+BM18+BX18+CI18+CT18+DE18+DP18+EA18 -> 0 | EZ18: =V18+AG18+AR18+BC18+BN18+BY18+CJ18+CU18+DF18+DQ18+EB18 -> 0 | FA18: =W18+AH18+AS18+BD18+BO18+BZ18+CK18+CV18+DG18+DR18+EC18 -> 0 | FB18: =X18+AI18+AT18+BE18+BP18+CA18+CL18+CW18+DH18+DS18+ED18 -> 0 | FC18: =Y18+AJ18+AU18+BF18+BQ18+CB18+CM18+CX18+DI18+DT18+EE18 -> 0 | FD18: =Z18+AK18+AV18+BG18+BR18+CC18+CN18+CY18+DJ18+DU18+EF18 -> 6 | ... FG18: =AC18+AN18+AY18+BJ18+BU18+CF18+CQ18+DB18+DM18+DX18+EI18 -> 5 | FH18: =EW18+EX18+EY18+EZ18+FA18+FB18+FC18 -> 15 | FI18: =FD18+FE18+FF18+FG18+FH18 -> 26 | FJ18: =IF(EK18>=1,1,0) -> 0 | FK18: =IF(EP18>=1,1,0) -> 0
A19: 6 | B19: =AJ203+AU203+BF203+BQ203+CB203+CM203+CX203+DI203+DT203 -> 2 | E19: 6 | F19: =(AJ203*0.2125)+(AU203*0.275)+(BF203*0.325)+(BQ203*0.375)+(CB203*0.425)+(CM203*0.475)+(CX203*0.525)+(DI203*0.575)+(DT203*0.601) -> 0.7 | N19: 17 | O19: {=IF(OR(AE19:AJ19>0,AP19:AU19>0,BA19:BF19>0,BL19:BQ19>0,BW19:CB19>0,CH19:CM19>0,CS19:CX19,DD19:DI19>0,DO19:DT19>0,DZ19:EE19),1,0)} -> 0 | P19: 1 | Q19: 1600 | R19: 1700 | S19: 3 | Z19: 4 | AC19: 2 | AD19: 5 | AK19: 4 | AN19: 5 | AO19: 1 | AV19: 2 | AY19: 3 | AZ19: 2 | BG19: 1 | BJ19: 1 | BK19: 2 | BR19: 1 | BU19: 2 | EV19: =IF(R19>=1,1,0) -> 1 | EW19: =S19+AD19+AO19+AZ19+BK19+BV19+CG19+CR19+DC19+DN19+DY19 -> 13 | EX19: =T19+AE19+AP19+BA19+BL19+BW19+CH19+CS19+DD19+DO19+DZ19 -> 0 | EY19: =U19+AF19+AQ19+BB19+BM19+BX19+CI19+CT19+DE19+DP19+EA19 -> 0 | EZ19: =V19+AG19+AR19+BC19+BN19+BY19+CJ19+CU19+DF19+DQ19+EB19 -> 0 | FA19: =W19+AH19+AS19+BD19+BO19+BZ19+CK19+CV19+DG19+DR19+EC19 -> 0 | FB19: =X19+AI19+AT19+BE19+BP19+CA19+CL19+CW19+DH19+DS19+ED19 -> 0 | FC19: =Y19+AJ19+AU19+BF19+BQ19+CB19+CM19+CX19+DI19+DT19+EE19 -> 0 | FD19: =Z19+AK19+AV19+BG19+BR19+CC19+CN19+CY19+DJ19+DU19+EF19 -> 12 | ... FG19: =AC19+AN19+AY19+BJ19+BU19+CF19+CQ19+DB19+DM19+DX19+EI19 -> 13 | FH19: =EW19+EX19+EY19+EZ19+FA19+FB19+FC19 -> 13 | FI19: =FD19+FE19+FF19+FG19+FH19 -> 38 | FJ19: =IF(EK19>=1,1,0) -> 0 | FK19: =IF(EP19>=1,1,0) -> 0
N20: 18 | O20: {=IF(OR(AE20:AJ20>0,AP20:AU20>0,BA20:BF20>0,BL20:BQ20>0,BW20:CB20>0,CH20:CM20>0,CS20:CX20,DD20:DI20>0,DO20:DT20>0,DZ20:EE20),1,0)} -> 0 | P20: 1 | Q20: 1700 | R20: 1800 | S20: 1 | Z20: 1 | AD20: 1 | AK20: 1 | AN20: 1 | AO20: 1 | AV20: 2 | AY20: 1 | AZ20: 1 | BG20: 1 | BK20: 1 | BV20: 1 | EV20: =IF(R20>=1,1,0) -> 1 | EW20: =S20+AD20+AO20+AZ20+BK20+BV20+CG20+CR20+DC20+DN20+DY20 -> 6 | EX20: =T20+AE20+AP20+BA20+BL20+BW20+CH20+CS20+DD20+DO20+DZ20 -> 0 | EY20: =U20+AF20+AQ20+BB20+BM20+BX20+CI20+CT20+DE20+DP20+EA20 -> 0 | EZ20: =V20+AG20+AR20+BC20+BN20+BY20+CJ20+CU20+DF20+DQ20+EB20 -> 0 | FA20: =W20+AH20+AS20+BD20+BO20+BZ20+CK20+CV20+DG20+DR20+EC20 -> 0 | FB20: =X20+AI20+AT20+BE20+BP20+CA20+CL20+CW20+DH20+DS20+ED20 -> 0 | FC20: =Y20+AJ20+AU20+BF20+BQ20+CB20+CM20+CX20+DI20+DT20+EE20 -> 0 | FD20: =Z20+AK20+AV20+BG20+BR20+CC20+CN20+CY20+DJ20+DU20+EF20 -> 5 | ... FG20: =AC20+AN20+AY20+BJ20+BU20+CF20+CQ20+DB20+DM20+DX20+EI20 -> 2 | FH20: =EW20+EX20+EY20+EZ20+FA20+FB20+FC20 -> 6 | FI20: =FD20+FE20+FF20+FG20+FH20 -> 13 | FJ20: =IF(EK20>=1,1,0) -> 0 | FK20: =IF(EP20>=1,1,0) -> 0
B21: AVERAGE DBH PER CODE | E21: AVERAGE HEIGHT PER DBH CLASS | N21: 19 | O21: {=IF(OR(AE21:AJ21>0,AP21:AU21>0,BA21:BF21>0,BL21:BQ21>0,BW21:CB21>0,CH21:CM21>0,CS21:CX21,DD21:DI21>0,DO21:DT21>0,DZ21:EE21),1,0)} -> 0 | P21: 1 | Q21: 1800 | R21: 1900 | S21: 12 | Z21: 10 | AC21: 4 | AD21: 8 | AK21: 1 | AN21: 4 | AO21: 6 | AV21: 3 | AY21: 2 | AZ21: 3 | BG21: 1 | BJ21: 3 | BK21: 1 | CR21: 1 | EV21: =IF(R21>=1,1,0) -> 1 | EW21: =S21+AD21+AO21+AZ21+BK21+BV21+CG21+CR21+DC21+DN21+DY21 -> 31 | EX21: =T21+AE21+AP21+BA21+BL21+BW21+CH21+CS21+DD21+DO21+DZ21 -> 0 | EY21: =U21+AF21+AQ21+BB21+BM21+BX21+CI21+CT21+DE21+DP21+EA21 -> 0 | EZ21: =V21+AG21+AR21+BC21+BN21+BY21+CJ21+CU21+DF21+DQ21+EB21 -> 0 | FA21: =W21+AH21+AS21+BD21+BO21+BZ21+CK21+CV21+DG21+DR21+EC21 -> 0 | FB21: =X21+AI21+AT21+BE21+BP21+CA21+CL21+CW21+DH21+DS21+ED21 -> 0 | FC21: =Y21+AJ21+AU21+BF21+BQ21+CB21+CM21+CX21+DI21+DT21+EE21 -> 0 | FD21: =Z21+AK21+AV21+BG21+BR21+CC21+CN21+CY21+DJ21+DU21+EF21 -> 15 | ... FG21: =AC21+AN21+AY21+BJ21+BU21+CF21+CQ21+DB21+DM21+DX21+EI21 -> 13 | FH21: =EW21+EX21+EY21+EZ21+FA21+FB21+FC21 -> 31 | FI21: =FD21+FE21+FF21+FG21+FH21 -> 59 | FJ21: =IF(EK21>=1,1,0) -> 0 | FK21: =IF(EP21>=1,1,0) -> 0
B22: 1 | C22: =F14/B14 -> 0.33333333 | E22: (ENTER 1 IN FIRST COLUMN IF ENTERING HEIGHT) | N22: 20 | O22: {=IF(OR(AE22:AJ22>0,AP22:AU22>0,BA22:BF22>0,BL22:BQ22>0,BW22:CB22>0,CH22:CM22>0,CS22:CX22,DD22:DI22>0,DO22:DT22>0,DZ22:EE22),1,0)} -> 0 | P22: 1 | Q22: 1900 | R22: 2000 | S22: 13 | Z22: 8 | AC22: 3 | AD22: 5 | AK22: 5 | AN22: 4 | AV22: 5 | AX22: 0 | AY22: 1 | AZ22: 1 | BG22: 2 | BJ22: 1 | EV22: =IF(R22>=1,1,0) -> 1 | EW22: =S22+AD22+AO22+AZ22+BK22+BV22+CG22+CR22+DC22+DN22+DY22 -> 19 | EX22: =T22+AE22+AP22+BA22+BL22+BW22+CH22+CS22+DD22+DO22+DZ22 -> 0 | EY22: =U22+AF22+AQ22+BB22+BM22+BX22+CI22+CT22+DE22+DP22+EA22 -> 0 | EZ22: =V22+AG22+AR22+BC22+BN22+BY22+CJ22+CU22+DF22+DQ22+EB22 -> 0 | FA22: =W22+AH22+AS22+BD22+BO22+BZ22+CK22+CV22+DG22+DR22+EC22 -> 0 | FB22: =X22+AI22+AT22+BE22+BP22+CA22+CL22+CW22+DH22+DS22+ED22 -> 0 | FC22: =Y22+AJ22+AU22+BF22+BQ22+CB22+CM22+CX22+DI22+DT22+EE22 -> 0 | FD22: =Z22+AK22+AV22+BG22+BR22+CC22+CN22+CY22+DJ22+DU22+EF22 -> 20 | ... FG22: =AC22+AN22+AY22+BJ22+BU22+CF22+CQ22+DB22+DM22+DX22+EI22 -> 9 | FH22: =EW22+EX22+EY22+EZ22+FA22+FB22+FC22 -> 19 | FI22: =FD22+FE22+FF22+FG22+FH22 -> 48 | FJ22: =IF(EK22>=1,1,0) -> 0 | FK22: =IF(EP22>=1,1,0) -> 0
B23: 2 | C23: =F15/B15 -> #DIV/0! | E23: (ENTER 0 IN FIRST COLUMN IF NOT ENTERING HEIGHT) | N23: 21 | O23: {=IF(OR(AE23:AJ23>0,AP23:AU23>0,BA23:BF23>0,BL23:BQ23>0,BW23:CB23>0,CH23:CM23>0,CS23:CX23,DD23:DI23>0,DO23:DT23>0,DZ23:EE23),1,0)} -> 0 | P23: 1 | Q23: 2000 | R23: 2100 | S23: 3 | Z23: 6 | AD23: 3 | AK23: 5 | AO23: 3 | AV23: 2 | AZ23: 1 | BK23: 2 | EV23: =IF(R23>=1,1,0) -> 1 | EW23: =S23+AD23+AO23+AZ23+BK23+BV23+CG23+CR23+DC23+DN23+DY23 -> 12 | EX23: =T23+AE23+AP23+BA23+BL23+BW23+CH23+CS23+DD23+DO23+DZ23 -> 0 | EY23: =U23+AF23+AQ23+BB23+BM23+BX23+CI23+CT23+DE23+DP23+EA23 -> 0 | EZ23: =V23+AG23+AR23+BC23+BN23+BY23+CJ23+CU23+DF23+DQ23+EB23 -> 0 | FA23: =W23+AH23+AS23+BD23+BO23+BZ23+CK23+CV23+DG23+DR23+EC23 -> 0 | FB23: =X23+AI23+AT23+BE23+BP23+CA23+CL23+CW23+DH23+DS23+ED23 -> 0 | FC23: =Y23+AJ23+AU23+BF23+BQ23+CB23+CM23+CX23+DI23+DT23+EE23 -> 0 | FD23: =Z23+AK23+AV23+BG23+BR23+CC23+CN23+CY23+DJ23+DU23+EF23 -> 13 | ... FG23: =AC23+AN23+AY23+BJ23+BU23+CF23+CQ23+DB23+DM23+DX23+EI23 -> 0 | FH23: =EW23+EX23+EY23+EZ23+FA23+FB23+FC23 -> 12 | FI23: =FD23+FE23+FF23+FG23+FH23 -> 25 | FJ23: =IF(EK23>=1,1,0) -> 0 | FK23: =IF(EP23>=1,1,0) -> 0
B24: 3 | C24: =F16/B16 -> 0.35833333 | E24: (ENTER HEIGHT IN SECOND COLUMN) | N24: 22 | O24: {=IF(OR(AE24:AJ24>0,AP24:AU24>0,BA24:BF24>0,BL24:BQ24>0,BW24:CB24>0,CH24:CM24>0,CS24:CX24,DD24:DI24>0,DO24:DT24>0,DZ24:EE24),1,0)} -> 0 | P24: 1 | Q24: 2100 | R24: 2200 | S24: 1 | Z24: 6 | AD24: 10 | AK24: 2 | AN24: 1 | AO24: 1 | AV24: 3 | AZ24: 4 | BV24: 1 | EV24: =IF(R24>=1,1,0) -> 1 | EW24: =S24+AD24+AO24+AZ24+BK24+BV24+CG24+CR24+DC24+DN24+DY24 -> 17 | EX24: =T24+AE24+AP24+BA24+BL24+BW24+CH24+CS24+DD24+DO24+DZ24 -> 0 | EY24: =U24+AF24+AQ24+BB24+BM24+BX24+CI24+CT24+DE24+DP24+EA24 -> 0 | EZ24: =V24+AG24+AR24+BC24+BN24+BY24+CJ24+CU24+DF24+DQ24+EB24 -> 0 | FA24: =W24+AH24+AS24+BD24+BO24+BZ24+CK24+CV24+DG24+DR24+EC24 -> 0 | FB24: =X24+AI24+AT24+BE24+BP24+CA24+CL24+CW24+DH24+DS24+ED24 -> 0 | FC24: =Y24+AJ24+AU24+BF24+BQ24+CB24+CM24+CX24+DI24+DT24+EE24 -> 0 | FD24: =Z24+AK24+AV24+BG24+BR24+CC24+CN24+CY24+DJ24+DU24+EF24 -> 11 | ... FG24: =AC24+AN24+AY24+BJ24+BU24+CF24+CQ24+DB24+DM24+DX24+EI24 -> 1 | FH24: =EW24+EX24+EY24+EZ24+FA24+FB24+FC24 -> 17 | FI24: =FD24+FE24+FF24+FG24+FH24 -> 29 | FJ24: =IF(EK24>=1,1,0) -> 0 | FK24: =IF(EP24>=1,1,0) -> 0
B25: 4 | C25: =F17/B17 -> #DIV/0! | E25: 17.1 | N25: 23 | O25: {=IF(OR(AE25:AJ25>0,AP25:AU25>0,BA25:BF25>0,BL25:BQ25>0,BW25:CB25>0,CH25:CM25>0,CS25:CX25,DD25:DI25>0,DO25:DT25>0,DZ25:EE25),1,0)} -> 0 | P25: 1 | Q25: 2200 | R25: 2300 | S25: 3 | Z25: 14 | AD25: 3 | AK25: 11 | AO25: 3 | AV25: 1 | AZ25: 1 | BG25: 2 | BJ25: 3 | EV25: =IF(R25>=1,1,0) -> 1 | EW25: =S25+AD25+AO25+AZ25+BK25+BV25+CG25+CR25+DC25+DN25+DY25 -> 10 | EX25: =T25+AE25+AP25+BA25+BL25+BW25+CH25+CS25+DD25+DO25+DZ25 -> 0 | EY25: =U25+AF25+AQ25+BB25+BM25+BX25+CI25+CT25+DE25+DP25+EA25 -> 0 | EZ25: =V25+AG25+AR25+BC25+BN25+BY25+CJ25+CU25+DF25+DQ25+EB25 -> 0 | FA25: =W25+AH25+AS25+BD25+BO25+BZ25+CK25+CV25+DG25+DR25+EC25 -> 0 | FB25: =X25+AI25+AT25+BE25+BP25+CA25+CL25+CW25+DH25+DS25+ED25 -> 0 | FC25: =Y25+AJ25+AU25+BF25+BQ25+CB25+CM25+CX25+DI25+DT25+EE25 -> 0 | FD25: =Z25+AK25+AV25+BG25+BR25+CC25+CN25+CY25+DJ25+DU25+EF25 -> 28 | ... FG25: =AC25+AN25+AY25+BJ25+BU25+CF25+CQ25+DB25+DM25+DX25+EI25 -> 3 | FH25: =EW25+EX25+EY25+EZ25+FA25+FB25+FC25 -> 10 | FI25: =FD25+FE25+FF25+FG25+FH25 -> 41 | FJ25: =IF(EK25>=1,1,0) -> 0 | FK25: =IF(EP25>=1,1,0) -> 0
B26: 5 | C26: =F18/B18 -> 0.325 | E26: 25.1 | N26: 24 | O26: {=IF(OR(AE26:AJ26>0,AP26:AU26>0,BA26:BF26>0,BL26:BQ26>0,BW26:CB26>0,CH26:CM26>0,CS26:CX26,DD26:DI26>0,DO26:DT26>0,DZ26:EE26),1,0)} -> 0 | P26: 1 | Q26: 2300 | R26: 2400 | S26: 4 | Z26: 4 | AC26: 1 | AD26: 5 | AK26: 5 | AO26: 6 | AV26: 1 | AY26: 1 | AZ26: 4 | BG26: 2 | BK26: 1 | BR26: 1 | BV26: 1 | CG26: 1 | EV26: =IF(R26>=1,1,0) -> 1 | EW26: =S26+AD26+AO26+AZ26+BK26+BV26+CG26+CR26+DC26+DN26+DY26 -> 22 | EX26: =T26+AE26+AP26+BA26+BL26+BW26+CH26+CS26+DD26+DO26+DZ26 -> 0 | EY26: =U26+AF26+AQ26+BB26+BM26+BX26+CI26+CT26+DE26+DP26+EA26 -> 0 | EZ26: =V26+AG26+AR26+BC26+BN26+BY26+CJ26+CU26+DF26+DQ26+EB26 -> 0 | FA26: =W26+AH26+AS26+BD26+BO26+BZ26+CK26+CV26+DG26+DR26+EC26 -> 0 | FB26: =X26+AI26+AT26+BE26+BP26+CA26+CL26+CW26+DH26+DS26+ED26 -> 0 | FC26: =Y26+AJ26+AU26+BF26+BQ26+CB26+CM26+CX26+DI26+DT26+EE26 -> 0 | FD26: =Z26+AK26+AV26+BG26+BR26+CC26+CN26+CY26+DJ26+DU26+EF26 -> 13 | ... FG26: =AC26+AN26+AY26+BJ26+BU26+CF26+CQ26+DB26+DM26+DX26+EI26 -> 2 | FH26: =EW26+EX26+EY26+EZ26+FA26+FB26+FC26 -> 22 | FI26: =FD26+FE26+FF26+FG26+FH26 -> 37 | FJ26: =IF(EK26>=1,1,0) -> 0 | FK26: =IF(EP26>=1,1,0) -> 0
B27: 6 | C27: =F19/B19 -> 0.35 | E27: 30.1 | N27: 25 | O27: {=IF(OR(AE27:AJ27>0,AP27:AU27>0,BA27:BF27>0,BL27:BQ27>0,BW27:CB27>0,CH27:CM27>0,CS27:CX27,DD27:DI27>0,DO27:DT27>0,DZ27:EE27),1,0)} -> 0 | P27: 1 | Q27: 2400 | R27: 2500 | S27: 3 | Z27: 5 | AD27: 2 | AK27: 6 | AV27: 3 | AY27: 1 | AZ27: 1 | BG27: 6 | BJ27: 1 | CN27: 1 | CY27: 1 | EV27: =IF(R27>=1,1,0) -> 1 | EW27: =S27+AD27+AO27+AZ27+BK27+BV27+CG27+CR27+DC27+DN27+DY27 -> 6 | EX27: =T27+AE27+AP27+BA27+BL27+BW27+CH27+CS27+DD27+DO27+DZ27 -> 0 | EY27: =U27+AF27+AQ27+BB27+BM27+BX27+CI27+CT27+DE27+DP27+EA27 -> 0 | EZ27: =V27+AG27+AR27+BC27+BN27+BY27+CJ27+CU27+DF27+DQ27+EB27 -> 0 | FA27: =W27+AH27+AS27+BD27+BO27+BZ27+CK27+CV27+DG27+DR27+EC27 -> 0 | FB27: =X27+AI27+AT27+BE27+BP27+CA27+CL27+CW27+DH27+DS27+ED27 -> 0 | FC27: =Y27+AJ27+AU27+BF27+BQ27+CB27+CM27+CX27+DI27+DT27+EE27 -> 0 | FD27: =Z27+AK27+AV27+BG27+BR27+CC27+CN27+CY27+DJ27+DU27+EF27 -> 22 | ... FG27: =AC27+AN27+AY27+BJ27+BU27+CF27+CQ27+DB27+DM27+DX27+EI27 -> 2 | FH27: =EW27+EX27+EY27+EZ27+FA27+FB27+FC27 -> 6 | FI27: =FD27+FE27+FF27+FG27+FH27 -> 30 | FJ27: =IF(EK27>=1,1,0) -> 0 | FK27: =IF(EP27>=1,1,0) -> 0
E28: 35.1 | N28: 26 | O28: {=IF(OR(AE28:AJ28>0,AP28:AU28>0,BA28:BF28>0,BL28:BQ28>0,BW28:CB28>0,CH28:CM28>0,CS28:CX28,DD28:DI28>0,DO28:DT28>0,DZ28:EE28),1,0)} -> 0 | P28: 1 | Q28: 2500 | R28: 2600 | Z28: 4 | AC28: 1 | AD28: 4 | AK28: 10 | AN28: 1 | AV28: 7 | AY28: 2 | AZ28: 2 | BG28: 6 | BJ28: 2 | BK28: 1 | BR28: 5 | BV28: 1 | EV28: =IF(R28>=1,1,0) -> 1 | EW28: =S28+AD28+AO28+AZ28+BK28+BV28+CG28+CR28+DC28+DN28+DY28 -> 8 | EX28: =T28+AE28+AP28+BA28+BL28+BW28+CH28+CS28+DD28+DO28+DZ28 -> 0 | EY28: =U28+AF28+AQ28+BB28+BM28+BX28+CI28+CT28+DE28+DP28+EA28 -> 0 | EZ28: =V28+AG28+AR28+BC28+BN28+BY28+CJ28+CU28+DF28+DQ28+EB28 -> 0 | FA28: =W28+AH28+AS28+BD28+BO28+BZ28+CK28+CV28+DG28+DR28+EC28 -> 0 | FB28: =X28+AI28+AT28+BE28+BP28+CA28+CL28+CW28+DH28+DS28+ED28 -> 0 | FC28: =Y28+AJ28+AU28+BF28+BQ28+CB28+CM28+CX28+DI28+DT28+EE28 -> 0 | FD28: =Z28+AK28+AV28+BG28+BR28+CC28+CN28+CY28+DJ28+DU28+EF28 -> 32 | ... FG28: =AC28+AN28+AY28+BJ28+BU28+CF28+CQ28+DB28+DM28+DX28+EI28 -> 6 | FH28: =EW28+EX28+EY28+EZ28+FA28+FB28+FC28 -> 8 | FI28: =FD28+FE28+FF28+FG28+FH28 -> 46 | FJ28: =IF(EK28>=1,1,0) -> 0 | FK28: =IF(EP28>=1,1,0) -> 0
E29: 40.1 | N29: 27 | O29: {=IF(OR(AE29:AJ29>0,AP29:AU29>0,BA29:BF29>0,BL29:BQ29>0,BW29:CB29>0,CH29:CM29>0,CS29:CX29,DD29:DI29>0,DO29:DT29>0,DZ29:EE29),1,0)} -> 0 | P29: 1 | Q29: 2600 | R29: 2700 | S29: 6 | Z29: 23 | AD29: 7 | AK29: 16 | AO29: 2 | AV29: 10 | AZ29: 1 | BG29: 10 | BJ29: 1 | BR29: 5 | CC29: 1 | EV29: =IF(R29>=1,1,0) -> 1 | EW29: =S29+AD29+AO29+AZ29+BK29+BV29+CG29+CR29+DC29+DN29+DY29 -> 16 | EX29: =T29+AE29+AP29+BA29+BL29+BW29+CH29+CS29+DD29+DO29+DZ29 -> 0 | EY29: =U29+AF29+AQ29+BB29+BM29+BX29+CI29+CT29+DE29+DP29+EA29 -> 0 | EZ29: =V29+AG29+AR29+BC29+BN29+BY29+CJ29+CU29+DF29+DQ29+EB29 -> 0 | FA29: =W29+AH29+AS29+BD29+BO29+BZ29+CK29+CV29+DG29+DR29+EC29 -> 0 | FB29: =X29+AI29+AT29+BE29+BP29+CA29+CL29+CW29+DH29+DS29+ED29 -> 0 | FC29: =Y29+AJ29+AU29+BF29+BQ29+CB29+CM29+CX29+DI29+DT29+EE29 -> 0 | FD29: =Z29+AK29+AV29+BG29+BR29+CC29+CN29+CY29+DJ29+DU29+EF29 -> 65 | ... FG29: =AC29+AN29+AY29+BJ29+BU29+CF29+CQ29+DB29+DM29+DX29+EI29 -> 1 | FH29: =EW29+EX29+EY29+EZ29+FA29+FB29+FC29 -> 16 | FI29: =FD29+FE29+FF29+FG29+FH29 -> 82 | FJ29: =IF(EK29>=1,1,0) -> 0 | FK29: =IF(EP29>=1,1,0) -> 0
E30: 45.1 | N30: 28 | O30: {=IF(OR(AE30:AJ30>0,AP30:AU30>0,BA30:BF30>0,BL30:BQ30>0,BW30:CB30>0,CH30:CM30>0,CS30:CX30,DD30:DI30>0,DO30:DT30>0,DZ30:EE30),1,0)} -> 0 | P30: 1 | Q30: 2700 | R30: 2800 | S30: 8 | Z30: 11 | AD30: 6 | AK30: 8 | AN30: 2 | AO30: 4 | AY30: 2 | AZ30: 4 | BG30: 3 | BJ30: 3 | BK30: 1 | BR30: 1 | EV30: =IF(R30>=1,1,0) -> 1 | EW30: =S30+AD30+AO30+AZ30+BK30+BV30+CG30+CR30+DC30+DN30+DY30 -> 23 | EX30: =T30+AE30+AP30+BA30+BL30+BW30+CH30+CS30+DD30+DO30+DZ30 -> 0 | EY30: =U30+AF30+AQ30+BB30+BM30+BX30+CI30+CT30+DE30+DP30+EA30 -> 0 | EZ30: =V30+AG30+AR30+BC30+BN30+BY30+CJ30+CU30+DF30+DQ30+EB30 -> 0 | FA30: =W30+AH30+AS30+BD30+BO30+BZ30+CK30+CV30+DG30+DR30+EC30 -> 0 | FB30: =X30+AI30+AT30+BE30+BP30+CA30+CL30+CW30+DH30+DS30+ED30 -> 0 | FC30: =Y30+AJ30+AU30+BF30+BQ30+CB30+CM30+CX30+DI30+DT30+EE30 -> 0 | FD30: =Z30+AK30+AV30+BG30+BR30+CC30+CN30+CY30+DJ30+DU30+EF30 -> 23 | ... FG30: =AC30+AN30+AY30+BJ30+BU30+CF30+CQ30+DB30+DM30+DX30+EI30 -> 7 | FH30: =EW30+EX30+EY30+EZ30+FA30+FB30+FC30 -> 23 | FI30: =FD30+FE30+FF30+FG30+FH30 -> 53 | FJ30: =IF(EK30>=1,1,0) -> 0 | FK30: =IF(EP30>=1,1,0) -> 0
E31: 50.1 | N31: 29 | O31: {=IF(OR(AE31:AJ31>0,AP31:AU31>0,BA31:BF31>0,BL31:BQ31>0,BW31:CB31>0,CH31:CM31>0,CS31:CX31,DD31:DI31>0,DO31:DT31>0,DZ31:EE31),1,0)} -> 0 | P31: 1 | Q31: 2800 | R31: 2900 | S31: 2 | Z31: 16 | AC31: 1 | AD31: 4 | AK31: 10 | AO31: 3 | AZ31: 3 | BK31: 1 | EV31: =IF(R31>=1,1,0) -> 1 | EW31: =S31+AD31+AO31+AZ31+BK31+BV31+CG31+CR31+DC31+DN31+DY31 -> 13 | EX31: =T31+AE31+AP31+BA31+BL31+BW31+CH31+CS31+DD31+DO31+DZ31 -> 0 | EY31: =U31+AF31+AQ31+BB31+BM31+BX31+CI31+CT31+DE31+DP31+EA31 -> 0 | EZ31: =V31+AG31+AR31+BC31+BN31+BY31+CJ31+CU31+DF31+DQ31+EB31 -> 0 | FA31: =W31+AH31+AS31+BD31+BO31+BZ31+CK31+CV31+DG31+DR31+EC31 -> 0 | FB31: =X31+AI31+AT31+BE31+BP31+CA31+CL31+CW31+DH31+DS31+ED31 -> 0 | FC31: =Y31+AJ31+AU31+BF31+BQ31+CB31+CM31+CX31+DI31+DT31+EE31 -> 0 | FD31: =Z31+AK31+AV31+BG31+BR31+CC31+CN31+CY31+DJ31+DU31+EF31 -> 26 | ... FG31: =AC31+AN31+AY31+BJ31+BU31+CF31+CQ31+DB31+DM31+DX31+EI31 -> 1 | FH31: =EW31+EX31+EY31+EZ31+FA31+FB31+FC31 -> 13 | FI31: =FD31+FE31+FF31+FG31+FH31 -> 40 | FJ31: =IF(EK31>=1,1,0) -> 0 | FK31: =IF(EP31>=1,1,0) -> 0
E32: 55.1 | N32: 30 | O32: {=IF(OR(AE32:AJ32>0,AP32:AU32>0,BA32:BF32>0,BL32:BQ32>0,BW32:CB32>0,CH32:CM32>0,CS32:CX32,DD32:DI32>0,DO32:DT32>0,DZ32:EE32),1,0)} -> 0 | P32: 2 | Q32: 0 | R32: 100 | S32: 7 | Z32: 16 | AC32: 5 | AD32: 8 | AK32: 4 | AN32: 5 | AO32: 1 | EV32: =IF(R32>=1,1,0) -> 1 | EW32: =S32+AD32+AO32+AZ32+BK32+BV32+CG32+CR32+DC32+DN32+DY32 -> 16 | EX32: =T32+AE32+AP32+BA32+BL32+BW32+CH32+CS32+DD32+DO32+DZ32 -> 0 | EY32: =U32+AF32+AQ32+BB32+BM32+BX32+CI32+CT32+DE32+DP32+EA32 -> 0 | EZ32: =V32+AG32+AR32+BC32+BN32+BY32+CJ32+CU32+DF32+DQ32+EB32 -> 0 | FA32: =W32+AH32+AS32+BD32+BO32+BZ32+CK32+CV32+DG32+DR32+EC32 -> 0 | FB32: =X32+AI32+AT32+BE32+BP32+CA32+CL32+CW32+DH32+DS32+ED32 -> 0 | FC32: =Y32+AJ32+AU32+BF32+BQ32+CB32+CM32+CX32+DI32+DT32+EE32 -> 0 | FD32: =Z32+AK32+AV32+BG32+BR32+CC32+CN32+CY32+DJ32+DU32+EF32 -> 20 | ... FG32: =AC32+AN32+AY32+BJ32+BU32+CF32+CQ32+DB32+DM32+DX32+EI32 -> 10 | FH32: =EW32+EX32+EY32+EZ32+FA32+FB32+FC32 -> 16 | FI32: =FD32+FE32+FF32+FG32+FH32 -> 46 | FJ32: =IF(EK32>=1,1,0) -> 0 | FK32: =IF(EP32>=1,1,0) -> 0
E33: 60.1 | N33: 31 | O33: {=IF(OR(AE33:AJ33>0,AP33:AU33>0,BA33:BF33>0,BL33:BQ33>0,BW33:CB33>0,CH33:CM33>0,CS33:CX33,DD33:DI33>0,DO33:DT33>0,DZ33:EE33),1,0)} -> 0 | P33: 2 | Q33: 100 | R33: 200 | S33: 5 | Z33: 18 | AD33: 3 | AK33: 22 | AN33: 1 | AO33: 1 | AV33: 6 | AY33: 1 | AZ33: 1 | BG33: 4 | BJ33: 3 | BK33: 1 | CC33: 1 | EV33: =IF(R33>=1,1,0) -> 1 | EW33: =S33+AD33+AO33+AZ33+BK33+BV33+CG33+CR33+DC33+DN33+DY33 -> 11 | EX33: =T33+AE33+AP33+BA33+BL33+BW33+CH33+CS33+DD33+DO33+DZ33 -> 0 | EY33: =U33+AF33+AQ33+BB33+BM33+BX33+CI33+CT33+DE33+DP33+EA33 -> 0 | EZ33: =V33+AG33+AR33+BC33+BN33+BY33+CJ33+CU33+DF33+DQ33+EB33 -> 0 | FA33: =W33+AH33+AS33+BD33+BO33+BZ33+CK33+CV33+DG33+DR33+EC33 -> 0 | FB33: =X33+AI33+AT33+BE33+BP33+CA33+CL33+CW33+DH33+DS33+ED33 -> 0 | FC33: =Y33+AJ33+AU33+BF33+BQ33+CB33+CM33+CX33+DI33+DT33+EE33 -> 0 | FD33: =Z33+AK33+AV33+BG33+BR33+CC33+CN33+CY33+DJ33+DU33+EF33 -> 51 | ... FG33: =AC33+AN33+AY33+BJ33+BU33+CF33+CQ33+DB33+DM33+DX33+EI33 -> 5 | FH33: =EW33+EX33+EY33+EZ33+FA33+FB33+FC33 -> 11 | FI33: =FD33+FE33+FF33+FG33+FH33 -> 67 | FJ33: =IF(EK33>=1,1,0) -> 0 | FK33: =IF(EP33>=1,1,0) -> 0
E34: TOTAL | F34: =SUM(F25:F33) -> 0 | G34: =SUM(G25:G33) -> 0 | N34: 32 | O34: {=IF(OR(AE34:AJ34>0,AP34:AU34>0,BA34:BF34>0,BL34:BQ34>0,BW34:CB34>0,CH34:CM34>0,CS34:CX34,DD34:DI34>0,DO34:DT34>0,DZ34:EE34),1,0)} -> 0 | P34: 2 | Q34: 200 | R34: 300 | Z34: 6 | AD34: 2 | AK34: 7 | AO34: 6 | AV34: 5 | AY34: 1 | AZ34: 8 | BG34: 9 | BJ34: 3 | BK34: 3 | BR34: 5 | CC34: 2 | CQ34: 1 | CY34: 1 | EV34: =IF(R34>=1,1,0) -> 1 | EW34: =S34+AD34+AO34+AZ34+BK34+BV34+CG34+CR34+DC34+DN34+DY34 -> 19 | EX34: =T34+AE34+AP34+BA34+BL34+BW34+CH34+CS34+DD34+DO34+DZ34 -> 0 | EY34: =U34+AF34+AQ34+BB34+BM34+BX34+CI34+CT34+DE34+DP34+EA34 -> 0 | EZ34: =V34+AG34+AR34+BC34+BN34+BY34+CJ34+CU34+DF34+DQ34+EB34 -> 0 | FA34: =W34+AH34+AS34+BD34+BO34+BZ34+CK34+CV34+DG34+DR34+EC34 -> 0 | FB34: =X34+AI34+AT34+BE34+BP34+CA34+CL34+CW34+DH34+DS34+ED34 -> 0 | FC34: =Y34+AJ34+AU34+BF34+BQ34+CB34+CM34+CX34+DI34+DT34+EE34 -> 0 | FD34: =Z34+AK34+AV34+BG34+BR34+CC34+CN34+CY34+DJ34+DU34+EF34 -> 35 | ... FG34: =AC34+AN34+AY34+BJ34+BU34+CF34+CQ34+DB34+DM34+DX34+EI34 -> 5 | FH34: =EW34+EX34+EY34+EZ34+FA34+FB34+FC34 -> 19 | FI34: =FD34+FE34+FF34+FG34+FH34 -> 59 | FJ34: =IF(EK34>=1,1,0) -> 0 | FK34: =IF(EP34>=1,1,0) -> 0
N35: 33 | O35: {=IF(OR(AE35:AJ35>0,AP35:AU35>0,BA35:BF35>0,BL35:BQ35>0,BW35:CB35>0,CH35:CM35>0,CS35:CX35,DD35:DI35>0,DO35:DT35>0,DZ35:EE35),1,0)} -> 0 | P35: 2 | Q35: 300 | R35: 400 | S35: 5 | Z35: 13 | AD35: 4 | AK35: 17 | AO35: 2 | AV35: 7 | AZ35: 2 | BG35: 14 | BK35: 1 | BR35: 6 | EV35: =IF(R35>=1,1,0) -> 1 | EW35: =S35+AD35+AO35+AZ35+BK35+BV35+CG35+CR35+DC35+DN35+DY35 -> 14 | EX35: =T35+AE35+AP35+BA35+BL35+BW35+CH35+CS35+DD35+DO35+DZ35 -> 0 | EY35: =U35+AF35+AQ35+BB35+BM35+BX35+CI35+CT35+DE35+DP35+EA35 -> 0 | EZ35: =V35+AG35+AR35+BC35+BN35+BY35+CJ35+CU35+DF35+DQ35+EB35 -> 0 | FA35: =W35+AH35+AS35+BD35+BO35+BZ35+CK35+CV35+DG35+DR35+EC35 -> 0 | FB35: =X35+AI35+AT35+BE35+BP35+CA35+CL35+CW35+DH35+DS35+ED35 -> 0 | FC35: =Y35+AJ35+AU35+BF35+BQ35+CB35+CM35+CX35+DI35+DT35+EE35 -> 0 | FD35: =Z35+AK35+AV35+BG35+BR35+CC35+CN35+CY35+DJ35+DU35+EF35 -> 57 | ... FG35: =AC35+AN35+AY35+BJ35+BU35+CF35+CQ35+DB35+DM35+DX35+EI35 -> 0 | FH35: =EW35+EX35+EY35+EZ35+FA35+FB35+FC35 -> 14 | FI35: =FD35+FE35+FF35+FG35+FH35 -> 71 | FJ35: =IF(EK35>=1,1,0) -> 0 | FK35: =IF(EP35>=1,1,0) -> 0
E36: AVERAGE HEIGHT OVER ENTIRE STEM COUNT | N36: 34 | O36: {=IF(OR(AE36:AJ36>0,AP36:AU36>0,BA36:BF36>0,BL36:BQ36>0,BW36:CB36>0,CH36:CM36>0,CS36:CX36,DD36:DI36>0,DO36:DT36>0,DZ36:EE36),1,0)} -> 0 | P36: 2 | Q36: 400 | R36: 500 | S36: 11 | Z36: 26 | AD36: 10 | AK36: 6 | AN36: 4 | AV36: 2 | AY36: 1 | AZ36: 1 | BG36: 1 | BJ36: 1 | BK36: 1 | BR36: 3 | BU36: 1 | EV36: =IF(R36>=1,1,0) -> 1 | EW36: =S36+AD36+AO36+AZ36+BK36+BV36+CG36+CR36+DC36+DN36+DY36 -> 23 | EX36: =T36+AE36+AP36+BA36+BL36+BW36+CH36+CS36+DD36+DO36+DZ36 -> 0 | EY36: =U36+AF36+AQ36+BB36+BM36+BX36+CI36+CT36+DE36+DP36+EA36 -> 0 | EZ36: =V36+AG36+AR36+BC36+BN36+BY36+CJ36+CU36+DF36+DQ36+EB36 -> 0 | FA36: =W36+AH36+AS36+BD36+BO36+BZ36+CK36+CV36+DG36+DR36+EC36 -> 0 | FB36: =X36+AI36+AT36+BE36+BP36+CA36+CL36+CW36+DH36+DS36+ED36 -> 0 | FC36: =Y36+AJ36+AU36+BF36+BQ36+CB36+CM36+CX36+DI36+DT36+EE36 -> 0 | FD36: =Z36+AK36+AV36+BG36+BR36+CC36+CN36+CY36+DJ36+DU36+EF36 -> 38 | ... FG36: =AC36+AN36+AY36+BJ36+BU36+CF36+CQ36+DB36+DM36+DX36+EI36 -> 7 | FH36: =EW36+EX36+EY36+EZ36+FA36+FB36+FC36 -> 23 | FI36: =FD36+FE36+FF36+FG36+FH36 -> 68 | FJ36: =IF(EK36>=1,1,0) -> 0 | FK36: =IF(EP36>=1,1,0) -> 0
N37: 35 | O37: {=IF(OR(AE37:AJ37>0,AP37:AU37>0,BA37:BF37>0,BL37:BQ37>0,BW37:CB37>0,CH37:CM37>0,CS37:CX37,DD37:DI37>0,DO37:DT37>0,DZ37:EE37),1,0)} -> 0 | P37: 2 | Q37: 500 | R37: 600 | S37: 4 | Z37: 12 | AD37: 9 | AK37: 10 | AO37: 9 | AV37: 4 | AY37: 1 | AZ37: 4 | BG37: 1 | BJ37: 1 | BK37: 1 | BR37: 1 | EV37: =IF(R37>=1,1,0) -> 1 | EW37: =S37+AD37+AO37+AZ37+BK37+BV37+CG37+CR37+DC37+DN37+DY37 -> 27 | EX37: =T37+AE37+AP37+BA37+BL37+BW37+CH37+CS37+DD37+DO37+DZ37 -> 0 | EY37: =U37+AF37+AQ37+BB37+BM37+BX37+CI37+CT37+DE37+DP37+EA37 -> 0 | EZ37: =V37+AG37+AR37+BC37+BN37+BY37+CJ37+CU37+DF37+DQ37+EB37 -> 0 | FA37: =W37+AH37+AS37+BD37+BO37+BZ37+CK37+CV37+DG37+DR37+EC37 -> 0 | FB37: =X37+AI37+AT37+BE37+BP37+CA37+CL37+CW37+DH37+DS37+ED37 -> 0 | FC37: =Y37+AJ37+AU37+BF37+BQ37+CB37+CM37+CX37+DI37+DT37+EE37 -> 0 | FD37: =Z37+AK37+AV37+BG37+BR37+CC37+CN37+CY37+DJ37+DU37+EF37 -> 28 | ... FG37: =AC37+AN37+AY37+BJ37+BU37+CF37+CQ37+DB37+DM37+DX37+EI37 -> 2 | FH37: =EW37+EX37+EY37+EZ37+FA37+FB37+FC37 -> 27 | FI37: =FD37+FE37+FF37+FG37+FH37 -> 57 | FJ37: =IF(EK37>=1,1,0) -> 0 | FK37: =IF(EP37>=1,1,0) -> 0
E38: =G34/F34 -> #DIV/0! | N38: 36 | O38: {=IF(OR(AE38:AJ38>0,AP38:AU38>0,BA38:BF38>0,BL38:BQ38>0,BW38:CB38>0,CH38:CM38>0,CS38:CX38,DD38:DI38>0,DO38:DT38>0,DZ38:EE38),1,0)} -> 0 | P38: 2 | Q38: 600 | R38: 700 | S38: 3 | Z38: 2 | AC38: 3 | AD38: 4 | AK38: 4 | AN38: 1 | AO38: 2 | AV38: 4 | AY38: 1 | AZ38: 1 | BG38: 5 | BJ38: 2 | BK38: 1 | BR38: 3 | EV38: =IF(R38>=1,1,0) -> 1 | EW38: =S38+AD38+AO38+AZ38+BK38+BV38+CG38+CR38+DC38+DN38+DY38 -> 11 | EX38: =T38+AE38+AP38+BA38+BL38+BW38+CH38+CS38+DD38+DO38+DZ38 -> 0 | EY38: =U38+AF38+AQ38+BB38+BM38+BX38+CI38+CT38+DE38+DP38+EA38 -> 0 | EZ38: =V38+AG38+AR38+BC38+BN38+BY38+CJ38+CU38+DF38+DQ38+EB38 -> 0 | FA38: =W38+AH38+AS38+BD38+BO38+BZ38+CK38+CV38+DG38+DR38+EC38 -> 0 | FB38: =X38+AI38+AT38+BE38+BP38+CA38+CL38+CW38+DH38+DS38+ED38 -> 0 | FC38: =Y38+AJ38+AU38+BF38+BQ38+CB38+CM38+CX38+DI38+DT38+EE38 -> 0 | FD38: =Z38+AK38+AV38+BG38+BR38+CC38+CN38+CY38+DJ38+DU38+EF38 -> 18 | ... FG38: =AC38+AN38+AY38+BJ38+BU38+CF38+CQ38+DB38+DM38+DX38+EI38 -> 7 | FH38: =EW38+EX38+EY38+EZ38+FA38+FB38+FC38 -> 11 | FI38: =FD38+FE38+FF38+FG38+FH38 -> 36 | FJ38: =IF(EK38>=1,1,0) -> 0 | FK38: =IF(EP38>=1,1,0) -> 0
N39: 37 | O39: {=IF(OR(AE39:AJ39>0,AP39:AU39>0,BA39:BF39>0,BL39:BQ39>0,BW39:CB39>0,CH39:CM39>0,CS39:CX39,DD39:DI39>0,DO39:DT39>0,DZ39:EE39),1,0)} -> 1 | P39: 2 | Q39: 700 | R39: 800 | S39: 8 | Z39: 2 | AC39: 11 | AD39: 8 | AK39: 2 | AN39: 10 | AO39: 1 | AY39: 2 | AZ39: 1 | BJ39: 2 | CB39: 1 | EV39: =IF(R39>=1,1,0) -> 1 | EW39: =S39+AD39+AO39+AZ39+BK39+BV39+CG39+CR39+DC39+DN39+DY39 -> 18 | EX39: =T39+AE39+AP39+BA39+BL39+BW39+CH39+CS39+DD39+DO39+DZ39 -> 0 | EY39: =U39+AF39+AQ39+BB39+BM39+BX39+CI39+CT39+DE39+DP39+EA39 -> 0 | EZ39: =V39+AG39+AR39+BC39+BN39+BY39+CJ39+CU39+DF39+DQ39+EB39 -> 0 | FA39: =W39+AH39+AS39+BD39+BO39+BZ39+CK39+CV39+DG39+DR39+EC39 -> 0 | FB39: =X39+AI39+AT39+BE39+BP39+CA39+CL39+CW39+DH39+DS39+ED39 -> 0 | FC39: =Y39+AJ39+AU39+BF39+BQ39+CB39+CM39+CX39+DI39+DT39+EE39 -> 1 | FD39: =Z39+AK39+AV39+BG39+BR39+CC39+CN39+CY39+DJ39+DU39+EF39 -> 4 | ... FG39: =AC39+AN39+AY39+BJ39+BU39+CF39+CQ39+DB39+DM39+DX39+EI39 -> 25 | FH39: =EW39+EX39+EY39+EZ39+FA39+FB39+FC39 -> 19 | FI39: =FD39+FE39+FF39+FG39+FH39 -> 48 | FJ39: =IF(EK39>=1,1,0) -> 0 | FK39: =IF(EP39>=1,1,0) -> 0
N40: 38 | O40: {=IF(OR(AE40:AJ40>0,AP40:AU40>0,BA40:BF40>0,BL40:BQ40>0,BW40:CB40>0,CH40:CM40>0,CS40:CX40,DD40:DI40>0,DO40:DT40>0,DZ40:EE40),1,0)} -> 0 | P40: 2 | Q40: 800 | R40: 900 | S40: 30 | Z40: 7 | AC40: 9 | AD40: 30 | AK40: 4 | AN40: 6 | AO40: 10 | AZ40: 9 | EV40: =IF(R40>=1,1,0) -> 1 | EW40: =S40+AD40+AO40+AZ40+BK40+BV40+CG40+CR40+DC40+DN40+DY40 -> 79 | EX40: =T40+AE40+AP40+BA40+BL40+BW40+CH40+CS40+DD40+DO40+DZ40 -> 0 | EY40: =U40+AF40+AQ40+BB40+BM40+BX40+CI40+CT40+DE40+DP40+EA40 -> 0 | EZ40: =V40+AG40+AR40+BC40+BN40+BY40+CJ40+CU40+DF40+DQ40+EB40 -> 0 | FA40: =W40+AH40+AS40+BD40+BO40+BZ40+CK40+CV40+DG40+DR40+EC40 -> 0 | FB40: =X40+AI40+AT40+BE40+BP40+CA40+CL40+CW40+DH40+DS40+ED40 -> 0 | FC40: =Y40+AJ40+AU40+BF40+BQ40+CB40+CM40+CX40+DI40+DT40+EE40 -> 0 | FD40: =Z40+AK40+AV40+BG40+BR40+CC40+CN40+CY40+DJ40+DU40+EF40 -> 11 | ... FG40: =AC40+AN40+AY40+BJ40+BU40+CF40+CQ40+DB40+DM40+DX40+EI40 -> 15 | FH40: =EW40+EX40+EY40+EZ40+FA40+FB40+FC40 -> 79 | FI40: =FD40+FE40+FF40+FG40+FH40 -> 105 | FJ40: =IF(EK40>=1,1,0) -> 0 | FK40: =IF(EP40>=1,1,0) -> 0
N41: 39 | O41: {=IF(OR(AE41:AJ41>0,AP41:AU41>0,BA41:BF41>0,BL41:BQ41>0,BW41:CB41>0,CH41:CM41>0,CS41:CX41,DD41:DI41>0,DO41:DT41>0,DZ41:EE41),1,0)} -> 0 | P41: 2 | Q41: 900 | R41: 1000 | S41: 56 | Z41: 4 | AC41: 3 | AD41: 49 | AK41: 4 | AN41: 3 | AO41: 7 | AV41: 2 | AY41: 4 | AZ41: 1 | BJ41: 1 | EV41: =IF(R41>=1,1,0) -> 1 | EW41: =S41+AD41+AO41+AZ41+BK41+BV41+CG41+CR41+DC41+DN41+DY41 -> 113 | EX41: =T41+AE41+AP41+BA41+BL41+BW41+CH41+CS41+DD41+DO41+DZ41 -> 0 | EY41: =U41+AF41+AQ41+BB41+BM41+BX41+CI41+CT41+DE41+DP41+EA41 -> 0 | EZ41: =V41+AG41+AR41+BC41+BN41+BY41+CJ41+CU41+DF41+DQ41+EB41 -> 0 | FA41: =W41+AH41+AS41+BD41+BO41+BZ41+CK41+CV41+DG41+DR41+EC41 -> 0 | FB41: =X41+AI41+AT41+BE41+BP41+CA41+CL41+CW41+DH41+DS41+ED41 -> 0 | FC41: =Y41+AJ41+AU41+BF41+BQ41+CB41+CM41+CX41+DI41+DT41+EE41 -> 0 | FD41: =Z41+AK41+AV41+BG41+BR41+CC41+CN41+CY41+DJ41+DU41+EF41 -> 10 | ... FG41: =AC41+AN41+AY41+BJ41+BU41+CF41+CQ41+DB41+DM41+DX41+EI41 -> 11 | FH41: =EW41+EX41+EY41+EZ41+FA41+FB41+FC41 -> 113 | FI41: =FD41+FE41+FF41+FG41+FH41 -> 134 | FJ41: =IF(EK41>=1,1,0) -> 0 | FK41: =IF(EP41>=1,1,0) -> 0
N42: 40 | O42: {=IF(OR(AE42:AJ42>0,AP42:AU42>0,BA42:BF42>0,BL42:BQ42>0,BW42:CB42>0,CH42:CM42>0,CS42:CX42,DD42:DI42>0,DO42:DT42>0,DZ42:EE42),1,0)} -> 0 | P42: 2 | Q42: 1000 | R42: 1100 | S42: 10 | Z42: 2 | AD42: 6 | AK42: 5 | AN42: 2 | AO42: 1 | AV42: 2 | BG42: 1 | BJ42: 1 | EV42: =IF(R42>=1,1,0) -> 1 | EW42: =S42+AD42+AO42+AZ42+BK42+BV42+CG42+CR42+DC42+DN42+DY42 -> 17 | EX42: =T42+AE42+AP42+BA42+BL42+BW42+CH42+CS42+DD42+DO42+DZ42 -> 0 | EY42: =U42+AF42+AQ42+BB42+BM42+BX42+CI42+CT42+DE42+DP42+EA42 -> 0 | EZ42: =V42+AG42+AR42+BC42+BN42+BY42+CJ42+CU42+DF42+DQ42+EB42 -> 0 | FA42: =W42+AH42+AS42+BD42+BO42+BZ42+CK42+CV42+DG42+DR42+EC42 -> 0 | FB42: =X42+AI42+AT42+BE42+BP42+CA42+CL42+CW42+DH42+DS42+ED42 -> 0 | FC42: =Y42+AJ42+AU42+BF42+BQ42+CB42+CM42+CX42+DI42+DT42+EE42 -> 0 | FD42: =Z42+AK42+AV42+BG42+BR42+CC42+CN42+CY42+DJ42+DU42+EF42 -> 10 | ... FG42: =AC42+AN42+AY42+BJ42+BU42+CF42+CQ42+DB42+DM42+DX42+EI42 -> 3 | FH42: =EW42+EX42+EY42+EZ42+FA42+FB42+FC42 -> 17 | FI42: =FD42+FE42+FF42+FG42+FH42 -> 30 | FJ42: =IF(EK42>=1,1,0) -> 0 | FK42: =IF(EP42>=1,1,0) -> 0
N43: 41 | O43: {=IF(OR(AE43:AJ43>0,AP43:AU43>0,BA43:BF43>0,BL43:BQ43>0,BW43:CB43>0,CH43:CM43>0,CS43:CX43,DD43:DI43>0,DO43:DT43>0,DZ43:EE43),1,0)} -> 1 | P43: 2 | Q43: 1100 | R43: 1200 | S43: 2 | Z43: 6 | AD43: 3 | AK43: 11 | AN43: 1 | AO43: 1 | AV43: 7 | AZ43: 1 | BA43: 1 | BG43: 9 | BJ43: 1 | BK43: 3 | BL43: 1 | BR43: 4 | BV43: 1 | EV43: =IF(R43>=1,1,0) -> 1 | EW43: =S43+AD43+AO43+AZ43+BK43+BV43+CG43+CR43+DC43+DN43+DY43 -> 11 | EX43: =T43+AE43+AP43+BA43+BL43+BW43+CH43+CS43+DD43+DO43+DZ43 -> 2 | EY43: =U43+AF43+AQ43+BB43+BM43+BX43+CI43+CT43+DE43+DP43+EA43 -> 0 | EZ43: =V43+AG43+AR43+BC43+BN43+BY43+CJ43+CU43+DF43+DQ43+EB43 -> 0 | FA43: =W43+AH43+AS43+BD43+BO43+BZ43+CK43+CV43+DG43+DR43+EC43 -> 0 | FB43: =X43+AI43+AT43+BE43+BP43+CA43+CL43+CW43+DH43+DS43+ED43 -> 0 | FC43: =Y43+AJ43+AU43+BF43+BQ43+CB43+CM43+CX43+DI43+DT43+EE43 -> 0 | FD43: =Z43+AK43+AV43+BG43+BR43+CC43+CN43+CY43+DJ43+DU43+EF43 -> 37 | ... FG43: =AC43+AN43+AY43+BJ43+BU43+CF43+CQ43+DB43+DM43+DX43+EI43 -> 2 | FH43: =EW43+EX43+EY43+EZ43+FA43+FB43+FC43 -> 13 | FI43: =FD43+FE43+FF43+FG43+FH43 -> 52 | FJ43: =IF(EK43>=1,1,0) -> 0 | FK43: =IF(EP43>=1,1,0) -> 0
N44: 42 | O44: {=IF(OR(AE44:AJ44>0,AP44:AU44>0,BA44:BF44>0,BL44:BQ44>0,BW44:CB44>0,CH44:CM44>0,CS44:CX44,DD44:DI44>0,DO44:DT44>0,DZ44:EE44),1,0)} -> 0 | P44: 2 | Q44: 1200 | R44: 1300 | S44: 8 | Z44: 18 | AD44: 5 | AK44: 12 | AO44: 4 | AV44: 11 | AZ44: 1 | BG44: 3 | BJ44: 1 | BR44: 1 | DC44: 1 | EV44: =IF(R44>=1,1,0) -> 1 | EW44: =S44+AD44+AO44+AZ44+BK44+BV44+CG44+CR44+DC44+DN44+DY44 -> 19 | EX44: =T44+AE44+AP44+BA44+BL44+BW44+CH44+CS44+DD44+DO44+DZ44 -> 0 | EY44: =U44+AF44+AQ44+BB44+BM44+BX44+CI44+CT44+DE44+DP44+EA44 -> 0 | EZ44: =V44+AG44+AR44+BC44+BN44+BY44+CJ44+CU44+DF44+DQ44+EB44 -> 0 | FA44: =W44+AH44+AS44+BD44+BO44+BZ44+CK44+CV44+DG44+DR44+EC44 -> 0 | FB44: =X44+AI44+AT44+BE44+BP44+CA44+CL44+CW44+DH44+DS44+ED44 -> 0 | FC44: =Y44+AJ44+AU44+BF44+BQ44+CB44+CM44+CX44+DI44+DT44+EE44 -> 0 | FD44: =Z44+AK44+AV44+BG44+BR44+CC44+CN44+CY44+DJ44+DU44+EF44 -> 45 | ... FG44: =AC44+AN44+AY44+BJ44+BU44+CF44+CQ44+DB44+DM44+DX44+EI44 -> 1 | FH44: =EW44+EX44+EY44+EZ44+FA44+FB44+FC44 -> 19 | FI44: =FD44+FE44+FF44+FG44+FH44 -> 65 | FJ44: =IF(EK44>=1,1,0) -> 0 | FK44: =IF(EP44>=1,1,0) -> 0
N45: 43 | O45: {=IF(OR(AE45:AJ45>0,AP45:AU45>0,BA45:BF45>0,BL45:BQ45>0,BW45:CB45>0,CH45:CM45>0,CS45:CX45,DD45:DI45>0,DO45:DT45>0,DZ45:EE45),1,0)} -> 0 | P45: 2 | Q45: 1300 | R45: 1400 | S45: 20 | Z45: 3 | AC45: 20 | AD45: 4 | AK45: 7 | AN45: 5 | AO45: 1 | AV45: 5 | AY45: 2 | AZ45: 3 | BG45: 1 | BJ45: 1 | BK45: 2 | BR45: 1 | BV45: 1 | DX45: 1 | EV45: =IF(R45>=1,1,0) -> 1 | EW45: =S45+AD45+AO45+AZ45+BK45+BV45+CG45+CR45+DC45+DN45+DY45 -> 31 | EX45: =T45+AE45+AP45+BA45+BL45+BW45+CH45+CS45+DD45+DO45+DZ45 -> 0 | EY45: =U45+AF45+AQ45+BB45+BM45+BX45+CI45+CT45+DE45+DP45+EA45 -> 0 | EZ45: =V45+AG45+AR45+BC45+BN45+BY45+CJ45+CU45+DF45+DQ45+EB45 -> 0 | FA45: =W45+AH45+AS45+BD45+BO45+BZ45+CK45+CV45+DG45+DR45+EC45 -> 0 | FB45: =X45+AI45+AT45+BE45+BP45+CA45+CL45+CW45+DH45+DS45+ED45 -> 0 | FC45: =Y45+AJ45+AU45+BF45+BQ45+CB45+CM45+CX45+DI45+DT45+EE45 -> 0 | FD45: =Z45+AK45+AV45+BG45+BR45+CC45+CN45+CY45+DJ45+DU45+EF45 -> 17 | ... FG45: =AC45+AN45+AY45+BJ45+BU45+CF45+CQ45+DB45+DM45+DX45+EI45 -> 29 | FH45: =EW45+EX45+EY45+EZ45+FA45+FB45+FC45 -> 31 | FI45: =FD45+FE45+FF45+FG45+FH45 -> 77 | FJ45: =IF(EK45>=1,1,0) -> 0 | FK45: =IF(EP45>=1,1,0) -> 0
N46: 44 | O46: {=IF(OR(AE46:AJ46>0,AP46:AU46>0,BA46:BF46>0,BL46:BQ46>0,BW46:CB46>0,CH46:CM46>0,CS46:CX46,DD46:DI46>0,DO46:DT46>0,DZ46:EE46),1,0)} -> 0 | P46: 2 | Q46: 1400 | R46: 1500 | S46: 7 | Z46: 3 | AA46: 2 | AD46: 3 | AK46: 3 | AL46: 1 | AO46: 3 | AV46: 3 | AW46: 1 | AZ46: 1 | BG46: 1 | BK46: 1 | BR46: 1 | DC46: 1 | EV46: =IF(R46>=1,1,0) -> 1 | EW46: =S46+AD46+AO46+AZ46+BK46+BV46+CG46+CR46+DC46+DN46+DY46 -> 16 | EX46: =T46+AE46+AP46+BA46+BL46+BW46+CH46+CS46+DD46+DO46+DZ46 -> 0 | EY46: =U46+AF46+AQ46+BB46+BM46+BX46+CI46+CT46+DE46+DP46+EA46 -> 0 | EZ46: =V46+AG46+AR46+BC46+BN46+BY46+CJ46+CU46+DF46+DQ46+EB46 -> 0 | FA46: =W46+AH46+AS46+BD46+BO46+BZ46+CK46+CV46+DG46+DR46+EC46 -> 0 | FB46: =X46+AI46+AT46+BE46+BP46+CA46+CL46+CW46+DH46+DS46+ED46 -> 0 | FC46: =Y46+AJ46+AU46+BF46+BQ46+CB46+CM46+CX46+DI46+DT46+EE46 -> 0 | FD46: =Z46+AK46+AV46+BG46+BR46+CC46+CN46+CY46+DJ46+DU46+EF46 -> 11 | ... FG46: =AC46+AN46+AY46+BJ46+BU46+CF46+CQ46+DB46+DM46+DX46+EI46 -> 0 | FH46: =EW46+EX46+EY46+EZ46+FA46+FB46+FC46 -> 16 | FI46: =FD46+FE46+FF46+FG46+FH46 -> 31 | FJ46: =IF(EK46>=1,1,0) -> 0 | FK46: =IF(EP46>=1,1,0) -> 0
N47: 45 | O47: {=IF(OR(AE47:AJ47>0,AP47:AU47>0,BA47:BF47>0,BL47:BQ47>0,BW47:CB47>0,CH47:CM47>0,CS47:CX47,DD47:DI47>0,DO47:DT47>0,DZ47:EE47),1,0)} -> 0 | P47: 2 | Q47: 1500 | R47: 1600 | S47: 38 | Z47: 5 | AA47: 3 | AC47: 0 | AD47: 27 | AK47: 2 | AL47: 1 | AO47: 9 | AV47: 1 | AW47: 1 | AZ47: 13 | BK47: 4 | EV47: =IF(R47>=1,1,0) -> 1 | EW47: =S47+AD47+AO47+AZ47+BK47+BV47+CG47+CR47+DC47+DN47+DY47 -> 91 | EX47: =T47+AE47+AP47+BA47+BL47+BW47+CH47+CS47+DD47+DO47+DZ47 -> 0 | EY47: =U47+AF47+AQ47+BB47+BM47+BX47+CI47+CT47+DE47+DP47+EA47 -> 0 | EZ47: =V47+AG47+AR47+BC47+BN47+BY47+CJ47+CU47+DF47+DQ47+EB47 -> 0 | FA47: =W47+AH47+AS47+BD47+BO47+BZ47+CK47+CV47+DG47+DR47+EC47 -> 0 | FB47: =X47+AI47+AT47+BE47+BP47+CA47+CL47+CW47+DH47+DS47+ED47 -> 0 | FC47: =Y47+AJ47+AU47+BF47+BQ47+CB47+CM47+CX47+DI47+DT47+EE47 -> 0 | FD47: =Z47+AK47+AV47+BG47+BR47+CC47+CN47+CY47+DJ47+DU47+EF47 -> 8 | ... FG47: =AC47+AN47+AY47+BJ47+BU47+CF47+CQ47+DB47+DM47+DX47+EI47 -> 0 | FH47: =EW47+EX47+EY47+EZ47+FA47+FB47+FC47 -> 91 | FI47: =FD47+FE47+FF47+FG47+FH47 -> 104 | FJ47: =IF(EK47>=1,1,0) -> 0 | FK47: =IF(EP47>=1,1,0) -> 0
N48: 46 | O48: {=IF(OR(AE48:AJ48>0,AP48:AU48>0,BA48:BF48>0,BL48:BQ48>0,BW48:CB48>0,CH48:CM48>0,CS48:CX48,DD48:DI48>0,DO48:DT48>0,DZ48:EE48),1,0)} -> 0 | P48: 2 | Q48: 1600 | R48: 1700 | S48: 27 | Z48: 3 | AA48: 4 | AC48: 4 | AD48: 14 | AK48: 1 | AL48: 10 | AN48: 4 | AO48: 4 | AW48: 5 | AZ48: 2 | BH48: 3 | EV48: =IF(R48>=1,1,0) -> 1 | EW48: =S48+AD48+AO48+AZ48+BK48+BV48+CG48+CR48+DC48+DN48+DY48 -> 47 | EX48: =T48+AE48+AP48+BA48+BL48+BW48+CH48+CS48+DD48+DO48+DZ48 -> 0 | EY48: =U48+AF48+AQ48+BB48+BM48+BX48+CI48+CT48+DE48+DP48+EA48 -> 0 | EZ48: =V48+AG48+AR48+BC48+BN48+BY48+CJ48+CU48+DF48+DQ48+EB48 -> 0 | FA48: =W48+AH48+AS48+BD48+BO48+BZ48+CK48+CV48+DG48+DR48+EC48 -> 0 | FB48: =X48+AI48+AT48+BE48+BP48+CA48+CL48+CW48+DH48+DS48+ED48 -> 0 | FC48: =Y48+AJ48+AU48+BF48+BQ48+CB48+CM48+CX48+DI48+DT48+EE48 -> 0 | FD48: =Z48+AK48+AV48+BG48+BR48+CC48+CN48+CY48+DJ48+DU48+EF48 -> 4 | ... FG48: =AC48+AN48+AY48+BJ48+BU48+CF48+CQ48+DB48+DM48+DX48+EI48 -> 8 | FH48: =EW48+EX48+EY48+EZ48+FA48+FB48+FC48 -> 47 | FI48: =FD48+FE48+FF48+FG48+FH48 -> 81 | FJ48: =IF(EK48>=1,1,0) -> 0 | FK48: =IF(EP48>=1,1,0) -> 0
N49: 47 | O49: {=IF(OR(AE49:AJ49>0,AP49:AU49>0,BA49:BF49>0,BL49:BQ49>0,BW49:CB49>0,CH49:CM49>0,CS49:CX49,DD49:DI49>0,DO49:DT49>0,DZ49:EE49),1,0)} -> 0 | P49: 2 | Q49: 1700 | R49: 1800 | S49: 18 | Z49: 16 | AA49: 3 | AD49: 17 | AK49: 5 | AL49: 4 | AO49: 7 | AW49: 3 | AZ49: 5 | BH49: 2 | BR49: 1 | CC49: 1 | EV49: =IF(R49>=1,1,0) -> 1 | EW49: =S49+AD49+AO49+AZ49+BK49+BV49+CG49+CR49+DC49+DN49+DY49 -> 47 | EX49: =T49+AE49+AP49+BA49+BL49+BW49+CH49+CS49+DD49+DO49+DZ49 -> 0 | EY49: =U49+AF49+AQ49+BB49+BM49+BX49+CI49+CT49+DE49+DP49+EA49 -> 0 | EZ49: =V49+AG49+AR49+BC49+BN49+BY49+CJ49+CU49+DF49+DQ49+EB49 -> 0 | FA49: =W49+AH49+AS49+BD49+BO49+BZ49+CK49+CV49+DG49+DR49+EC49 -> 0 | FB49: =X49+AI49+AT49+BE49+BP49+CA49+CL49+CW49+DH49+DS49+ED49 -> 0 | FC49: =Y49+AJ49+AU49+BF49+BQ49+CB49+CM49+CX49+DI49+DT49+EE49 -> 0 | FD49: =Z49+AK49+AV49+BG49+BR49+CC49+CN49+CY49+DJ49+DU49+EF49 -> 23 | ... FG49: =AC49+AN49+AY49+BJ49+BU49+CF49+CQ49+DB49+DM49+DX49+EI49 -> 0 | FH49: =EW49+EX49+EY49+EZ49+FA49+FB49+FC49 -> 47 | FI49: =FD49+FE49+FF49+FG49+FH49 -> 82 | FJ49: =IF(EK49>=1,1,0) -> 0 | FK49: =IF(EP49>=1,1,0) -> 0
N50: 48 | O50: {=IF(OR(AE50:AJ50>0,AP50:AU50>0,BA50:BF50>0,BL50:BQ50>0,BW50:CB50>0,CH50:CM50>0,CS50:CX50,DD50:DI50>0,DO50:DT50>0,DZ50:EE50),1,0)} -> 0 | P50: 2 | Q50: 1800 | R50: 1900 | S50: 33 | Z50: 8 | AC50: 1 | AD50: 44 | AK50: 13 | AO50: 18 | AV50: 2 | AY50: 1 | AZ50: 9 | BS50: 1 | EV50: =IF(R50>=1,1,0) -> 1 | EW50: =S50+AD50+AO50+AZ50+BK50+BV50+CG50+CR50+DC50+DN50+DY50 -> 104 | EX50: =T50+AE50+AP50+BA50+BL50+BW50+CH50+CS50+DD50+DO50+DZ50 -> 0 | EY50: =U50+AF50+AQ50+BB50+BM50+BX50+CI50+CT50+DE50+DP50+EA50 -> 0 | EZ50: =V50+AG50+AR50+BC50+BN50+BY50+CJ50+CU50+DF50+DQ50+EB50 -> 0 | FA50: =W50+AH50+AS50+BD50+BO50+BZ50+CK50+CV50+DG50+DR50+EC50 -> 0 | FB50: =X50+AI50+AT50+BE50+BP50+CA50+CL50+CW50+DH50+DS50+ED50 -> 0 | FC50: =Y50+AJ50+AU50+BF50+BQ50+CB50+CM50+CX50+DI50+DT50+EE50 -> 0 | FD50: =Z50+AK50+AV50+BG50+BR50+CC50+CN50+CY50+DJ50+DU50+EF50 -> 23 | ... FG50: =AC50+AN50+AY50+BJ50+BU50+CF50+CQ50+DB50+DM50+DX50+EI50 -> 2 | FH50: =EW50+EX50+EY50+EZ50+FA50+FB50+FC50 -> 104 | FI50: =FD50+FE50+FF50+FG50+FH50 -> 130 | FJ50: =IF(EK50>=1,1,0) -> 0 | FK50: =IF(EP50>=1,1,0) -> 0
N51: 49 | O51: {=IF(OR(AE51:AJ51>0,AP51:AU51>0,BA51:BF51>0,BL51:BQ51>0,BW51:CB51>0,CH51:CM51>0,CS51:CX51,DD51:DI51>0,DO51:DT51>0,DZ51:EE51),1,0)} -> 0 | P51: 2 | Q51: 1900 | R51: 2000 | S51: 17 | AA51: 2 | AD51: 9 | AK51: 1 | AL51: 5 | AN51: 4 | AO51: 2 | AV51: 1 | AW51: 1 | AY51: 2 | AZ51: 3 | BH51: 2 | BJ51: 3 | BK51: 1 | BU51: 1 | CO51: 1 | CZ51: 1 | EV51: =IF(R51>=1,1,0) -> 1 | EW51: =S51+AD51+AO51+AZ51+BK51+BV51+CG51+CR51+DC51+DN51+DY51 -> 32 | EX51: =T51+AE51+AP51+BA51+BL51+BW51+CH51+CS51+DD51+DO51+DZ51 -> 0 | EY51: =U51+AF51+AQ51+BB51+BM51+BX51+CI51+CT51+DE51+DP51+EA51 -> 0 | EZ51: =V51+AG51+AR51+BC51+BN51+BY51+CJ51+CU51+DF51+DQ51+EB51 -> 0 | FA51: =W51+AH51+AS51+BD51+BO51+BZ51+CK51+CV51+DG51+DR51+EC51 -> 0 | FB51: =X51+AI51+AT51+BE51+BP51+CA51+CL51+CW51+DH51+DS51+ED51 -> 0 | FC51: =Y51+AJ51+AU51+BF51+BQ51+CB51+CM51+CX51+DI51+DT51+EE51 -> 0 | FD51: =Z51+AK51+AV51+BG51+BR51+CC51+CN51+CY51+DJ51+DU51+EF51 -> 2 | ... FG51: =AC51+AN51+AY51+BJ51+BU51+CF51+CQ51+DB51+DM51+DX51+EI51 -> 10 | FH51: =EW51+EX51+EY51+EZ51+FA51+FB51+FC51 -> 32 | FI51: =FD51+FE51+FF51+FG51+FH51 -> 56 | FJ51: =IF(EK51>=1,1,0) -> 0 | FK51: =IF(EP51>=1,1,0) -> 0
N52: 50 | O52: {=IF(OR(AE52:AJ52>0,AP52:AU52>0,BA52:BF52>0,BL52:BQ52>0,BW52:CB52>0,CH52:CM52>0,CS52:CX52,DD52:DI52>0,DO52:DT52>0,DZ52:EE52),1,0)} -> 0 | P52: 2 | Q52: 2000 | R52: 2100 | S52: 18 | Z52: 7 | AA52: 2 | AC52: 2 | AD52: 8 | AK52: 5 | AL52: 2 | AN52: 8 | AO52: 4 | AW52: 1 | AY52: 2 | AZ52: 2 | BH52: 1 | BJ52: 2 | BU52: 1 | EV52: =IF(R52>=1,1,0) -> 1 | EW52: =S52+AD52+AO52+AZ52+BK52+BV52+CG52+CR52+DC52+DN52+DY52 -> 32 | EX52: =T52+AE52+AP52+BA52+BL52+BW52+CH52+CS52+DD52+DO52+DZ52 -> 0 | EY52: =U52+AF52+AQ52+BB52+BM52+BX52+CI52+CT52+DE52+DP52+EA52 -> 0 | EZ52: =V52+AG52+AR52+BC52+BN52+BY52+CJ52+CU52+DF52+DQ52+EB52 -> 0 | FA52: =W52+AH52+AS52+BD52+BO52+BZ52+CK52+CV52+DG52+DR52+EC52 -> 0 | FB52: =X52+AI52+AT52+BE52+BP52+CA52+CL52+CW52+DH52+DS52+ED52 -> 0 | FC52: =Y52+AJ52+AU52+BF52+BQ52+CB52+CM52+CX52+DI52+DT52+EE52 -> 0 | FD52: =Z52+AK52+AV52+BG52+BR52+CC52+CN52+CY52+DJ52+DU52+EF52 -> 12 | ... FG52: =AC52+AN52+AY52+BJ52+BU52+CF52+CQ52+DB52+DM52+DX52+EI52 -> 15 | FH52: =EW52+EX52+EY52+EZ52+FA52+FB52+FC52 -> 32 | FI52: =FD52+FE52+FF52+FG52+FH52 -> 65 | FJ52: =IF(EK52>=1,1,0) -> 0 | FK52: =IF(EP52>=1,1,0) -> 0
N53: 51 | O53: {=IF(OR(AE53:AJ53>0,AP53:AU53>0,BA53:BF53>0,BL53:BQ53>0,BW53:CB53>0,CH53:CM53>0,CS53:CX53,DD53:DI53>0,DO53:DT53>0,DZ53:EE53),1,0)} -> 0 | P53: 2 | Q53: 2100 | R53: 2200 | S53: 10 | Z53: 4 | AC53: 10 | AD53: 7 | AK53: 4 | AN53: 10 | AO53: 3 | AV53: 2 | AY53: 2 | AZ53: 2 | BG53: 2 | BJ53: 1 | BR53: 2 | EV53: =IF(R53>=1,1,0) -> 1 | EW53: =S53+AD53+AO53+AZ53+BK53+BV53+CG53+CR53+DC53+DN53+DY53 -> 22 | EX53: =T53+AE53+AP53+BA53+BL53+BW53+CH53+CS53+DD53+DO53+DZ53 -> 0 | EY53: =U53+AF53+AQ53+BB53+BM53+BX53+CI53+CT53+DE53+DP53+EA53 -> 0 | EZ53: =V53+AG53+AR53+BC53+BN53+BY53+CJ53+CU53+DF53+DQ53+EB53 -> 0 | FA53: =W53+AH53+AS53+BD53+BO53+BZ53+CK53+CV53+DG53+DR53+EC53 -> 0 | FB53: =X53+AI53+AT53+BE53+BP53+CA53+CL53+CW53+DH53+DS53+ED53 -> 0 | FC53: =Y53+AJ53+AU53+BF53+BQ53+CB53+CM53+CX53+DI53+DT53+EE53 -> 0 | FD53: =Z53+AK53+AV53+BG53+BR53+CC53+CN53+CY53+DJ53+DU53+EF53 -> 14 | ... FG53: =AC53+AN53+AY53+BJ53+BU53+CF53+CQ53+DB53+DM53+DX53+EI53 -> 23 | FH53: =EW53+EX53+EY53+EZ53+FA53+FB53+FC53 -> 22 | FI53: =FD53+FE53+FF53+FG53+FH53 -> 59 | FJ53: =IF(EK53>=1,1,0) -> 0 | FK53: =IF(EP53>=1,1,0) -> 0
N54: 52 | O54: {=IF(OR(AE54:AJ54>0,AP54:AU54>0,BA54:BF54>0,BL54:BQ54>0,BW54:CB54>0,CH54:CM54>0,CS54:CX54,DD54:DI54>0,DO54:DT54>0,DZ54:EE54),1,0)} -> 0 | P54: 2 | Q54: 2200 | R54: 2300 | S54: 30 | Z54: 23 | AD54: 26 | AK54: 11 | AN54: 5 | AO54: 6 | AV54: 3 | AY54: 2 | AZ54: 1 | BG54: 1 | EV54: =IF(R54>=1,1,0) -> 1 | EW54: =S54+AD54+AO54+AZ54+BK54+BV54+CG54+CR54+DC54+DN54+DY54 -> 63 | EX54: =T54+AE54+AP54+BA54+BL54+BW54+CH54+CS54+DD54+DO54+DZ54 -> 0 | EY54: =U54+AF54+AQ54+BB54+BM54+BX54+CI54+CT54+DE54+DP54+EA54 -> 0 | EZ54: =V54+AG54+AR54+BC54+BN54+BY54+CJ54+CU54+DF54+DQ54+EB54 -> 0 | FA54: =W54+AH54+AS54+BD54+BO54+BZ54+CK54+CV54+DG54+DR54+EC54 -> 0 | FB54: =X54+AI54+AT54+BE54+BP54+CA54+CL54+CW54+DH54+DS54+ED54 -> 0 | FC54: =Y54+AJ54+AU54+BF54+BQ54+CB54+CM54+CX54+DI54+DT54+EE54 -> 0 | FD54: =Z54+AK54+AV54+BG54+BR54+CC54+CN54+CY54+DJ54+DU54+EF54 -> 38 | ... FG54: =AC54+AN54+AY54+BJ54+BU54+CF54+CQ54+DB54+DM54+DX54+EI54 -> 7 | FH54: =EW54+EX54+EY54+EZ54+FA54+FB54+FC54 -> 63 | FI54: =FD54+FE54+FF54+FG54+FH54 -> 108 | FJ54: =IF(EK54>=1,1,0) -> 0 | FK54: =IF(EP54>=1,1,0) -> 0
N55: 53 | O55: {=IF(OR(AE55:AJ55>0,AP55:AU55>0,BA55:BF55>0,BL55:BQ55>0,BW55:CB55>0,CH55:CM55>0,CS55:CX55,DD55:DI55>0,DO55:DT55>0,DZ55:EE55),1,0)} -> 0 | P55: 2 | Q55: 2300 | R55: 2400 | S55: 14 | Z55: 12 | AC55: 6 | AD55: 11 | AK55: 1 | AN55: 7 | AO55: 3 | AY55: 4 | AZ55: 1 | BJ55: 2 | EV55: =IF(R55>=1,1,0) -> 1 | EW55: =S55+AD55+AO55+AZ55+BK55+BV55+CG55+CR55+DC55+DN55+DY55 -> 29 | EX55: =T55+AE55+AP55+BA55+BL55+BW55+CH55+CS55+DD55+DO55+DZ55 -> 0 | EY55: =U55+AF55+AQ55+BB55+BM55+BX55+CI55+CT55+DE55+DP55+EA55 -> 0 | EZ55: =V55+AG55+AR55+BC55+BN55+BY55+CJ55+CU55+DF55+DQ55+EB55 -> 0 | FA55: =W55+AH55+AS55+BD55+BO55+BZ55+CK55+CV55+DG55+DR55+EC55 -> 0 | FB55: =X55+AI55+AT55+BE55+BP55+CA55+CL55+CW55+DH55+DS55+ED55 -> 0 | FC55: =Y55+AJ55+AU55+BF55+BQ55+CB55+CM55+CX55+DI55+DT55+EE55 -> 0 | FD55: =Z55+AK55+AV55+BG55+BR55+CC55+CN55+CY55+DJ55+DU55+EF55 -> 13 | ... FG55: =AC55+AN55+AY55+BJ55+BU55+CF55+CQ55+DB55+DM55+DX55+EI55 -> 19 | FH55: =EW55+EX55+EY55+EZ55+FA55+FB55+FC55 -> 29 | FI55: =FD55+FE55+FF55+FG55+FH55 -> 61 | FJ55: =IF(EK55>=1,1,0) -> 0 | FK55: =IF(EP55>=1,1,0) -> 0
N56: 54 | O56: {=IF(OR(AE56:AJ56>0,AP56:AU56>0,BA56:BF56>0,BL56:BQ56>0,BW56:CB56>0,CH56:CM56>0,CS56:CX56,DD56:DI56>0,DO56:DT56>0,DZ56:EE56),1,0)} -> 1 | P56: 2 | Q56: 2400 | R56: 2500 | S56: 5 | Z56: 3 | AC56: 2 | AD56: 7 | AK56: 11 | AN56: 1 | AO56: 8 | AV56: 5 | AY56: 4 | AZ56: 8 | BC56: 1 | BG56: 4 | BJ56: 2 | BK56: 4 | BN56: 1 | BV56: 5 | CG56: 1 | DN56: 1 | DO56: 0 | EV56: =IF(R56>=1,1,0) -> 1 | EW56: =S56+AD56+AO56+AZ56+BK56+BV56+CG56+CR56+DC56+DN56+DY56 -> 39 | EX56: =T56+AE56+AP56+BA56+BL56+BW56+CH56+CS56+DD56+DO56+DZ56 -> 0 | EY56: =U56+AF56+AQ56+BB56+BM56+BX56+CI56+CT56+DE56+DP56+EA56 -> 0 | EZ56: =V56+AG56+AR56+BC56+BN56+BY56+CJ56+CU56+DF56+DQ56+EB56 -> 2 | FA56: =W56+AH56+AS56+BD56+BO56+BZ56+CK56+CV56+DG56+DR56+EC56 -> 0 | FB56: =X56+AI56+AT56+BE56+BP56+CA56+CL56+CW56+DH56+DS56+ED56 -> 0 | FC56: =Y56+AJ56+AU56+BF56+BQ56+CB56+CM56+CX56+DI56+DT56+EE56 -> 0 | FD56: =Z56+AK56+AV56+BG56+BR56+CC56+CN56+CY56+DJ56+DU56+EF56 -> 23 | ... FG56: =AC56+AN56+AY56+BJ56+BU56+CF56+CQ56+DB56+DM56+DX56+EI56 -> 9 | FH56: =EW56+EX56+EY56+EZ56+FA56+FB56+FC56 -> 41 | FI56: =FD56+FE56+FF56+FG56+FH56 -> 73 | FJ56: =IF(EK56>=1,1,0) -> 0 | FK56: =IF(EP56>=1,1,0) -> 0
N57: 55 | O57: {=IF(OR(AE57:AJ57>0,AP57:AU57>0,BA57:BF57>0,BL57:BQ57>0,BW57:CB57>0,CH57:CM57>0,CS57:CX57,DD57:DI57>0,DO57:DT57>0,DZ57:EE57),1,0)} -> 0 | P57: 2 | Q57: 2500 | R57: 2600 | S57: 5 | Z57: 19 | AD57: 1 | AK57: 13 | AN57: 2 | AO57: 2 | AV57: 4 | AY57: 7 | AZ57: 2 | BG57: 3 | BJ57: 2 | BR57: 1 | BV57: 1 | EV57: =IF(R57>=1,1,0) -> 1 | EW57: =S57+AD57+AO57+AZ57+BK57+BV57+CG57+CR57+DC57+DN57+DY57 -> 11 | EX57: =T57+AE57+AP57+BA57+BL57+BW57+CH57+CS57+DD57+DO57+DZ57 -> 0 | EY57: =U57+AF57+AQ57+BB57+BM57+BX57+CI57+CT57+DE57+DP57+EA57 -> 0 | EZ57: =V57+AG57+AR57+BC57+BN57+BY57+CJ57+CU57+DF57+DQ57+EB57 -> 0 | FA57: =W57+AH57+AS57+BD57+BO57+BZ57+CK57+CV57+DG57+DR57+EC57 -> 0 | FB57: =X57+AI57+AT57+BE57+BP57+CA57+CL57+CW57+DH57+DS57+ED57 -> 0 | FC57: =Y57+AJ57+AU57+BF57+BQ57+CB57+CM57+CX57+DI57+DT57+EE57 -> 0 | FD57: =Z57+AK57+AV57+BG57+BR57+CC57+CN57+CY57+DJ57+DU57+EF57 -> 40 | ... FG57: =AC57+AN57+AY57+BJ57+BU57+CF57+CQ57+DB57+DM57+DX57+EI57 -> 11 | FH57: =EW57+EX57+EY57+EZ57+FA57+FB57+FC57 -> 11 | FI57: =FD57+FE57+FF57+FG57+FH57 -> 62 | FJ57: =IF(EK57>=1,1,0) -> 0 | FK57: =IF(EP57>=1,1,0) -> 0
N58: 56 | O58: {=IF(OR(AE58:AJ58>0,AP58:AU58>0,BA58:BF58>0,BL58:BQ58>0,BW58:CB58>0,CH58:CM58>0,CS58:CX58,DD58:DI58>0,DO58:DT58>0,DZ58:EE58),1,0)} -> 0 | P58: 2 | Q58: 2600 | R58: 2700 | S58: 1 | Z58: 7 | AD58: 2 | AK58: 1 | AN58: 1 | AO58: 1 | AV58: 2 | AZ58: 2 | BG58: 2 | BJ58: 1 | BK58: 0 | BR58: 1 | CC58: 1 | EV58: =IF(R58>=1,1,0) -> 1 | EW58: =S58+AD58+AO58+AZ58+BK58+BV58+CG58+CR58+DC58+DN58+DY58 -> 6 | EX58: =T58+AE58+AP58+BA58+BL58+BW58+CH58+CS58+DD58+DO58+DZ58 -> 0 | EY58: =U58+AF58+AQ58+BB58+BM58+BX58+CI58+CT58+DE58+DP58+EA58 -> 0 | EZ58: =V58+AG58+AR58+BC58+BN58+BY58+CJ58+CU58+DF58+DQ58+EB58 -> 0 | FA58: =W58+AH58+AS58+BD58+BO58+BZ58+CK58+CV58+DG58+DR58+EC58 -> 0 | FB58: =X58+AI58+AT58+BE58+BP58+CA58+CL58+CW58+DH58+DS58+ED58 -> 0 | FC58: =Y58+AJ58+AU58+BF58+BQ58+CB58+CM58+CX58+DI58+DT58+EE58 -> 0 | FD58: =Z58+AK58+AV58+BG58+BR58+CC58+CN58+CY58+DJ58+DU58+EF58 -> 14 | ... FG58: =AC58+AN58+AY58+BJ58+BU58+CF58+CQ58+DB58+DM58+DX58+EI58 -> 2 | FH58: =EW58+EX58+EY58+EZ58+FA58+FB58+FC58 -> 6 | FI58: =FD58+FE58+FF58+FG58+FH58 -> 22 | FJ58: =IF(EK58>=1,1,0) -> 0 | FK58: =IF(EP58>=1,1,0) -> 0
N59: 57 | O59: {=IF(OR(AE59:AJ59>0,AP59:AU59>0,BA59:BF59>0,BL59:BQ59>0,BW59:CB59>0,CH59:CM59>0,CS59:CX59,DD59:DI59>0,DO59:DT59>0,DZ59:EE59),1,0)} -> 0 | P59: 2 | Q59: 2700 | R59: 2800 | S59: 8 | Z59: 10 | AC59: 1 | AD59: 6 | AK59: 2 | AO59: 3 | AV59: 2 | AZ59: 1 | BK59: 2 | CC59: 1 | EV59: =IF(R59>=1,1,0) -> 1 | EW59: =S59+AD59+AO59+AZ59+BK59+BV59+CG59+CR59+DC59+DN59+DY59 -> 20 | EX59: =T59+AE59+AP59+BA59+BL59+BW59+CH59+CS59+DD59+DO59+DZ59 -> 0 | EY59: =U59+AF59+AQ59+BB59+BM59+BX59+CI59+CT59+DE59+DP59+EA59 -> 0 | EZ59: =V59+AG59+AR59+BC59+BN59+BY59+CJ59+CU59+DF59+DQ59+EB59 -> 0 | FA59: =W59+AH59+AS59+BD59+BO59+BZ59+CK59+CV59+DG59+DR59+EC59 -> 0 | FB59: =X59+AI59+AT59+BE59+BP59+CA59+CL59+CW59+DH59+DS59+ED59 -> 0 | FC59: =Y59+AJ59+AU59+BF59+BQ59+CB59+CM59+CX59+DI59+DT59+EE59 -> 0 | FD59: =Z59+AK59+AV59+BG59+BR59+CC59+CN59+CY59+DJ59+DU59+EF59 -> 15 | ... FG59: =AC59+AN59+AY59+BJ59+BU59+CF59+CQ59+DB59+DM59+DX59+EI59 -> 1 | FH59: =EW59+EX59+EY59+EZ59+FA59+FB59+FC59 -> 20 | FI59: =FD59+FE59+FF59+FG59+FH59 -> 36 | FJ59: =IF(EK59>=1,1,0) -> 0 | FK59: =IF(EP59>=1,1,0) -> 0
N60: 58 | O60: {=IF(OR(AE60:AJ60>0,AP60:AU60>0,BA60:BF60>0,BL60:BQ60>0,BW60:CB60>0,CH60:CM60>0,CS60:CX60,DD60:DI60>0,DO60:DT60>0,DZ60:EE60),1,0)} -> 0 | P60: 3 | Q60: 0 | R60: 100 | S60: 8 | Z60: 2 | AC60: 12 | AD60: 7 | AK60: 4 | AN60: 6 | AO60: 1 | AY60: 1 | EV60: =IF(R60>=1,1,0) -> 1 | EW60: =S60+AD60+AO60+AZ60+BK60+BV60+CG60+CR60+DC60+DN60+DY60 -> 16 | EX60: =T60+AE60+AP60+BA60+BL60+BW60+CH60+CS60+DD60+DO60+DZ60 -> 0 | EY60: =U60+AF60+AQ60+BB60+BM60+BX60+CI60+CT60+DE60+DP60+EA60 -> 0 | EZ60: =V60+AG60+AR60+BC60+BN60+BY60+CJ60+CU60+DF60+DQ60+EB60 -> 0 | FA60: =W60+AH60+AS60+BD60+BO60+BZ60+CK60+CV60+DG60+DR60+EC60 -> 0 | FB60: =X60+AI60+AT60+BE60+BP60+CA60+CL60+CW60+DH60+DS60+ED60 -> 0 | FC60: =Y60+AJ60+AU60+BF60+BQ60+CB60+CM60+CX60+DI60+DT60+EE60 -> 0 | FD60: =Z60+AK60+AV60+BG60+BR60+CC60+CN60+CY60+DJ60+DU60+EF60 -> 6 | ... FG60: =AC60+AN60+AY60+BJ60+BU60+CF60+CQ60+DB60+DM60+DX60+EI60 -> 19 | FH60: =EW60+EX60+EY60+EZ60+FA60+FB60+FC60 -> 16 | FI60: =FD60+FE60+FF60+FG60+FH60 -> 41 | FJ60: =IF(EK60>=1,1,0) -> 0 | FK60: =IF(EP60>=1,1,0) -> 0
N61: 59 | O61: {=IF(OR(AE61:AJ61>0,AP61:AU61>0,BA61:BF61>0,BL61:BQ61>0,BW61:CB61>0,CH61:CM61>0,CS61:CX61,DD61:DI61>0,DO61:DT61>0,DZ61:EE61),1,0)} -> 0 | P61: 3 | Q61: 100 | R61: 200 | S61: 7 | Z61: 14 | AC61: 16 | AD61: 7 | AK61: 6 | AN61: 12 | AY61: 3 | EV61: =IF(R61>=1,1,0) -> 1 | EW61: =S61+AD61+AO61+AZ61+BK61+BV61+CG61+CR61+DC61+DN61+DY61 -> 14 | EX61: =T61+AE61+AP61+BA61+BL61+BW61+CH61+CS61+DD61+DO61+DZ61 -> 0 | EY61: =U61+AF61+AQ61+BB61+BM61+BX61+CI61+CT61+DE61+DP61+EA61 -> 0 | EZ61: =V61+AG61+AR61+BC61+BN61+BY61+CJ61+CU61+DF61+DQ61+EB61 -> 0 | FA61: =W61+AH61+AS61+BD61+BO61+BZ61+CK61+CV61+DG61+DR61+EC61 -> 0 | FB61: =X61+AI61+AT61+BE61+BP61+CA61+CL61+CW61+DH61+DS61+ED61 -> 0 | FC61: =Y61+AJ61+AU61+BF61+BQ61+CB61+CM61+CX61+DI61+DT61+EE61 -> 0 | FD61: =Z61+AK61+AV61+BG61+BR61+CC61+CN61+CY61+DJ61+DU61+EF61 -> 20 | ... FG61: =AC61+AN61+AY61+BJ61+BU61+CF61+CQ61+DB61+DM61+DX61+EI61 -> 31 | FH61: =EW61+EX61+EY61+EZ61+FA61+FB61+FC61 -> 14 | FI61: =FD61+FE61+FF61+FG61+FH61 -> 65 | FJ61: =IF(EK61>=1,1,0) -> 0 | FK61: =IF(EP61>=1,1,0) -> 0
N62: 60 | O62: {=IF(OR(AE62:AJ62>0,AP62:AU62>0,BA62:BF62>0,BL62:BQ62>0,BW62:CB62>0,CH62:CM62>0,CS62:CX62,DD62:DI62>0,DO62:DT62>0,DZ62:EE62),1,0)} -> 0 | P62: 3 | Q62: 200 | R62: 300 | S62: 12 | Z62: 9 | AC62: 7 | AD62: 7 | AK62: 1 | AN62: 14 | AV62: 10 | AY62: 3 | AZ62: 1 | BG62: 2 | BJ62: 4 | BU62: 1 | EV62: =IF(R62>=1,1,0) -> 1 | EW62: =S62+AD62+AO62+AZ62+BK62+BV62+CG62+CR62+DC62+DN62+DY62 -> 20 | EX62: =T62+AE62+AP62+BA62+BL62+BW62+CH62+CS62+DD62+DO62+DZ62 -> 0 | EY62: =U62+AF62+AQ62+BB62+BM62+BX62+CI62+CT62+DE62+DP62+EA62 -> 0 | EZ62: =V62+AG62+AR62+BC62+BN62+BY62+CJ62+CU62+DF62+DQ62+EB62 -> 0 | FA62: =W62+AH62+AS62+BD62+BO62+BZ62+CK62+CV62+DG62+DR62+EC62 -> 0 | FB62: =X62+AI62+AT62+BE62+BP62+CA62+CL62+CW62+DH62+DS62+ED62 -> 0 | FC62: =Y62+AJ62+AU62+BF62+BQ62+CB62+CM62+CX62+DI62+DT62+EE62 -> 0 | FD62: =Z62+AK62+AV62+BG62+BR62+CC62+CN62+CY62+DJ62+DU62+EF62 -> 22 | ... FG62: =AC62+AN62+AY62+BJ62+BU62+CF62+CQ62+DB62+DM62+DX62+EI62 -> 29 | FH62: =EW62+EX62+EY62+EZ62+FA62+FB62+FC62 -> 20 | FI62: =FD62+FE62+FF62+FG62+FH62 -> 71 | FJ62: =IF(EK62>=1,1,0) -> 0 | FK62: =IF(EP62>=1,1,0) -> 0
N63: 61 | O63: {=IF(OR(AE63:AJ63>0,AP63:AU63>0,BA63:BF63>0,BL63:BQ63>0,BW63:CB63>0,CH63:CM63>0,CS63:CX63,DD63:DI63>0,DO63:DT63>0,DZ63:EE63),1,0)} -> 0 | P63: 3 | Q63: 300 | R63: 400 | S63: 6 | Z63: 1 | AC63: 20 | AD63: 4 | AN63: 14 | AO63: 1 | AY63: 6 | BJ63: 2 | BR63: 1 | BU63: 2 | CC63: 1 | CG63: 1 | CN63: 1 | CR63: 1 | EV63: =IF(R63>=1,1,0) -> 1 | EW63: =S63+AD63+AO63+AZ63+BK63+BV63+CG63+CR63+DC63+DN63+DY63 -> 13 | EX63: =T63+AE63+AP63+BA63+BL63+BW63+CH63+CS63+DD63+DO63+DZ63 -> 0 | EY63: =U63+AF63+AQ63+BB63+BM63+BX63+CI63+CT63+DE63+DP63+EA63 -> 0 | EZ63: =V63+AG63+AR63+BC63+BN63+BY63+CJ63+CU63+DF63+DQ63+EB63 -> 0 | FA63: =W63+AH63+AS63+BD63+BO63+BZ63+CK63+CV63+DG63+DR63+EC63 -> 0 | FB63: =X63+AI63+AT63+BE63+BP63+CA63+CL63+CW63+DH63+DS63+ED63 -> 0 | FC63: =Y63+AJ63+AU63+BF63+BQ63+CB63+CM63+CX63+DI63+DT63+EE63 -> 0 | FD63: =Z63+AK63+AV63+BG63+BR63+CC63+CN63+CY63+DJ63+DU63+EF63 -> 4 | ... FG63: =AC63+AN63+AY63+BJ63+BU63+CF63+CQ63+DB63+DM63+DX63+EI63 -> 44 | FH63: =EW63+EX63+EY63+EZ63+FA63+FB63+FC63 -> 13 | FI63: =FD63+FE63+FF63+FG63+FH63 -> 61 | FJ63: =IF(EK63>=1,1,0) -> 0 | FK63: =IF(EP63>=1,1,0) -> 0
N64: 62 | O64: {=IF(OR(AE64:AJ64>0,AP64:AU64>0,BA64:BF64>0,BL64:BQ64>0,BW64:CB64>0,CH64:CM64>0,CS64:CX64,DD64:DI64>0,DO64:DT64>0,DZ64:EE64),1,0)} -> 0 | P64: 3 | Q64: 400 | R64: 500 | S64: 9 | Z64: 2 | AC64: 1 | AD64: 16 | AK64: 5 | AN64: 6 | AO64: 10 | AY64: 6 | AZ64: 2 | BI64: 0 | BJ64: 1 | BK64: 2 | BU64: 1 | EV64: =IF(R64>=1,1,0) -> 1 | EW64: =S64+AD64+AO64+AZ64+BK64+BV64+CG64+CR64+DC64+DN64+DY64 -> 39 | EX64: =T64+AE64+AP64+BA64+BL64+BW64+CH64+CS64+DD64+DO64+DZ64 -> 0 | EY64: =U64+AF64+AQ64+BB64+BM64+BX64+CI64+CT64+DE64+DP64+EA64 -> 0 | EZ64: =V64+AG64+AR64+BC64+BN64+BY64+CJ64+CU64+DF64+DQ64+EB64 -> 0 | FA64: =W64+AH64+AS64+BD64+BO64+BZ64+CK64+CV64+DG64+DR64+EC64 -> 0 | FB64: =X64+AI64+AT64+BE64+BP64+CA64+CL64+CW64+DH64+DS64+ED64 -> 0 | FC64: =Y64+AJ64+AU64+BF64+BQ64+CB64+CM64+CX64+DI64+DT64+EE64 -> 0 | FD64: =Z64+AK64+AV64+BG64+BR64+CC64+CN64+CY64+DJ64+DU64+EF64 -> 7 | ... FG64: =AC64+AN64+AY64+BJ64+BU64+CF64+CQ64+DB64+DM64+DX64+EI64 -> 15 | FH64: =EW64+EX64+EY64+EZ64+FA64+FB64+FC64 -> 39 | FI64: =FD64+FE64+FF64+FG64+FH64 -> 61 | FJ64: =IF(EK64>=1,1,0) -> 0 | FK64: =IF(EP64>=1,1,0) -> 0
N65: 63 | O65: {=IF(OR(AE65:AJ65>0,AP65:AU65>0,BA65:BF65>0,BL65:BQ65>0,BW65:CB65>0,CH65:CM65>0,CS65:CX65,DD65:DI65>0,DO65:DT65>0,DZ65:EE65),1,0)} -> 0 | P65: 3 | Q65: 500 | R65: 600 | S65: 10 | Z65: 2 | AC65: 1 | AD65: 15 | AK65: 1 | AN65: 1 | AO65: 3 | AV65: 2 | AY65: 1 | AZ65: 3 | BG65: 1 | BJ65: 2 | EV65: =IF(R65>=1,1,0) -> 1 | EW65: =S65+AD65+AO65+AZ65+BK65+BV65+CG65+CR65+DC65+DN65+DY65 -> 31 | EX65: =T65+AE65+AP65+BA65+BL65+BW65+CH65+CS65+DD65+DO65+DZ65 -> 0 | EY65: =U65+AF65+AQ65+BB65+BM65+BX65+CI65+CT65+DE65+DP65+EA65 -> 0 | EZ65: =V65+AG65+AR65+BC65+BN65+BY65+CJ65+CU65+DF65+DQ65+EB65 -> 0 | FA65: =W65+AH65+AS65+BD65+BO65+BZ65+CK65+CV65+DG65+DR65+EC65 -> 0 | FB65: =X65+AI65+AT65+BE65+BP65+CA65+CL65+CW65+DH65+DS65+ED65 -> 0 | FC65: =Y65+AJ65+AU65+BF65+BQ65+CB65+CM65+CX65+DI65+DT65+EE65 -> 0 | FD65: =Z65+AK65+AV65+BG65+BR65+CC65+CN65+CY65+DJ65+DU65+EF65 -> 6 | ... FG65: =AC65+AN65+AY65+BJ65+BU65+CF65+CQ65+DB65+DM65+DX65+EI65 -> 5 | FH65: =EW65+EX65+EY65+EZ65+FA65+FB65+FC65 -> 31 | FI65: =FD65+FE65+FF65+FG65+FH65 -> 42 | FJ65: =IF(EK65>=1,1,0) -> 0 | FK65: =IF(EP65>=1,1,0) -> 0
N66: 64 | O66: {=IF(OR(AE66:AJ66>0,AP66:AU66>0,BA66:BF66>0,BL66:BQ66>0,BW66:CB66>0,CH66:CM66>0,CS66:CX66,DD66:DI66>0,DO66:DT66>0,DZ66:EE66),1,0)} -> 0 | P66: 3 | Q66: 600 | R66: 700 | S66: 7 | Z66: 4 | AD66: 13 | AK66: 6 | AL66: 1 | AN66: 3 | AO66: 5 | AV66: 2 | AW66: 2 | AY66: 1 | AZ66: 6 | BG66: 1 | BH66: 1 | BJ66: 1 | BK66: 2 | EV66: =IF(R66>=1,1,0) -> 1 | EW66: =S66+AD66+AO66+AZ66+BK66+BV66+CG66+CR66+DC66+DN66+DY66 -> 33 | EX66: =T66+AE66+AP66+BA66+BL66+BW66+CH66+CS66+DD66+DO66+DZ66 -> 0 | EY66: =U66+AF66+AQ66+BB66+BM66+BX66+CI66+CT66+DE66+DP66+EA66 -> 0 | EZ66: =V66+AG66+AR66+BC66+BN66+BY66+CJ66+CU66+DF66+DQ66+EB66 -> 0 | FA66: =W66+AH66+AS66+BD66+BO66+BZ66+CK66+CV66+DG66+DR66+EC66 -> 0 | FB66: =X66+AI66+AT66+BE66+BP66+CA66+CL66+CW66+DH66+DS66+ED66 -> 0 | FC66: =Y66+AJ66+AU66+BF66+BQ66+CB66+CM66+CX66+DI66+DT66+EE66 -> 0 | FD66: =Z66+AK66+AV66+BG66+BR66+CC66+CN66+CY66+DJ66+DU66+EF66 -> 13 | ... FG66: =AC66+AN66+AY66+BJ66+BU66+CF66+CQ66+DB66+DM66+DX66+EI66 -> 5 | FH66: =EW66+EX66+EY66+EZ66+FA66+FB66+FC66 -> 33 | FI66: =FD66+FE66+FF66+FG66+FH66 -> 55 | FJ66: =IF(EK66>=1,1,0) -> 0 | FK66: =IF(EP66>=1,1,0) -> 0
N67: 65 | O67: {=IF(OR(AE67:AJ67>0,AP67:AU67>0,BA67:BF67>0,BL67:BQ67>0,BW67:CB67>0,CH67:CM67>0,CS67:CX67,DD67:DI67>0,DO67:DT67>0,DZ67:EE67),1,0)} -> 0 | P67: 3 | Q67: 700 | R67: 800 | S67: 8 | AD67: 10 | AK67: 1 | AO67: 1 | AY67: 1 | AZ67: 3 | BG67: 2 | BK67: 2 | EV67: =IF(R67>=1,1,0) -> 1 | EW67: =S67+AD67+AO67+AZ67+BK67+BV67+CG67+CR67+DC67+DN67+DY67 -> 24 | EX67: =T67+AE67+AP67+BA67+BL67+BW67+CH67+CS67+DD67+DO67+DZ67 -> 0 | EY67: =U67+AF67+AQ67+BB67+BM67+BX67+CI67+CT67+DE67+DP67+EA67 -> 0 | EZ67: =V67+AG67+AR67+BC67+BN67+BY67+CJ67+CU67+DF67+DQ67+EB67 -> 0 | FA67: =W67+AH67+AS67+BD67+BO67+BZ67+CK67+CV67+DG67+DR67+EC67 -> 0 | FB67: =X67+AI67+AT67+BE67+BP67+CA67+CL67+CW67+DH67+DS67+ED67 -> 0 | FC67: =Y67+AJ67+AU67+BF67+BQ67+CB67+CM67+CX67+DI67+DT67+EE67 -> 0 | FD67: =Z67+AK67+AV67+BG67+BR67+CC67+CN67+CY67+DJ67+DU67+EF67 -> 3 | ... FG67: =AC67+AN67+AY67+BJ67+BU67+CF67+CQ67+DB67+DM67+DX67+EI67 -> 1 | FH67: =EW67+EX67+EY67+EZ67+FA67+FB67+FC67 -> 24 | FI67: =FD67+FE67+FF67+FG67+FH67 -> 28 | FJ67: =IF(EK67>=1,1,0) -> 0 | FK67: =IF(EP67>=1,1,0) -> 0
N68: 66 | O68: {=IF(OR(AE68:AJ68>0,AP68:AU68>0,BA68:BF68>0,BL68:BQ68>0,BW68:CB68>0,CH68:CM68>0,CS68:CX68,DD68:DI68>0,DO68:DT68>0,DZ68:EE68),1,0)} -> 0 | P68: 3 | Q68: 800 | R68: 900 | S68: 11 | AD68: 7 | AK68: 9 | AO68: 1 | AY68: 1 | AZ68: 1 | EV68: =IF(R68>=1,1,0) -> 1 | EW68: =S68+AD68+AO68+AZ68+BK68+BV68+CG68+CR68+DC68+DN68+DY68 -> 20 | EX68: =T68+AE68+AP68+BA68+BL68+BW68+CH68+CS68+DD68+DO68+DZ68 -> 0 | EY68: =U68+AF68+AQ68+BB68+BM68+BX68+CI68+CT68+DE68+DP68+EA68 -> 0 | EZ68: =V68+AG68+AR68+BC68+BN68+BY68+CJ68+CU68+DF68+DQ68+EB68 -> 0 | FA68: =W68+AH68+AS68+BD68+BO68+BZ68+CK68+CV68+DG68+DR68+EC68 -> 0 | FB68: =X68+AI68+AT68+BE68+BP68+CA68+CL68+CW68+DH68+DS68+ED68 -> 0 | FC68: =Y68+AJ68+AU68+BF68+BQ68+CB68+CM68+CX68+DI68+DT68+EE68 -> 0 | FD68: =Z68+AK68+AV68+BG68+BR68+CC68+CN68+CY68+DJ68+DU68+EF68 -> 9 | ... FG68: =AC68+AN68+AY68+BJ68+BU68+CF68+CQ68+DB68+DM68+DX68+EI68 -> 1 | FH68: =EW68+EX68+EY68+EZ68+FA68+FB68+FC68 -> 20 | FI68: =FD68+FE68+FF68+FG68+FH68 -> 30 | FJ68: =IF(EK68>=1,1,0) -> 0 | FK68: =IF(EP68>=1,1,0) -> 0
N69: 67 | O69: {=IF(OR(AE69:AJ69>0,AP69:AU69>0,BA69:BF69>0,BL69:BQ69>0,BW69:CB69>0,CH69:CM69>0,CS69:CX69,DD69:DI69>0,DO69:DT69>0,DZ69:EE69),1,0)} -> 0 | P69: 3 | Q69: 900 | R69: 1000 | S69: 6 | EV69: =IF(R69>=1,1,0) -> 1 | EW69: =S69+AD69+AO69+AZ69+BK69+BV69+CG69+CR69+DC69+DN69+DY69 -> 6 | EX69: =T69+AE69+AP69+BA69+BL69+BW69+CH69+CS69+DD69+DO69+DZ69 -> 0 | EY69: =U69+AF69+AQ69+BB69+BM69+BX69+CI69+CT69+DE69+DP69+EA69 -> 0 | EZ69: =V69+AG69+AR69+BC69+BN69+BY69+CJ69+CU69+DF69+DQ69+EB69 -> 0 | FA69: =W69+AH69+AS69+BD69+BO69+BZ69+CK69+CV69+DG69+DR69+EC69 -> 0 | FB69: =X69+AI69+AT69+BE69+BP69+CA69+CL69+CW69+DH69+DS69+ED69 -> 0 | FC69: =Y69+AJ69+AU69+BF69+BQ69+CB69+CM69+CX69+DI69+DT69+EE69 -> 0 | FD69: =Z69+AK69+AV69+BG69+BR69+CC69+CN69+CY69+DJ69+DU69+EF69 -> 0 | ... FG69: =AC69+AN69+AY69+BJ69+BU69+CF69+CQ69+DB69+DM69+DX69+EI69 -> 0 | FH69: =EW69+EX69+EY69+EZ69+FA69+FB69+FC69 -> 6 | FI69: =FD69+FE69+FF69+FG69+FH69 -> 6 | FJ69: =IF(EK69>=1,1,0) -> 0 | FK69: =IF(EP69>=1,1,0) -> 0
N70: 68 | O70: {=IF(OR(AE70:AJ70>0,AP70:AU70>0,BA70:BF70>0,BL70:BQ70>0,BW70:CB70>0,CH70:CM70>0,CS70:CX70,DD70:DI70>0,DO70:DT70>0,DZ70:EE70),1,0)} -> 0 | P70: 3 | Q70: 1000 | R70: 1100 | S70: 13 | Z70: 0 | AD70: 18 | AK70: 6 | AO70: 2 | AV70: 1 | AZ70: 4 | BG70: 2 | BR70: 1 | EV70: =IF(R70>=1,1,0) -> 1 | EW70: =S70+AD70+AO70+AZ70+BK70+BV70+CG70+CR70+DC70+DN70+DY70 -> 37 | EX70: =T70+AE70+AP70+BA70+BL70+BW70+CH70+CS70+DD70+DO70+DZ70 -> 0 | EY70: =U70+AF70+AQ70+BB70+BM70+BX70+CI70+CT70+DE70+DP70+EA70 -> 0 | EZ70: =V70+AG70+AR70+BC70+BN70+BY70+CJ70+CU70+DF70+DQ70+EB70 -> 0 | FA70: =W70+AH70+AS70+BD70+BO70+BZ70+CK70+CV70+DG70+DR70+EC70 -> 0 | FB70: =X70+AI70+AT70+BE70+BP70+CA70+CL70+CW70+DH70+DS70+ED70 -> 0 | FC70: =Y70+AJ70+AU70+BF70+BQ70+CB70+CM70+CX70+DI70+DT70+EE70 -> 0 | FD70: =Z70+AK70+AV70+BG70+BR70+CC70+CN70+CY70+DJ70+DU70+EF70 -> 10 | ... FG70: =AC70+AN70+AY70+BJ70+BU70+CF70+CQ70+DB70+DM70+DX70+EI70 -> 0 | FH70: =EW70+EX70+EY70+EZ70+FA70+FB70+FC70 -> 37 | FI70: =FD70+FE70+FF70+FG70+FH70 -> 47 | FJ70: =IF(EK70>=1,1,0) -> 0 | FK70: =IF(EP70>=1,1,0) -> 0
N71: 69 | O71: {=IF(OR(AE71:AJ71>0,AP71:AU71>0,BA71:BF71>0,BL71:BQ71>0,BW71:CB71>0,CH71:CM71>0,CS71:CX71,DD71:DI71>0,DO71:DT71>0,DZ71:EE71),1,0)} -> 0 | P71: 3 | Q71: 1100 | R71: 1200 | S71: 5 | AC71: 4 | AD71: 6 | AK71: 2 | AV71: 3 | EV71: =IF(R71>=1,1,0) -> 1 | EW71: =S71+AD71+AO71+AZ71+BK71+BV71+CG71+CR71+DC71+DN71+DY71 -> 11 | EX71: =T71+AE71+AP71+BA71+BL71+BW71+CH71+CS71+DD71+DO71+DZ71 -> 0 | EY71: =U71+AF71+AQ71+BB71+BM71+BX71+CI71+CT71+DE71+DP71+EA71 -> 0 | EZ71: =V71+AG71+AR71+BC71+BN71+BY71+CJ71+CU71+DF71+DQ71+EB71 -> 0 | FA71: =W71+AH71+AS71+BD71+BO71+BZ71+CK71+CV71+DG71+DR71+EC71 -> 0 | FB71: =X71+AI71+AT71+BE71+BP71+CA71+CL71+CW71+DH71+DS71+ED71 -> 0 | FC71: =Y71+AJ71+AU71+BF71+BQ71+CB71+CM71+CX71+DI71+DT71+EE71 -> 0 | FD71: =Z71+AK71+AV71+BG71+BR71+CC71+CN71+CY71+DJ71+DU71+EF71 -> 5 | ... FG71: =AC71+AN71+AY71+BJ71+BU71+CF71+CQ71+DB71+DM71+DX71+EI71 -> 4 | FH71: =EW71+EX71+EY71+EZ71+FA71+FB71+FC71 -> 11 | FI71: =FD71+FE71+FF71+FG71+FH71 -> 20 | FJ71: =IF(EK71>=1,1,0) -> 0 | FK71: =IF(EP71>=1,1,0) -> 0
N72: 70 | O72: {=IF(OR(AE72:AJ72>0,AP72:AU72>0,BA72:BF72>0,BL72:BQ72>0,BW72:CB72>0,CH72:CM72>0,CS72:CX72,DD72:DI72>0,DO72:DT72>0,DZ72:EE72),1,0)} -> 0 | P72: 3 | Q72: 1200 | R72: 1300 | S72: 6 | Z72: 1 | AC72: 1 | AD72: 3 | AN72: 1 | EV72: =IF(R72>=1,1,0) -> 1 | EW72: =S72+AD72+AO72+AZ72+BK72+BV72+CG72+CR72+DC72+DN72+DY72 -> 9 | EX72: =T72+AE72+AP72+BA72+BL72+BW72+CH72+CS72+DD72+DO72+DZ72 -> 0 | EY72: =U72+AF72+AQ72+BB72+BM72+BX72+CI72+CT72+DE72+DP72+EA72 -> 0 | EZ72: =V72+AG72+AR72+BC72+BN72+BY72+CJ72+CU72+DF72+DQ72+EB72 -> 0 | FA72: =W72+AH72+AS72+BD72+BO72+BZ72+CK72+CV72+DG72+DR72+EC72 -> 0 | FB72: =X72+AI72+AT72+BE72+BP72+CA72+CL72+CW72+DH72+DS72+ED72 -> 0 | FC72: =Y72+AJ72+AU72+BF72+BQ72+CB72+CM72+CX72+DI72+DT72+EE72 -> 0 | FD72: =Z72+AK72+AV72+BG72+BR72+CC72+CN72+CY72+DJ72+DU72+EF72 -> 1 | ... FG72: =AC72+AN72+AY72+BJ72+BU72+CF72+CQ72+DB72+DM72+DX72+EI72 -> 2 | FH72: =EW72+EX72+EY72+EZ72+FA72+FB72+FC72 -> 9 | FI72: =FD72+FE72+FF72+FG72+FH72 -> 12 | FJ72: =IF(EK72>=1,1,0) -> 0 | FK72: =IF(EP72>=1,1,0) -> 0
N73: 71 | O73: {=IF(OR(AE73:AJ73>0,AP73:AU73>0,BA73:BF73>0,BL73:BQ73>0,BW73:CB73>0,CH73:CM73>0,CS73:CX73,DD73:DI73>0,DO73:DT73>0,DZ73:EE73),1,0)} -> 0 | P73: 3 | Q73: 1300 | R73: 1400 | S73: 10 | AD73: 6 | AN73: 1 | AO73: 2 | EV73: =IF(R73>=1,1,0) -> 1 | EW73: =S73+AD73+AO73+AZ73+BK73+BV73+CG73+CR73+DC73+DN73+DY73 -> 18 | EX73: =T73+AE73+AP73+BA73+BL73+BW73+CH73+CS73+DD73+DO73+DZ73 -> 0 | EY73: =U73+AF73+AQ73+BB73+BM73+BX73+CI73+CT73+DE73+DP73+EA73 -> 0 | EZ73: =V73+AG73+AR73+BC73+BN73+BY73+CJ73+CU73+DF73+DQ73+EB73 -> 0 | FA73: =W73+AH73+AS73+BD73+BO73+BZ73+CK73+CV73+DG73+DR73+EC73 -> 0 | FB73: =X73+AI73+AT73+BE73+BP73+CA73+CL73+CW73+DH73+DS73+ED73 -> 0 | FC73: =Y73+AJ73+AU73+BF73+BQ73+CB73+CM73+CX73+DI73+DT73+EE73 -> 0 | FD73: =Z73+AK73+AV73+BG73+BR73+CC73+CN73+CY73+DJ73+DU73+EF73 -> 0 | ... FG73: =AC73+AN73+AY73+BJ73+BU73+CF73+CQ73+DB73+DM73+DX73+EI73 -> 1 | FH73: =EW73+EX73+EY73+EZ73+FA73+FB73+FC73 -> 18 | FI73: =FD73+FE73+FF73+FG73+FH73 -> 19 | FJ73: =IF(EK73>=1,1,0) -> 0 | FK73: =IF(EP73>=1,1,0) -> 0
N74: 72 | O74: {=IF(OR(AE74:AJ74>0,AP74:AU74>0,BA74:BF74>0,BL74:BQ74>0,BW74:CB74>0,CH74:CM74>0,CS74:CX74,DD74:DI74>0,DO74:DT74>0,DZ74:EE74),1,0)} -> 0 | P74: 3 | Q74: 1400 | R74: 1500 | S74: 18 | Z74: 1 | AD74: 14 | AK74: 1 | AO74: 1 | AZ74: 1 | EV74: =IF(R74>=1,1,0) -> 1 | EW74: =S74+AD74+AO74+AZ74+BK74+BV74+CG74+CR74+DC74+DN74+DY74 -> 34 | EX74: =T74+AE74+AP74+BA74+BL74+BW74+CH74+CS74+DD74+DO74+DZ74 -> 0 | EY74: =U74+AF74+AQ74+BB74+BM74+BX74+CI74+CT74+DE74+DP74+EA74 -> 0 | EZ74: =V74+AG74+AR74+BC74+BN74+BY74+CJ74+CU74+DF74+DQ74+EB74 -> 0 | FA74: =W74+AH74+AS74+BD74+BO74+BZ74+CK74+CV74+DG74+DR74+EC74 -> 0 | FB74: =X74+AI74+AT74+BE74+BP74+CA74+CL74+CW74+DH74+DS74+ED74 -> 0 | FC74: =Y74+AJ74+AU74+BF74+BQ74+CB74+CM74+CX74+DI74+DT74+EE74 -> 0 | FD74: =Z74+AK74+AV74+BG74+BR74+CC74+CN74+CY74+DJ74+DU74+EF74 -> 2 | ... FG74: =AC74+AN74+AY74+BJ74+BU74+CF74+CQ74+DB74+DM74+DX74+EI74 -> 0 | FH74: =EW74+EX74+EY74+EZ74+FA74+FB74+FC74 -> 34 | FI74: =FD74+FE74+FF74+FG74+FH74 -> 36 | FJ74: =IF(EK74>=1,1,0) -> 0 | FK74: =IF(EP74>=1,1,0) -> 0
N75: 73 | O75: {=IF(OR(AE75:AJ75>0,AP75:AU75>0,BA75:BF75>0,BL75:BQ75>0,BW75:CB75>0,CH75:CM75>0,CS75:CX75,DD75:DI75>0,DO75:DT75>0,DZ75:EE75),1,0)} -> 0 | P75: 3 | Q75: 1500 | R75: 1600 | S75: 15 | AD75: 6 | EV75: =IF(R75>=1,1,0) -> 1 | EW75: =S75+AD75+AO75+AZ75+BK75+BV75+CG75+CR75+DC75+DN75+DY75 -> 21 | EX75: =T75+AE75+AP75+BA75+BL75+BW75+CH75+CS75+DD75+DO75+DZ75 -> 0 | EY75: =U75+AF75+AQ75+BB75+BM75+BX75+CI75+CT75+DE75+DP75+EA75 -> 0 | EZ75: =V75+AG75+AR75+BC75+BN75+BY75+CJ75+CU75+DF75+DQ75+EB75 -> 0 | FA75: =W75+AH75+AS75+BD75+BO75+BZ75+CK75+CV75+DG75+DR75+EC75 -> 0 | FB75: =X75+AI75+AT75+BE75+BP75+CA75+CL75+CW75+DH75+DS75+ED75 -> 0 | FC75: =Y75+AJ75+AU75+BF75+BQ75+CB75+CM75+CX75+DI75+DT75+EE75 -> 0 | FD75: =Z75+AK75+AV75+BG75+BR75+CC75+CN75+CY75+DJ75+DU75+EF75 -> 0 | ... FG75: =AC75+AN75+AY75+BJ75+BU75+CF75+CQ75+DB75+DM75+DX75+EI75 -> 0 | FH75: =EW75+EX75+EY75+EZ75+FA75+FB75+FC75 -> 21 | FI75: =FD75+FE75+FF75+FG75+FH75 -> 21 | FJ75: =IF(EK75>=1,1,0) -> 0 | FK75: =IF(EP75>=1,1,0) -> 0
N76: 74 | O76: {=IF(OR(AE76:AJ76>0,AP76:AU76>0,BA76:BF76>0,BL76:BQ76>0,BW76:CB76>0,CH76:CM76>0,CS76:CX76,DD76:DI76>0,DO76:DT76>0,DZ76:EE76),1,0)} -> 0 | P76: 3 | Q76: 1600 | R76: 1700 | S76: 40 | Z76: 3 | AD76: 6 | AK76: 2 | AO76: 2 | AZ76: 1 | EV76: =IF(R76>=1,1,0) -> 1 | EW76: =S76+AD76+AO76+AZ76+BK76+BV76+CG76+CR76+DC76+DN76+DY76 -> 49 | EX76: =T76+AE76+AP76+BA76+BL76+BW76+CH76+CS76+DD76+DO76+DZ76 -> 0 | EY76: =U76+AF76+AQ76+BB76+BM76+BX76+CI76+CT76+DE76+DP76+EA76 -> 0 | EZ76: =V76+AG76+AR76+BC76+BN76+BY76+CJ76+CU76+DF76+DQ76+EB76 -> 0 | FA76: =W76+AH76+AS76+BD76+BO76+BZ76+CK76+CV76+DG76+DR76+EC76 -> 0 | FB76: =X76+AI76+AT76+BE76+BP76+CA76+CL76+CW76+DH76+DS76+ED76 -> 0 | FC76: =Y76+AJ76+AU76+BF76+BQ76+CB76+CM76+CX76+DI76+DT76+EE76 -> 0 | FD76: =Z76+AK76+AV76+BG76+BR76+CC76+CN76+CY76+DJ76+DU76+EF76 -> 5 | ... FG76: =AC76+AN76+AY76+BJ76+BU76+CF76+CQ76+DB76+DM76+DX76+EI76 -> 0 | FH76: =EW76+EX76+EY76+EZ76+FA76+FB76+FC76 -> 49 | FI76: =FD76+FE76+FF76+FG76+FH76 -> 54 | FJ76: =IF(EK76>=1,1,0) -> 0 | FK76: =IF(EP76>=1,1,0) -> 0
N77: 75 | O77: {=IF(OR(AE77:AJ77>0,AP77:AU77>0,BA77:BF77>0,BL77:BQ77>0,BW77:CB77>0,CH77:CM77>0,CS77:CX77,DD77:DI77>0,DO77:DT77>0,DZ77:EE77),1,0)} -> 0 | P77: 3 | Q77: 1700 | R77: 1800 | S77: 30 | Z77: 4 | AD77: 28 | AK77: 3 | AO77: 8 | AZ77: 3 | BG77: 1 | BK77: 1 | BV77: 1 | EV77: =IF(R77>=1,1,0) -> 1 | EW77: =S77+AD77+AO77+AZ77+BK77+BV77+CG77+CR77+DC77+DN77+DY77 -> 71 | EX77: =T77+AE77+AP77+BA77+BL77+BW77+CH77+CS77+DD77+DO77+DZ77 -> 0 | EY77: =U77+AF77+AQ77+BB77+BM77+BX77+CI77+CT77+DE77+DP77+EA77 -> 0 | EZ77: =V77+AG77+AR77+BC77+BN77+BY77+CJ77+CU77+DF77+DQ77+EB77 -> 0 | FA77: =W77+AH77+AS77+BD77+BO77+BZ77+CK77+CV77+DG77+DR77+EC77 -> 0 | FB77: =X77+AI77+AT77+BE77+BP77+CA77+CL77+CW77+DH77+DS77+ED77 -> 0 | FC77: =Y77+AJ77+AU77+BF77+BQ77+CB77+CM77+CX77+DI77+DT77+EE77 -> 0 | FD77: =Z77+AK77+AV77+BG77+BR77+CC77+CN77+CY77+DJ77+DU77+EF77 -> 8 | ... FG77: =AC77+AN77+AY77+BJ77+BU77+CF77+CQ77+DB77+DM77+DX77+EI77 -> 0 | FH77: =EW77+EX77+EY77+EZ77+FA77+FB77+FC77 -> 71 | FI77: =FD77+FE77+FF77+FG77+FH77 -> 79 | FJ77: =IF(EK77>=1,1,0) -> 0 | FK77: =IF(EP77>=1,1,0) -> 0
N78: 76 | O78: {=IF(OR(AE78:AJ78>0,AP78:AU78>0,BA78:BF78>0,BL78:BQ78>0,BW78:CB78>0,CH78:CM78>0,CS78:CX78,DD78:DI78>0,DO78:DT78>0,DZ78:EE78),1,0)} -> 0 | P78: 3 | Q78: 1800 | R78: 1900 | S78: 56 | Z78: 1 | AD78: 27 | AK78: 1 | AO78: 2 | AY78: 1 | AZ78: 2 | EV78: =IF(R78>=1,1,0) -> 1 | EW78: =S78+AD78+AO78+AZ78+BK78+BV78+CG78+CR78+DC78+DN78+DY78 -> 87 | EX78: =T78+AE78+AP78+BA78+BL78+BW78+CH78+CS78+DD78+DO78+DZ78 -> 0 | EY78: =U78+AF78+AQ78+BB78+BM78+BX78+CI78+CT78+DE78+DP78+EA78 -> 0 | EZ78: =V78+AG78+AR78+BC78+BN78+BY78+CJ78+CU78+DF78+DQ78+EB78 -> 0 | FA78: =W78+AH78+AS78+BD78+BO78+BZ78+CK78+CV78+DG78+DR78+EC78 -> 0 | FB78: =X78+AI78+AT78+BE78+BP78+CA78+CL78+CW78+DH78+DS78+ED78 -> 0 | FC78: =Y78+AJ78+AU78+BF78+BQ78+CB78+CM78+CX78+DI78+DT78+EE78 -> 0 | FD78: =Z78+AK78+AV78+BG78+BR78+CC78+CN78+CY78+DJ78+DU78+EF78 -> 2 | ... FG78: =AC78+AN78+AY78+BJ78+BU78+CF78+CQ78+DB78+DM78+DX78+EI78 -> 1 | FH78: =EW78+EX78+EY78+EZ78+FA78+FB78+FC78 -> 87 | FI78: =FD78+FE78+FF78+FG78+FH78 -> 90 | FJ78: =IF(EK78>=1,1,0) -> 0 | FK78: =IF(EP78>=1,1,0) -> 0
N79: 77 | O79: {=IF(OR(AE79:AJ79>0,AP79:AU79>0,BA79:BF79>0,BL79:BQ79>0,BW79:CB79>0,CH79:CM79>0,CS79:CX79,DD79:DI79>0,DO79:DT79>0,DZ79:EE79),1,0)} -> 0 | P79: 3 | Q79: 1900 | R79: 2000 | S79: 13 | Z79: 1 | AD79: 3 | AK79: 2 | AO79: 1 | AZ79: 1 | BK79: 1 | EV79: =IF(R79>=1,1,0) -> 1 | EW79: =S79+AD79+AO79+AZ79+BK79+BV79+CG79+CR79+DC79+DN79+DY79 -> 19 | EX79: =T79+AE79+AP79+BA79+BL79+BW79+CH79+CS79+DD79+DO79+DZ79 -> 0 | EY79: =U79+AF79+AQ79+BB79+BM79+BX79+CI79+CT79+DE79+DP79+EA79 -> 0 | EZ79: =V79+AG79+AR79+BC79+BN79+BY79+CJ79+CU79+DF79+DQ79+EB79 -> 0 | FA79: =W79+AH79+AS79+BD79+BO79+BZ79+CK79+CV79+DG79+DR79+EC79 -> 0 | FB79: =X79+AI79+AT79+BE79+BP79+CA79+CL79+CW79+DH79+DS79+ED79 -> 0 | FC79: =Y79+AJ79+AU79+BF79+BQ79+CB79+CM79+CX79+DI79+DT79+EE79 -> 0 | FD79: =Z79+AK79+AV79+BG79+BR79+CC79+CN79+CY79+DJ79+DU79+EF79 -> 3 | ... FG79: =AC79+AN79+AY79+BJ79+BU79+CF79+CQ79+DB79+DM79+DX79+EI79 -> 0 | FH79: =EW79+EX79+EY79+EZ79+FA79+FB79+FC79 -> 19 | FI79: =FD79+FE79+FF79+FG79+FH79 -> 22 | FJ79: =IF(EK79>=1,1,0) -> 0 | FK79: =IF(EP79>=1,1,0) -> 0
N80: 78 | O80: {=IF(OR(AE80:AJ80>0,AP80:AU80>0,BA80:BF80>0,BL80:BQ80>0,BW80:CB80>0,CH80:CM80>0,CS80:CX80,DD80:DI80>0,DO80:DT80>0,DZ80:EE80),1,0)} -> 0 | P80: 3 | Q80: 2000 | R80: 2100 | S80: 1 | Z80: 6 | AD80: 3 | AK80: 6 | AN80: 1 | AV80: 3 | AZ80: 2 | BG80: 2 | BJ80: 1 | BK80: 3 | BV80: 1 | CC80: 1 | CG80: 1 | EV80: =IF(R80>=1,1,0) -> 1 | EW80: =S80+AD80+AO80+AZ80+BK80+BV80+CG80+CR80+DC80+DN80+DY80 -> 11 | EX80: =T80+AE80+AP80+BA80+BL80+BW80+CH80+CS80+DD80+DO80+DZ80 -> 0 | EY80: =U80+AF80+AQ80+BB80+BM80+BX80+CI80+CT80+DE80+DP80+EA80 -> 0 | EZ80: =V80+AG80+AR80+BC80+BN80+BY80+CJ80+CU80+DF80+DQ80+EB80 -> 0 | FA80: =W80+AH80+AS80+BD80+BO80+BZ80+CK80+CV80+DG80+DR80+EC80 -> 0 | FB80: =X80+AI80+AT80+BE80+BP80+CA80+CL80+CW80+DH80+DS80+ED80 -> 0 | FC80: =Y80+AJ80+AU80+BF80+BQ80+CB80+CM80+CX80+DI80+DT80+EE80 -> 0 | FD80: =Z80+AK80+AV80+BG80+BR80+CC80+CN80+CY80+DJ80+DU80+EF80 -> 18 | ... FG80: =AC80+AN80+AY80+BJ80+BU80+CF80+CQ80+DB80+DM80+DX80+EI80 -> 2 | FH80: =EW80+EX80+EY80+EZ80+FA80+FB80+FC80 -> 11 | FI80: =FD80+FE80+FF80+FG80+FH80 -> 31 | FJ80: =IF(EK80>=1,1,0) -> 0 | FK80: =IF(EP80>=1,1,0) -> 0
N81: 79 | O81: {=IF(OR(AE81:AJ81>0,AP81:AU81>0,BA81:BF81>0,BL81:BQ81>0,BW81:CB81>0,CH81:CM81>0,CS81:CX81,DD81:DI81>0,DO81:DT81>0,DZ81:EE81),1,0)} -> 0 | P81: 3 | Q81: 2100 | R81: 2200 | S81: 7 | Z81: 10 | AC81: 10 | AD81: 5 | AK81: 4 | AN81: 13 | AO81: 1 | AV81: 1 | AY81: 10 | BG81: 2 | BJ81: 4 | BR81: 1 | EV81: =IF(R81>=1,1,0) -> 1 | EW81: =S81+AD81+AO81+AZ81+BK81+BV81+CG81+CR81+DC81+DN81+DY81 -> 13 | EX81: =T81+AE81+AP81+BA81+BL81+BW81+CH81+CS81+DD81+DO81+DZ81 -> 0 | EY81: =U81+AF81+AQ81+BB81+BM81+BX81+CI81+CT81+DE81+DP81+EA81 -> 0 | EZ81: =V81+AG81+AR81+BC81+BN81+BY81+CJ81+CU81+DF81+DQ81+EB81 -> 0 | FA81: =W81+AH81+AS81+BD81+BO81+BZ81+CK81+CV81+DG81+DR81+EC81 -> 0 | FB81: =X81+AI81+AT81+BE81+BP81+CA81+CL81+CW81+DH81+DS81+ED81 -> 0 | FC81: =Y81+AJ81+AU81+BF81+BQ81+CB81+CM81+CX81+DI81+DT81+EE81 -> 0 | FD81: =Z81+AK81+AV81+BG81+BR81+CC81+CN81+CY81+DJ81+DU81+EF81 -> 18 | ... FG81: =AC81+AN81+AY81+BJ81+BU81+CF81+CQ81+DB81+DM81+DX81+EI81 -> 37 | FH81: =EW81+EX81+EY81+EZ81+FA81+FB81+FC81 -> 13 | FI81: =FD81+FE81+FF81+FG81+FH81 -> 68 | FJ81: =IF(EK81>=1,1,0) -> 0 | FK81: =IF(EP81>=1,1,0) -> 0
N82: 80 | O82: {=IF(OR(AE82:AJ82>0,AP82:AU82>0,BA82:BF82>0,BL82:BQ82>0,BW82:CB82>0,CH82:CM82>0,CS82:CX82,DD82:DI82>0,DO82:DT82>0,DZ82:EE82),1,0)} -> 0 | P82: 3 | Q82: 2200 | R82: 2300 | AZ82: 1 | BI82: 0 | BJ82: 2 | BT82: 0 | BU82: 1 | EV82: =IF(R82>=1,1,0) -> 1 | EW82: =S82+AD82+AO82+AZ82+BK82+BV82+CG82+CR82+DC82+DN82+DY82 -> 1 | EX82: =T82+AE82+AP82+BA82+BL82+BW82+CH82+CS82+DD82+DO82+DZ82 -> 0 | EY82: =U82+AF82+AQ82+BB82+BM82+BX82+CI82+CT82+DE82+DP82+EA82 -> 0 | EZ82: =V82+AG82+AR82+BC82+BN82+BY82+CJ82+CU82+DF82+DQ82+EB82 -> 0 | FA82: =W82+AH82+AS82+BD82+BO82+BZ82+CK82+CV82+DG82+DR82+EC82 -> 0 | FB82: =X82+AI82+AT82+BE82+BP82+CA82+CL82+CW82+DH82+DS82+ED82 -> 0 | FC82: =Y82+AJ82+AU82+BF82+BQ82+CB82+CM82+CX82+DI82+DT82+EE82 -> 0 | FD82: =Z82+AK82+AV82+BG82+BR82+CC82+CN82+CY82+DJ82+DU82+EF82 -> 0 | ... FG82: =AC82+AN82+AY82+BJ82+BU82+CF82+CQ82+DB82+DM82+DX82+EI82 -> 3 | FH82: =EW82+EX82+EY82+EZ82+FA82+FB82+FC82 -> 1 | FI82: =FD82+FE82+FF82+FG82+FH82 -> 4 | FJ82: =IF(EK82>=1,1,0) -> 0 | FK82: =IF(EP82>=1,1,0) -> 0
N83: 81 | O83: {=IF(OR(AE83:AJ83>0,AP83:AU83>0,BA83:BF83>0,BL83:BQ83>0,BW83:CB83>0,CH83:CM83>0,CS83:CX83,DD83:DI83>0,DO83:DT83>0,DZ83:EE83),1,0)} -> 0 | P83: 3 | Q83: 2300 | R83: 2400 | S83: 7 | Z83: 2 | AC83: 14 | AD83: 3 | AK83: 1 | AN83: 14 | AO83: 1 | AY83: 1 | BG83: 2 | EV83: =IF(R83>=1,1,0) -> 1 | EW83: =S83+AD83+AO83+AZ83+BK83+BV83+CG83+CR83+DC83+DN83+DY83 -> 11 | EX83: =T83+AE83+AP83+BA83+BL83+BW83+CH83+CS83+DD83+DO83+DZ83 -> 0 | EY83: =U83+AF83+AQ83+BB83+BM83+BX83+CI83+CT83+DE83+DP83+EA83 -> 0 | EZ83: =V83+AG83+AR83+BC83+BN83+BY83+CJ83+CU83+DF83+DQ83+EB83 -> 0 | FA83: =W83+AH83+AS83+BD83+BO83+BZ83+CK83+CV83+DG83+DR83+EC83 -> 0 | FB83: =X83+AI83+AT83+BE83+BP83+CA83+CL83+CW83+DH83+DS83+ED83 -> 0 | FC83: =Y83+AJ83+AU83+BF83+BQ83+CB83+CM83+CX83+DI83+DT83+EE83 -> 0 | FD83: =Z83+AK83+AV83+BG83+BR83+CC83+CN83+CY83+DJ83+DU83+EF83 -> 5 | ... FG83: =AC83+AN83+AY83+BJ83+BU83+CF83+CQ83+DB83+DM83+DX83+EI83 -> 29 | FH83: =EW83+EX83+EY83+EZ83+FA83+FB83+FC83 -> 11 | FI83: =FD83+FE83+FF83+FG83+FH83 -> 45 | FJ83: =IF(EK83>=1,1,0) -> 0 | FK83: =IF(EP83>=1,1,0) -> 0
N84: 82 | O84: {=IF(OR(AE84:AJ84>0,AP84:AU84>0,BA84:BF84>0,BL84:BQ84>0,BW84:CB84>0,CH84:CM84>0,CS84:CX84,DD84:DI84>0,DO84:DT84>0,DZ84:EE84),1,0)} -> 0 | P84: 4 | Q84: 0 | R84: 100 | S84: 1 | Z84: 4 | EV84: =IF(R84>=1,1,0) -> 1 | EW84: =S84+AD84+AO84+AZ84+BK84+BV84+CG84+CR84+DC84+DN84+DY84 -> 1 | EX84: =T84+AE84+AP84+BA84+BL84+BW84+CH84+CS84+DD84+DO84+DZ84 -> 0 | EY84: =U84+AF84+AQ84+BB84+BM84+BX84+CI84+CT84+DE84+DP84+EA84 -> 0 | EZ84: =V84+AG84+AR84+BC84+BN84+BY84+CJ84+CU84+DF84+DQ84+EB84 -> 0 | FA84: =W84+AH84+AS84+BD84+BO84+BZ84+CK84+CV84+DG84+DR84+EC84 -> 0 | FB84: =X84+AI84+AT84+BE84+BP84+CA84+CL84+CW84+DH84+DS84+ED84 -> 0 | FC84: =Y84+AJ84+AU84+BF84+BQ84+CB84+CM84+CX84+DI84+DT84+EE84 -> 0 | FD84: =Z84+AK84+AV84+BG84+BR84+CC84+CN84+CY84+DJ84+DU84+EF84 -> 4 | ... FG84: =AC84+AN84+AY84+BJ84+BU84+CF84+CQ84+DB84+DM84+DX84+EI84 -> 0 | FH84: =EW84+EX84+EY84+EZ84+FA84+FB84+FC84 -> 1 | FI84: =FD84+FE84+FF84+FG84+FH84 -> 5 | FJ84: =IF(EK84>=1,1,0) -> 0 | FK84: =IF(EP84>=1,1,0) -> 0
N85: 83 | O85: {=IF(OR(AE85:AJ85>0,AP85:AU85>0,BA85:BF85>0,BL85:BQ85>0,BW85:CB85>0,CH85:CM85>0,CS85:CX85,DD85:DI85>0,DO85:DT85>0,DZ85:EE85),1,0)} -> 0 | P85: 4 | Q85: 100 | R85: 200 | S85: 0 | Z85: 7 | EV85: =IF(R85>=1,1,0) -> 1 | EW85: =S85+AD85+AO85+AZ85+BK85+BV85+CG85+CR85+DC85+DN85+DY85 -> 0 | EX85: =T85+AE85+AP85+BA85+BL85+BW85+CH85+CS85+DD85+DO85+DZ85 -> 0 | EY85: =U85+AF85+AQ85+BB85+BM85+BX85+CI85+CT85+DE85+DP85+EA85 -> 0 | EZ85: =V85+AG85+AR85+BC85+BN85+BY85+CJ85+CU85+DF85+DQ85+EB85 -> 0 | FA85: =W85+AH85+AS85+BD85+BO85+BZ85+CK85+CV85+DG85+DR85+EC85 -> 0 | FB85: =X85+AI85+AT85+BE85+BP85+CA85+CL85+CW85+DH85+DS85+ED85 -> 0 | FC85: =Y85+AJ85+AU85+BF85+BQ85+CB85+CM85+CX85+DI85+DT85+EE85 -> 0 | FD85: =Z85+AK85+AV85+BG85+BR85+CC85+CN85+CY85+DJ85+DU85+EF85 -> 7 | ... FG85: =AC85+AN85+AY85+BJ85+BU85+CF85+CQ85+DB85+DM85+DX85+EI85 -> 0 | FH85: =EW85+EX85+EY85+EZ85+FA85+FB85+FC85 -> 0 | FI85: =FD85+FE85+FF85+FG85+FH85 -> 7 | FJ85: =IF(EK85>=1,1,0) -> 0 | FK85: =IF(EP85>=1,1,0) -> 0
N86: 84 | O86: {=IF(OR(AE86:AJ86>0,AP86:AU86>0,BA86:BF86>0,BL86:BQ86>0,BW86:CB86>0,CH86:CM86>0,CS86:CX86,DD86:DI86>0,DO86:DT86>0,DZ86:EE86),1,0)} -> 0 | P86: 4 | Q86: 200 | R86: 300 | S86: 26 | AD86: 27 | AK86: 2 | AO86: 15 | AZ86: 2 | EV86: =IF(R86>=1,1,0) -> 1 | EW86: =S86+AD86+AO86+AZ86+BK86+BV86+CG86+CR86+DC86+DN86+DY86 -> 70 | EX86: =T86+AE86+AP86+BA86+BL86+BW86+CH86+CS86+DD86+DO86+DZ86 -> 0 | EY86: =U86+AF86+AQ86+BB86+BM86+BX86+CI86+CT86+DE86+DP86+EA86 -> 0 | EZ86: =V86+AG86+AR86+BC86+BN86+BY86+CJ86+CU86+DF86+DQ86+EB86 -> 0 | FA86: =W86+AH86+AS86+BD86+BO86+BZ86+CK86+CV86+DG86+DR86+EC86 -> 0 | FB86: =X86+AI86+AT86+BE86+BP86+CA86+CL86+CW86+DH86+DS86+ED86 -> 0 | FC86: =Y86+AJ86+AU86+BF86+BQ86+CB86+CM86+CX86+DI86+DT86+EE86 -> 0 | FD86: =Z86+AK86+AV86+BG86+BR86+CC86+CN86+CY86+DJ86+DU86+EF86 -> 2 | ... FG86: =AC86+AN86+AY86+BJ86+BU86+CF86+CQ86+DB86+DM86+DX86+EI86 -> 0 | FH86: =EW86+EX86+EY86+EZ86+FA86+FB86+FC86 -> 70 | FI86: =FD86+FE86+FF86+FG86+FH86 -> 72 | FJ86: =IF(EK86>=1,1,0) -> 0 | FK86: =IF(EP86>=1,1,0) -> 0
N87: 85 | O87: {=IF(OR(AE87:AJ87>0,AP87:AU87>0,BA87:BF87>0,BL87:BQ87>0,BW87:CB87>0,CH87:CM87>0,CS87:CX87,DD87:DI87>0,DO87:DT87>0,DZ87:EE87),1,0)} -> 0 | P87: 4 | Q87: 300 | R87: 400 | S87: 1 | EV87: =IF(R87>=1,1,0) -> 1 | EW87: =S87+AD87+AO87+AZ87+BK87+BV87+CG87+CR87+DC87+DN87+DY87 -> 1 | EX87: =T87+AE87+AP87+BA87+BL87+BW87+CH87+CS87+DD87+DO87+DZ87 -> 0 | EY87: =U87+AF87+AQ87+BB87+BM87+BX87+CI87+CT87+DE87+DP87+EA87 -> 0 | EZ87: =V87+AG87+AR87+BC87+BN87+BY87+CJ87+CU87+DF87+DQ87+EB87 -> 0 | FA87: =W87+AH87+AS87+BD87+BO87+BZ87+CK87+CV87+DG87+DR87+EC87 -> 0 | FB87: =X87+AI87+AT87+BE87+BP87+CA87+CL87+CW87+DH87+DS87+ED87 -> 0 | FC87: =Y87+AJ87+AU87+BF87+BQ87+CB87+CM87+CX87+DI87+DT87+EE87 -> 0 | FD87: =Z87+AK87+AV87+BG87+BR87+CC87+CN87+CY87+DJ87+DU87+EF87 -> 0 | ... FG87: =AC87+AN87+AY87+BJ87+BU87+CF87+CQ87+DB87+DM87+DX87+EI87 -> 0 | FH87: =EW87+EX87+EY87+EZ87+FA87+FB87+FC87 -> 1 | FI87: =FD87+FE87+FF87+FG87+FH87 -> 1 | FJ87: =IF(EK87>=1,1,0) -> 0 | FK87: =IF(EP87>=1,1,0) -> 0
N88: 86 | O88: {=IF(OR(AE88:AJ88>0,AP88:AU88>0,BA88:BF88>0,BL88:BQ88>0,BW88:CB88>0,CH88:CM88>0,CS88:CX88,DD88:DI88>0,DO88:DT88>0,DZ88:EE88),1,0)} -> 0 | P88: 4 | Q88: 400 | R88: 500 | S88: 14 | AD88: 11 | AK88: 1 | AO88: 2 | AY88: 1 | AZ88: 1 | BJ88: 1 | EV88: =IF(R88>=1,1,0) -> 1 | EW88: =S88+AD88+AO88+AZ88+BK88+BV88+CG88+CR88+DC88+DN88+DY88 -> 28 | EX88: =T88+AE88+AP88+BA88+BL88+BW88+CH88+CS88+DD88+DO88+DZ88 -> 0 | EY88: =U88+AF88+AQ88+BB88+BM88+BX88+CI88+CT88+DE88+DP88+EA88 -> 0 | EZ88: =V88+AG88+AR88+BC88+BN88+BY88+CJ88+CU88+DF88+DQ88+EB88 -> 0 | FA88: =W88+AH88+AS88+BD88+BO88+BZ88+CK88+CV88+DG88+DR88+EC88 -> 0 | FB88: =X88+AI88+AT88+BE88+BP88+CA88+CL88+CW88+DH88+DS88+ED88 -> 0 | FC88: =Y88+AJ88+AU88+BF88+BQ88+CB88+CM88+CX88+DI88+DT88+EE88 -> 0 | FD88: =Z88+AK88+AV88+BG88+BR88+CC88+CN88+CY88+DJ88+DU88+EF88 -> 1 | ... FG88: =AC88+AN88+AY88+BJ88+BU88+CF88+CQ88+DB88+DM88+DX88+EI88 -> 2 | FH88: =EW88+EX88+EY88+EZ88+FA88+FB88+FC88 -> 28 | FI88: =FD88+FE88+FF88+FG88+FH88 -> 31 | FJ88: =IF(EK88>=1,1,0) -> 0 | FK88: =IF(EP88>=1,1,0) -> 0
N89: 87 | O89: {=IF(OR(AE89:AJ89>0,AP89:AU89>0,BA89:BF89>0,BL89:BQ89>0,BW89:CB89>0,CH89:CM89>0,CS89:CX89,DD89:DI89>0,DO89:DT89>0,DZ89:EE89),1,0)} -> 0 | P89: 4 | Q89: 500 | R89: 600 | S89: 10 | AD89: 3 | AO89: 2 | EV89: =IF(R89>=1,1,0) -> 1 | EW89: =S89+AD89+AO89+AZ89+BK89+BV89+CG89+CR89+DC89+DN89+DY89 -> 15 | EX89: =T89+AE89+AP89+BA89+BL89+BW89+CH89+CS89+DD89+DO89+DZ89 -> 0 | EY89: =U89+AF89+AQ89+BB89+BM89+BX89+CI89+CT89+DE89+DP89+EA89 -> 0 | EZ89: =V89+AG89+AR89+BC89+BN89+BY89+CJ89+CU89+DF89+DQ89+EB89 -> 0 | FA89: =W89+AH89+AS89+BD89+BO89+BZ89+CK89+CV89+DG89+DR89+EC89 -> 0 | FB89: =X89+AI89+AT89+BE89+BP89+CA89+CL89+CW89+DH89+DS89+ED89 -> 0 | FC89: =Y89+AJ89+AU89+BF89+BQ89+CB89+CM89+CX89+DI89+DT89+EE89 -> 0 | FD89: =Z89+AK89+AV89+BG89+BR89+CC89+CN89+CY89+DJ89+DU89+EF89 -> 0 | ... FG89: =AC89+AN89+AY89+BJ89+BU89+CF89+CQ89+DB89+DM89+DX89+EI89 -> 0 | FH89: =EW89+EX89+EY89+EZ89+FA89+FB89+FC89 -> 15 | FI89: =FD89+FE89+FF89+FG89+FH89 -> 15 | FJ89: =IF(EK89>=1,1,0) -> 0 | FK89: =IF(EP89>=1,1,0) -> 0
N90: 88 | O90: {=IF(OR(AE90:AJ90>0,AP90:AU90>0,BA90:BF90>0,BL90:BQ90>0,BW90:CB90>0,CH90:CM90>0,CS90:CX90,DD90:DI90>0,DO90:DT90>0,DZ90:EE90),1,0)} -> 0 | P90: 4 | Q90: 600 | R90: 700 | S90: 20 | Z90: 1 | AD90: 15 | AK90: 1 | AN90: 3 | AO90: 7 | AZ90: 4 | BJ90: 1 | EV90: =IF(R90>=1,1,0) -> 1 | EW90: =S90+AD90+AO90+AZ90+BK90+BV90+CG90+CR90+DC90+DN90+DY90 -> 46 | EX90: =T90+AE90+AP90+BA90+BL90+BW90+CH90+CS90+DD90+DO90+DZ90 -> 0 | EY90: =U90+AF90+AQ90+BB90+BM90+BX90+CI90+CT90+DE90+DP90+EA90 -> 0 | EZ90: =V90+AG90+AR90+BC90+BN90+BY90+CJ90+CU90+DF90+DQ90+EB90 -> 0 | FA90: =W90+AH90+AS90+BD90+BO90+BZ90+CK90+CV90+DG90+DR90+EC90 -> 0 | FB90: =X90+AI90+AT90+BE90+BP90+CA90+CL90+CW90+DH90+DS90+ED90 -> 0 | FC90: =Y90+AJ90+AU90+BF90+BQ90+CB90+CM90+CX90+DI90+DT90+EE90 -> 0 | FD90: =Z90+AK90+AV90+BG90+BR90+CC90+CN90+CY90+DJ90+DU90+EF90 -> 2 | ... FG90: =AC90+AN90+AY90+BJ90+BU90+CF90+CQ90+DB90+DM90+DX90+EI90 -> 4 | FH90: =EW90+EX90+EY90+EZ90+FA90+FB90+FC90 -> 46 | FI90: =FD90+FE90+FF90+FG90+FH90 -> 52 | FJ90: =IF(EK90>=1,1,0) -> 0 | FK90: =IF(EP90>=1,1,0) -> 0
N91: 89 | O91: {=IF(OR(AE91:AJ91>0,AP91:AU91>0,BA91:BF91>0,BL91:BQ91>0,BW91:CB91>0,CH91:CM91>0,CS91:CX91,DD91:DI91>0,DO91:DT91>0,DZ91:EE91),1,0)} -> 0 | P91: 4 | Q91: 700 | R91: 800 | S91: 6 | Z91: 8 | AD91: 5 | AK91: 4 | AO91: 2 | AV91: 3 | AZ91: 5 | BG91: 2 | BK91: 1 | BV91: 1 | EV91: =IF(R91>=1,1,0) -> 1 | EW91: =S91+AD91+AO91+AZ91+BK91+BV91+CG91+CR91+DC91+DN91+DY91 -> 20 | EX91: =T91+AE91+AP91+BA91+BL91+BW91+CH91+CS91+DD91+DO91+DZ91 -> 0 | EY91: =U91+AF91+AQ91+BB91+BM91+BX91+CI91+CT91+DE91+DP91+EA91 -> 0 | EZ91: =V91+AG91+AR91+BC91+BN91+BY91+CJ91+CU91+DF91+DQ91+EB91 -> 0 | FA91: =W91+AH91+AS91+BD91+BO91+BZ91+CK91+CV91+DG91+DR91+EC91 -> 0 | FB91: =X91+AI91+AT91+BE91+BP91+CA91+CL91+CW91+DH91+DS91+ED91 -> 0 | FC91: =Y91+AJ91+AU91+BF91+BQ91+CB91+CM91+CX91+DI91+DT91+EE91 -> 0 | FD91: =Z91+AK91+AV91+BG91+BR91+CC91+CN91+CY91+DJ91+DU91+EF91 -> 17 | ... FG91: =AC91+AN91+AY91+BJ91+BU91+CF91+CQ91+DB91+DM91+DX91+EI91 -> 0 | FH91: =EW91+EX91+EY91+EZ91+FA91+FB91+FC91 -> 20 | FI91: =FD91+FE91+FF91+FG91+FH91 -> 37 | FJ91: =IF(EK91>=1,1,0) -> 0 | FK91: =IF(EP91>=1,1,0) -> 0
N92: 90 | O92: {=IF(OR(AE92:AJ92>0,AP92:AU92>0,BA92:BF92>0,BL92:BQ92>0,BW92:CB92>0,CH92:CM92>0,CS92:CX92,DD92:DI92>0,DO92:DT92>0,DZ92:EE92),1,0)} -> 1 | P92: 4 | Q92: 800 | R92: 900 | S92: 0 | AD92: 4 | AK92: 3 | AO92: 1 | AV92: 3 | AZ92: 2 | BA92: 1 | BG92: 2 | BK92: 1 | BL92: 1 | BR92: 1 | BV92: 1 | CG92: 1 | EV92: =IF(R92>=1,1,0) -> 1 | EW92: =S92+AD92+AO92+AZ92+BK92+BV92+CG92+CR92+DC92+DN92+DY92 -> 10 | EX92: =T92+AE92+AP92+BA92+BL92+BW92+CH92+CS92+DD92+DO92+DZ92 -> 2 | EY92: =U92+AF92+AQ92+BB92+BM92+BX92+CI92+CT92+DE92+DP92+EA92 -> 0 | EZ92: =V92+AG92+AR92+BC92+BN92+BY92+CJ92+CU92+DF92+DQ92+EB92 -> 0 | FA92: =W92+AH92+AS92+BD92+BO92+BZ92+CK92+CV92+DG92+DR92+EC92 -> 0 | FB92: =X92+AI92+AT92+BE92+BP92+CA92+CL92+CW92+DH92+DS92+ED92 -> 0 | FC92: =Y92+AJ92+AU92+BF92+BQ92+CB92+CM92+CX92+DI92+DT92+EE92 -> 0 | FD92: =Z92+AK92+AV92+BG92+BR92+CC92+CN92+CY92+DJ92+DU92+EF92 -> 9 | ... FG92: =AC92+AN92+AY92+BJ92+BU92+CF92+CQ92+DB92+DM92+DX92+EI92 -> 0 | FH92: =EW92+EX92+EY92+EZ92+FA92+FB92+FC92 -> 12 | FI92: =FD92+FE92+FF92+FG92+FH92 -> 21 | FJ92: =IF(EK92>=1,1,0) -> 0 | FK92: =IF(EP92>=1,1,0) -> 0
N93: 91 | O93: {=IF(OR(AE93:AJ93>0,AP93:AU93>0,BA93:BF93>0,BL93:BQ93>0,BW93:CB93>0,CH93:CM93>0,CS93:CX93,DD93:DI93>0,DO93:DT93>0,DZ93:EE93),1,0)} -> 0 | P93: 4 | Q93: 900 | R93: 1000 | S93: 4 | AD93: 8 | AK93: 3 | AN93: 4 | AO93: 3 | AV93: 1 | AW93: 0 | AY93: 2 | AZ93: 2 | BK93: 1 | EV93: =IF(R93>=1,1,0) -> 1 | EW93: =S93+AD93+AO93+AZ93+BK93+BV93+CG93+CR93+DC93+DN93+DY93 -> 18 | EX93: =T93+AE93+AP93+BA93+BL93+BW93+CH93+CS93+DD93+DO93+DZ93 -> 0 | EY93: =U93+AF93+AQ93+BB93+BM93+BX93+CI93+CT93+DE93+DP93+EA93 -> 0 | EZ93: =V93+AG93+AR93+BC93+BN93+BY93+CJ93+CU93+DF93+DQ93+EB93 -> 0 | FA93: =W93+AH93+AS93+BD93+BO93+BZ93+CK93+CV93+DG93+DR93+EC93 -> 0 | FB93: =X93+AI93+AT93+BE93+BP93+CA93+CL93+CW93+DH93+DS93+ED93 -> 0 | FC93: =Y93+AJ93+AU93+BF93+BQ93+CB93+CM93+CX93+DI93+DT93+EE93 -> 0 | FD93: =Z93+AK93+AV93+BG93+BR93+CC93+CN93+CY93+DJ93+DU93+EF93 -> 4 | ... FG93: =AC93+AN93+AY93+BJ93+BU93+CF93+CQ93+DB93+DM93+DX93+EI93 -> 6 | FH93: =EW93+EX93+EY93+EZ93+FA93+FB93+FC93 -> 18 | FI93: =FD93+FE93+FF93+FG93+FH93 -> 28 | FJ93: =IF(EK93>=1,1,0) -> 0 | FK93: =IF(EP93>=1,1,0) -> 0
N94: 92 | O94: {=IF(OR(AE94:AJ94>0,AP94:AU94>0,BA94:BF94>0,BL94:BQ94>0,BW94:CB94>0,CH94:CM94>0,CS94:CX94,DD94:DI94>0,DO94:DT94>0,DZ94:EE94),1,0)} -> 1 | P94: 4 | Q94: 1000 | R94: 1100 | S94: 5 | Z94: 4 | AC94: 1 | AD94: 3 | AK94: 5 | AN94: 4 | AO94: 1 | AV94: 3 | AZ94: 1 | BE94: 1 | BG94: 6 | BJ94: 2 | BK94: 1 | BR94: 3 | CC94: 2 | EV94: =IF(R94>=1,1,0) -> 1 | EW94: =S94+AD94+AO94+AZ94+BK94+BV94+CG94+CR94+DC94+DN94+DY94 -> 11 | EX94: =T94+AE94+AP94+BA94+BL94+BW94+CH94+CS94+DD94+DO94+DZ94 -> 0 | EY94: =U94+AF94+AQ94+BB94+BM94+BX94+CI94+CT94+DE94+DP94+EA94 -> 0 | EZ94: =V94+AG94+AR94+BC94+BN94+BY94+CJ94+CU94+DF94+DQ94+EB94 -> 0 | FA94: =W94+AH94+AS94+BD94+BO94+BZ94+CK94+CV94+DG94+DR94+EC94 -> 0 | FB94: =X94+AI94+AT94+BE94+BP94+CA94+CL94+CW94+DH94+DS94+ED94 -> 1 | FC94: =Y94+AJ94+AU94+BF94+BQ94+CB94+CM94+CX94+DI94+DT94+EE94 -> 0 | FD94: =Z94+AK94+AV94+BG94+BR94+CC94+CN94+CY94+DJ94+DU94+EF94 -> 23 | ... FG94: =AC94+AN94+AY94+BJ94+BU94+CF94+CQ94+DB94+DM94+DX94+EI94 -> 7 | FH94: =EW94+EX94+EY94+EZ94+FA94+FB94+FC94 -> 12 | FI94: =FD94+FE94+FF94+FG94+FH94 -> 42 | FJ94: =IF(EK94>=1,1,0) -> 0 | FK94: =IF(EP94>=1,1,0) -> 0
N95: 93 | O95: {=IF(OR(AE95:AJ95>0,AP95:AU95>0,BA95:BF95>0,BL95:BQ95>0,BW95:CB95>0,CH95:CM95>0,CS95:CX95,DD95:DI95>0,DO95:DT95>0,DZ95:EE95),1,0)} -> 0 | P95: 4 | Q95: 1100 | R95: 1200 | S95: 6 | Z95: 2 | AD95: 10 | AK95: 1 | AO95: 4 | AZ95: 4 | BG95: 1 | BU95: 1 | CC95: 1 | EV95: =IF(R95>=1,1,0) -> 1 | EW95: =S95+AD95+AO95+AZ95+BK95+BV95+CG95+CR95+DC95+DN95+DY95 -> 24 | EX95: =T95+AE95+AP95+BA95+BL95+BW95+CH95+CS95+DD95+DO95+DZ95 -> 0 | EY95: =U95+AF95+AQ95+BB95+BM95+BX95+CI95+CT95+DE95+DP95+EA95 -> 0 | EZ95: =V95+AG95+AR95+BC95+BN95+BY95+CJ95+CU95+DF95+DQ95+EB95 -> 0 | FA95: =W95+AH95+AS95+BD95+BO95+BZ95+CK95+CV95+DG95+DR95+EC95 -> 0 | FB95: =X95+AI95+AT95+BE95+BP95+CA95+CL95+CW95+DH95+DS95+ED95 -> 0 | FC95: =Y95+AJ95+AU95+BF95+BQ95+CB95+CM95+CX95+DI95+DT95+EE95 -> 0 | FD95: =Z95+AK95+AV95+BG95+BR95+CC95+CN95+CY95+DJ95+DU95+EF95 -> 5 | ... FG95: =AC95+AN95+AY95+BJ95+BU95+CF95+CQ95+DB95+DM95+DX95+EI95 -> 1 | FH95: =EW95+EX95+EY95+EZ95+FA95+FB95+FC95 -> 24 | FI95: =FD95+FE95+FF95+FG95+FH95 -> 30 | FJ95: =IF(EK95>=1,1,0) -> 0 | FK95: =IF(EP95>=1,1,0) -> 0
N96: 94 | O96: {=IF(OR(AE96:AJ96>0,AP96:AU96>0,BA96:BF96>0,BL96:BQ96>0,BW96:CB96>0,CH96:CM96>0,CS96:CX96,DD96:DI96>0,DO96:DT96>0,DZ96:EE96),1,0)} -> 0 | P96: 4 | Q96: 1200 | R96: 1300 | S96: 7 | Z96: 10 | AD96: 7 | AK96: 12 | AO96: 4 | AV96: 4 | AZ96: 2 | BG96: 3 | BK96: 1 | BR96: 1 | EV96: =IF(R96>=1,1,0) -> 1 | EW96: =S96+AD96+AO96+AZ96+BK96+BV96+CG96+CR96+DC96+DN96+DY96 -> 21 | EX96: =T96+AE96+AP96+BA96+BL96+BW96+CH96+CS96+DD96+DO96+DZ96 -> 0 | EY96: =U96+AF96+AQ96+BB96+BM96+BX96+CI96+CT96+DE96+DP96+EA96 -> 0 | EZ96: =V96+AG96+AR96+BC96+BN96+BY96+CJ96+CU96+DF96+DQ96+EB96 -> 0 | FA96: =W96+AH96+AS96+BD96+BO96+BZ96+CK96+CV96+DG96+DR96+EC96 -> 0 | FB96: =X96+AI96+AT96+BE96+BP96+CA96+CL96+CW96+DH96+DS96+ED96 -> 0 | FC96: =Y96+AJ96+AU96+BF96+BQ96+CB96+CM96+CX96+DI96+DT96+EE96 -> 0 | FD96: =Z96+AK96+AV96+BG96+BR96+CC96+CN96+CY96+DJ96+DU96+EF96 -> 30 | ... FG96: =AC96+AN96+AY96+BJ96+BU96+CF96+CQ96+DB96+DM96+DX96+EI96 -> 0 | FH96: =EW96+EX96+EY96+EZ96+FA96+FB96+FC96 -> 21 | FI96: =FD96+FE96+FF96+FG96+FH96 -> 51 | FJ96: =IF(EK96>=1,1,0) -> 0 | FK96: =IF(EP96>=1,1,0) -> 0
N97: 95 | O97: {=IF(OR(AE97:AJ97>0,AP97:AU97>0,BA97:BF97>0,BL97:BQ97>0,BW97:CB97>0,CH97:CM97>0,CS97:CX97,DD97:DI97>0,DO97:DT97>0,DZ97:EE97),1,0)} -> 1 | P97: 4 | Q97: 1300 | R97: 1400 | S97: 3 | Z97: 2 | AD97: 10 | AK97: 6 | AO97: 6 | AV97: 2 | AZ97: 6 | BG97: 2 | BK97: 3 | BN97: 1 | BR97: 1 | BV97: 2 | CG97: 1 | EV97: =IF(R97>=1,1,0) -> 1 | EW97: =S97+AD97+AO97+AZ97+BK97+BV97+CG97+CR97+DC97+DN97+DY97 -> 31 | EX97: =T97+AE97+AP97+BA97+BL97+BW97+CH97+CS97+DD97+DO97+DZ97 -> 0 | EY97: =U97+AF97+AQ97+BB97+BM97+BX97+CI97+CT97+DE97+DP97+EA97 -> 0 | EZ97: =V97+AG97+AR97+BC97+BN97+BY97+CJ97+CU97+DF97+DQ97+EB97 -> 1 | FA97: =W97+AH97+AS97+BD97+BO97+BZ97+CK97+CV97+DG97+DR97+EC97 -> 0 | FB97: =X97+AI97+AT97+BE97+BP97+CA97+CL97+CW97+DH97+DS97+ED97 -> 0 | FC97: =Y97+AJ97+AU97+BF97+BQ97+CB97+CM97+CX97+DI97+DT97+EE97 -> 0 | FD97: =Z97+AK97+AV97+BG97+BR97+CC97+CN97+CY97+DJ97+DU97+EF97 -> 13 | ... FG97: =AC97+AN97+AY97+BJ97+BU97+CF97+CQ97+DB97+DM97+DX97+EI97 -> 0 | FH97: =EW97+EX97+EY97+EZ97+FA97+FB97+FC97 -> 32 | FI97: =FD97+FE97+FF97+FG97+FH97 -> 45 | FJ97: =IF(EK97>=1,1,0) -> 0 | FK97: =IF(EP97>=1,1,0) -> 0
N98: 96 | O98: {=IF(OR(AE98:AJ98>0,AP98:AU98>0,BA98:BF98>0,BL98:BQ98>0,BW98:CB98>0,CH98:CM98>0,CS98:CX98,DD98:DI98>0,DO98:DT98>0,DZ98:EE98),1,0)} -> 0 | P98: 4 | Q98: 1400 | R98: 1500 | S98: 5 | X98: 0 | Z98: 3 | AB98: 3 | AD98: 3 | AK98: 4 | AO98: 2 | AV98: 1 | AZ98: 3 | BK98: 5 | BV98: 1 | CG98: 1 | EV98: =IF(R98>=1,1,0) -> 1 | EW98: =S98+AD98+AO98+AZ98+BK98+BV98+CG98+CR98+DC98+DN98+DY98 -> 20 | EX98: =T98+AE98+AP98+BA98+BL98+BW98+CH98+CS98+DD98+DO98+DZ98 -> 0 | EY98: =U98+AF98+AQ98+BB98+BM98+BX98+CI98+CT98+DE98+DP98+EA98 -> 0 | EZ98: =V98+AG98+AR98+BC98+BN98+BY98+CJ98+CU98+DF98+DQ98+EB98 -> 0 | FA98: =W98+AH98+AS98+BD98+BO98+BZ98+CK98+CV98+DG98+DR98+EC98 -> 0 | FB98: =X98+AI98+AT98+BE98+BP98+CA98+CL98+CW98+DH98+DS98+ED98 -> 0 | FC98: =Y98+AJ98+AU98+BF98+BQ98+CB98+CM98+CX98+DI98+DT98+EE98 -> 0 | FD98: =Z98+AK98+AV98+BG98+BR98+CC98+CN98+CY98+DJ98+DU98+EF98 -> 8 | ... FG98: =AC98+AN98+AY98+BJ98+BU98+CF98+CQ98+DB98+DM98+DX98+EI98 -> 0 | FH98: =EW98+EX98+EY98+EZ98+FA98+FB98+FC98 -> 20 | FI98: =FD98+FE98+FF98+FG98+FH98 -> 31 | FJ98: =IF(EK98>=1,1,0) -> 0 | FK98: =IF(EP98>=1,1,0) -> 0
N99: 97 | O99: {=IF(OR(AE99:AJ99>0,AP99:AU99>0,BA99:BF99>0,BL99:BQ99>0,BW99:CB99>0,CH99:CM99>0,CS99:CX99,DD99:DI99>0,DO99:DT99>0,DZ99:EE99),1,0)} -> 0 | P99: 4 | Q99: 1500 | R99: 1600 | S99: 40 | AD99: 32 | AO99: 5 | AZ99: 3 | BK99: 1 | EV99: =IF(R99>=1,1,0) -> 1 | EW99: =S99+AD99+AO99+AZ99+BK99+BV99+CG99+CR99+DC99+DN99+DY99 -> 81 | EX99: =T99+AE99+AP99+BA99+BL99+BW99+CH99+CS99+DD99+DO99+DZ99 -> 0 | EY99: =U99+AF99+AQ99+BB99+BM99+BX99+CI99+CT99+DE99+DP99+EA99 -> 0 | EZ99: =V99+AG99+AR99+BC99+BN99+BY99+CJ99+CU99+DF99+DQ99+EB99 -> 0 | FA99: =W99+AH99+AS99+BD99+BO99+BZ99+CK99+CV99+DG99+DR99+EC99 -> 0 | FB99: =X99+AI99+AT99+BE99+BP99+CA99+CL99+CW99+DH99+DS99+ED99 -> 0 | FC99: =Y99+AJ99+AU99+BF99+BQ99+CB99+CM99+CX99+DI99+DT99+EE99 -> 0 | FD99: =Z99+AK99+AV99+BG99+BR99+CC99+CN99+CY99+DJ99+DU99+EF99 -> 0 | ... FG99: =AC99+AN99+AY99+BJ99+BU99+CF99+CQ99+DB99+DM99+DX99+EI99 -> 0 | FH99: =EW99+EX99+EY99+EZ99+FA99+FB99+FC99 -> 81 | FI99: =FD99+FE99+FF99+FG99+FH99 -> 81 | FJ99: =IF(EK99>=1,1,0) -> 0 | FK99: =IF(EP99>=1,1,0) -> 0
N100: 98 | O100: {=IF(OR(AE100:AJ100>0,AP100:AU100>0,BA100:BF100>0,BL100:BQ100>0,BW100:CB100>0,CH100:CM100>0,CS100:CX100,DD100:DI100>0,DO100:DT100>0,DZ100:EE100),1,0)} -> 0 | P100: 4 | Q100: 1600 | R100: 1700 | S100: 51 | Z100: 2 | AD100: 30 | AO100: 6 | AV100: 1 | AZ100: 5 | BK100: 1 | EV100: =IF(R100>=1,1,0) -> 1 | EW100: =S100+AD100+AO100+AZ100+BK100+BV100+CG100+CR100+DC100+DN100+DY100 -> 93 | EX100: =T100+AE100+AP100+BA100+BL100+BW100+CH100+CS100+DD100+DO100+DZ100 -> 0 | EY100: =U100+AF100+AQ100+BB100+BM100+BX100+CI100+CT100+DE100+DP100+EA100 -> 0 | EZ100: =V100+AG100+AR100+BC100+BN100+BY100+CJ100+CU100+DF100+DQ100+EB100 -> 0 | FA100: =W100+AH100+AS100+BD100+BO100+BZ100+CK100+CV100+DG100+DR100+EC100 -> 0 | FB100: =X100+AI100+AT100+BE100+BP100+CA100+CL100+CW100+DH100+DS100+ED100 -> 0 | FC100: =Y100+AJ100+AU100+BF100+BQ100+CB100+CM100+CX100+DI100+DT100+EE100 -> 0 | FD100: =Z100+AK100+AV100+BG100+BR100+CC100+CN100+CY100+DJ100+DU100+EF100 -> 3 | ... FG100: =AC100+AN100+AY100+BJ100+BU100+CF100+CQ100+DB100+DM100+DX100+EI100 -> 0 | FH100: =EW100+EX100+EY100+EZ100+FA100+FB100+FC100 -> 93 | FI100: =FD100+FE100+FF100+FG100+FH100 -> 96 | FJ100: =IF(EK100>=1,1,0) -> 0 | FK100: =IF(EP100>=1,1,0) -> 0
...

Sheet TOTALS
B2: NAZCA CONSULTING LTD
B3: UNIT SUMMARY REPORT
C6: LOCATION: | E6: =ENTRY!A3 -> Blackwater-Nation | H6: CLIENT: | J6: =ENTRY!I3 -> MFLNRO&RD
C7: MAPSHEET #: | E7: =ENTRY!B3 -> 93O 043 | H7: CONTRACT #: | J7: =ENTRY!J3 -> FH208240007
C8: POLYGON #: | E8: =ENTRY!C3 -> 1 | H8: SURVEYOR: | J8: =ENTRY!L3 -> A. O'Grady, C. Lewis, , T. Jenner
C9: SURVEY TYPE: | E9: =ENTRY!K3 -> GRID | H9: CERT. #: | J9: =ENTRY!M3 -> YES
C10: DATE: | E10: =ENTRY!F3 -> Dec 5,7-9, 19 | H10: GPS. | I10: N: | J10: =ENTRY!G3 -> 55° 26' 26.0" | K10: W: | L10: =ENTRY!H3 -> 123° 32' 35.2"
C11: HECTARES: | E11: =ENTRY!D3 -> 106.9 | H11: METERS SURVEYED: | K11: =ENTRY!E3 -> 10000
B14: TABLE 1. | C14: INFESTATION SUMMARY BY; TOTAL, HECTARE, AND PERCENTAGE
D15: HEALTHY | E15: 2019 | G15: 2018 | I15: 2017*
D16: SPRUCE | E16: CODE 1 | F16: CODE 2 | G16: CODE 3 | H16: CODE 4 | I16: CODE 5 | J16: CODE 6
B18: TOTALS | D18: =ENTRY!EW203 -> 2663 | E18: =ENTRY!EX203 -> 6 | F18: =ENTRY!EY203 -> 0 | G18: =ENTRY!EZ203 -> 3 | H18: =ENTRY!FA203 -> 0 | I18: =ENTRY!FB203 -> 1 | J18: =ENTRY!FC203 -> 2
B20: PER HECTARE | D20: =ENTRY!EW203/ENTRY!EV203*10 -> 266.3 | E20: =ENTRY!EX203/ENTRY!EV203*10 -> 0.6 | F20: =ENTRY!EY203/ENTRY!EV203*10 -> 0 | G20: =ENTRY!EZ203/ENTRY!EV203*10 -> 0.3 | H20: =ENTRY!FA203/ENTRY!EV203*10 -> 0 | I20: =ENTRY!FB203/ENTRY!EV203*10 -> 0.1 | J20: =ENTRY!FC203/ENTRY!EV203*10 -> 0.2
B22: PERCENTAGES | D22: =ENTRY!J8/ENTRY!D8*100 -> 62.644084 | E22: =ENTRY!J9/ENTRY!D8*100 -> 0.14114326 | F22: =ENTRY!J10/ENTRY!D8*100 -> 0 | G22: =ENTRY!J11/ENTRY!D8*100 -> 0.07057163 | H22: =ENTRY!J12/ENTRY!D8*100 -> 0 | I22: =ENTRY!J13/ENTRY!D8*100 -> 0.023523877 | J22: =ENTRY!J14/ENTRY!D8*100 -> 0.047047753
B28: TABLE 2. | C28: OTHER MERCHANTABLE TIMBER
E29: TIMBER | G29: TOTAL STEMS | I29: TOTAL STEMS
E30: TYPE | G30: IN SAMPLE | I30: PER HECTARE
E31: BALSAM | G31: =ENTRY!FD203 -> 1493 | I31: =ENTRY!FD203/ENTRY!EV203*10 -> 149.3
E32: ASPEN | G32: =ENTRY!FE203 -> 80 | I32: =ENTRY!FE203/ENTRY!EV203*10 -> 8
E33: COTTONWOOD | G33: =ENTRY!FF203 -> 3 | I33: =ENTRY!FF203/ENTRY!EV203*10 -> 0.3
E34: BIRCH | G34: =ENTRY!FG203 -> 628 | I34: =ENTRY!FG203/ENTRY!EV203*10 -> 62.8
B36: TABLE 3. | C36: STEM COUNT
B38: TOTAL PIXELS | G38: =ENTRY!EV203 -> 100
B40: TOTAL INFESTED PIXELS | G40: =ENTRY!O203 -> 9
B42: OTHER MERCHANTABLE STEMS IN SAMPLE | G42: =G31+G32+G33+G34 -> 2204
B44: TOTAL SPRUCE STEMS IN SAMPLE | G44: =ENTRY!FH203 -> 2675
B45: TOTAL % SPRUCE IN SAMPLE | G45: =G44/ENTRY!FI203*100 -> 54.826809
B49: TABLE 4. | C49: INFESTATION BY D.B.H. CLASS
C50: DBH | D50: S.A.F. | E50: HEALTHY | F50: 2019 | H50: 2018 | J50: 2017* | L50: OTHER
C51: CLASS | E51: SPRUCE | F51: CODE 1 | G51: CODE 2 | H51: CODE 3 | I51: CODE 4 | J51: CODE 5 | K51: CODE 6 | L51: MERCH.
C52: 12.5-17.4 | E52: =ENTRY!S$203 -> 1112 | F52: =ENTRY!T$203 -> 0 | G52: =ENTRY!U$203 -> 0 | H52: =ENTRY!V$203 -> 0 | I52: =ENTRY!W$203 -> 0 | J52: =ENTRY!X$203 -> 0 | K52: =ENTRY!Y$203 -> 0 | L52: =ENTRY!Z$203+ENTRY!AA203+ENTRY!AB203+ENTRY!AC203 -> 841
C53: 17.5-25.0 | D53: 3.3 | E53: =SUM(ENTRY!AD3:'ENTRY'!AD202) -> 898 | F53: =SUM(ENTRY!AE3:'ENTRY'!AE202) -> 0 | G53: =SUM(ENTRY!AF3:'ENTRY'!AF202) -> 0 | H53: =SUM(ENTRY!AG3:'ENTRY'!AG202) -> 0 | I53: =SUM(ENTRY!AH3:'ENTRY'!AH202) -> 0 | J53: =SUM(ENTRY!AI3:'ENTRY'!AI202) -> 0 | K53: =SUM(ENTRY!AJ3:'ENTRY'!AJ202) -> 0 | L53: =ENTRY!AK203+ENTRY!AL203+ENTRY!AM203+ENTRY!AN203 -> 689
C54: 25.1-30.0 | D54: 5.3 | E54: =SUM(ENTRY!AO3:'ENTRY'!AO202) -> 309 | F54: =SUM(ENTRY!AP3:'ENTRY'!AP202) -> 1 | G54: =SUM(ENTRY!AQ3:'ENTRY'!AQ202) -> 0 | H54: =SUM(ENTRY!AR3:'ENTRY'!AR202) -> 0 | I54: =SUM(ENTRY!AS3:'ENTRY'!AS202) -> 0 | J54: =SUM(ENTRY!AT3:'ENTRY'!AT202) -> 0 | K54: =SUM(ENTRY!AU3:'ENTRY'!AU202) -> 1 | L54: =ENTRY!AV203+ENTRY!AW203+ENTRY!AX203+ENTRY!AY203 -> 317
C55: 30.1-35.0 | D55: 7.1 | E55: =SUM(ENTRY!AZ3:'ENTRY'!AZ202) -> 222 | F55: =SUM(ENTRY!BA3:'ENTRY'!BA202) -> 3 | G55: =SUM(ENTRY!BB3:'ENTRY'!BB202) -> 0 | H55: =SUM(ENTRY!BC3:'ENTRY'!BC202) -> 1 | I55: =SUM(ENTRY!BD3:'ENTRY'!BD202) -> 0 | J55: =SUM(ENTRY!BE3:'ENTRY'!BE202) -> 1 | K55: =SUM(ENTRY!BF3:'ENTRY'!BF202) -> 0 | L55: =ENTRY!BG203+ENTRY!BH203+ENTRY!BI203+ENTRY!BJ203 -> 246
C56: 35.1-40.0 | D56: 9.4 | E56: =SUM(ENTRY!BK3:'ENTRY'!BK202) -> 80 | F56: =SUM(ENTRY!BL3:'ENTRY'!BL202) -> 2 | G56: =SUM(ENTRY!BM3:'ENTRY'!BM202) -> 0 | H56: =SUM(ENTRY!BN3:'ENTRY'!BN202) -> 2 | I56: =SUM(ENTRY!BO3:'ENTRY'!BO202) -> 0 | J56: =SUM(ENTRY!BP3:'ENTRY'!BP202) -> 0 | K56: =SUM(ENTRY!BQ3:'ENTRY'!BQ202) -> 0 | L56: =ENTRY!BR203+ENTRY!BS203+ENTRY!BT203+ENTRY!BU203 -> 88
C57: 40.1-45.0 | D57: 11.6 | E57: =SUM(ENTRY!BV3:'ENTRY'!BV202) -> 29 | F57: =SUM(ENTRY!BW3:'ENTRY'!BW202) -> 0 | G57: =SUM(ENTRY!BX3:'ENTRY'!BX202) -> 0 | H57: =SUM(ENTRY!BY3:'ENTRY'!BY202) -> 0 | I57: =SUM(ENTRY!BZ3:'ENTRY'!BZ202) -> 0 | J57: =SUM(ENTRY!CA3:'ENTRY'!CA202) -> 0 | K57: =SUM(ENTRY!CB3:'ENTRY'!CB202) -> 1 | L57: =ENTRY!CC203+ENTRY!CD203+ENTRY!CE203+ENTRY!CF203 -> 14
C58: 45.1-50.0 | D58: 13.8 | E58: =SUM(ENTRY!CG3:'ENTRY'!CG202) -> 8 | F58: =SUM(ENTRY!CH3:'ENTRY'!CH202) -> 0 | G58: =SUM(ENTRY!CI3:'ENTRY'!CI202) -> 0 | H58: =SUM(ENTRY!CJ3:'ENTRY'!CJ202) -> 0 | I58: =SUM(ENTRY!CK3:'ENTRY'!CK202) -> 0 | J58: =SUM(ENTRY!CL3:'ENTRY'!CL202) -> 0 | K58: =SUM(ENTRY!CM3:'ENTRY'!CM202) -> 0 | L58: =ENTRY!CN203+ENTRY!CO203+ENTRY!CP203+ENTRY!CQ203 -> 5
C59: 50.1-55.0 | D59: 16.2 | E59: =SUM(ENTRY!CR3:'ENTRY'!CR202) -> 2 | F59: =SUM(ENTRY!CS3:'ENTRY'!CS202) -> 0 | G59: =SUM(ENTRY!CT3:'ENTRY'!CT202) -> 0 | H59: =SUM(ENTRY!CU3:'ENTRY'!CU202) -> 0 | I59: =SUM(ENTRY!CV3:'ENTRY'!CV202) -> 0 | J59: =SUM(ENTRY!CW3:'ENTRY'!CW202) -> 0 | K59: =SUM(ENTRY!CX3:'ENTRY'!CX202) -> 0 | L59: =ENTRY!CY203+ENTRY!CZ203+ENTRY!DA203+ENTRY!DB203 -> 3
C60: 55.1-60.0 | D60: 18.7 | E60: =SUM(ENTRY!DC3:'ENTRY'!DC202) -> 2 | F60: =SUM(ENTRY!DD3:'ENTRY'!DD202) -> 0 | G60: =SUM(ENTRY!DE3:'ENTRY'!DE202) -> 0 | H60: =SUM(ENTRY!DF3:'ENTRY'!DF202) -> 0 | I60: =SUM(ENTRY!DG3:'ENTRY'!DG202) -> 0 | J60: =SUM(ENTRY!DH3:'ENTRY'!DH202) -> 0 | K60: =SUM(ENTRY!DI3:'ENTRY'!DI202) -> 0 | L60: =ENTRY!DJ203+ENTRY!DK203+ENTRY!DL203+ENTRY!DM203 -> 0
C61: 60.1-65.0 | D61: 25.3 | E61: =SUM(ENTRY!DN3:'ENTRY'!DN202) -> 1 | F61: =SUM(ENTRY!DO3:'ENTRY'!DO202) -> 0 | G61: =SUM(ENTRY!DP3:'ENTRY'!DP202) -> 0 | H61: =SUM(ENTRY!DQ3:'ENTRY'!DQ202) -> 0 | I61: =SUM(ENTRY!DR3:'ENTRY'!DR202) -> 0 | J61: =SUM(ENTRY!DS3:'ENTRY'!DS202) -> 0 | K61: =SUM(ENTRY!DT3:'ENTRY'!DT202) -> 0 | L61: =ENTRY!DU203+ENTRY!DV203+ENTRY!DW203+ENTRY!DX203 -> 1
C62: 65.1+ | E62: =ENTRY!DY$203 -> 0 | F62: =ENTRY!DZ$203 -> 0 | G62: =ENTRY!EA$203 -> 0 | H62: =ENTRY!EB$203 -> 0 | I62: =ENTRY!EC$203 -> 0 | J62: =ENTRY!ED$203 -> 0 | K62: =ENTRY!EE$203 -> 0 | L62: =ENTRY!EF$203+ENTRY!EG203+ENTRY!EH203+ENTRY!EI203 -> 0
D63: TOTALS | E63: =SUM(E52:E62) -> 2663 | F63: =SUM(F52:F62) -> 6 | G63: =SUM(G52:G62) -> 0 | H63: =SUM(H52:H62) -> 3 | I63: =SUM(I52:I62) -> 0 | J63: =SUM(J52:J62) -> 1 | K63: =SUM(K52:K62) -> 2 | L63: =SUM(L52:L62) -> 2204
H65: * Includes all trees infested in 2017 and earlier.

Sheet BARK PATCH
B2: NAZCA CONSULTING LTD
B3: 2019 SPRUCE BEETLE SURVEYS
D6: LOCATION: | F6: =ENTRY!A3 -> Blackwater-Nation | I6: CLIENT: | K6: =ENTRY!I3 -> MFLNRO&RD
D7: MAPSHEET #: | F7: =ENTRY!B3 -> 93O 043 | I7: CONTRACT #: | K7: =ENTRY!J3 -> FH208240007
D8: POLYGON #: | F8: =ENTRY!C3 -> 1 | I8: SURVEYOR: | K8: =ENTRY!L3 -> A. O'Grady, C. Lewis, , T. Jenner
D9: SURVEY TYPE: | F9: =ENTRY!K3 -> GRID | I9: CERT. #: | K9: =ENTRY!M3 -> YES
D10: DATE: | F10: =ENTRY!F3 -> Dec 5,7-9, 19 | I10: GPS. | J10: N: | K10: =ENTRY!H3 -> 123° 32' 35.2" | L10: W: | M10: =ENTRY!G3 -> 55° 26' 26.0"
D11: HECTARES: | F11: =ENTRY!D3 -> 106.9 | I11: METERS SURVEYED: | L11: =ENTRY!E3 -> 10000
B14: Table 5. | D14: BARK PATCH SUMMARY
D15: NORTH | I15: SOUTH
D16: NO. OF | E16: NO. OF | F16: NO. OF | G16: NO. OF | H16: NO. OF | I16: NO. OF | J16: NO. OF | K16: NO. OF | L16: NO. OF | M16: NO. OF
B17: S/L # | D17: ADULTS | E17: PUPAE | F17: LARVAE | G17: CALLOWS | H17: ENT.HOLES | I17: ADULTS | J17: PUPAE | K17: LARVAE | L17: CALLOWS | M17: ENT.HOLES
B18: =ENTRY!EJ3 -> 1 | D18: =ENTRY!EL3 -> 0 | E18: =ENTRY!EN3 -> 0 | F18: =ENTRY!EM3 -> 4 | G18: =ENTRY!EO3 -> 0 | H18: =ENTRY!EK3 -> 2 | I18: =ENTRY!EQ3 -> 0 | J18: =ENTRY!ES3 -> 0 | K18: =ENTRY!ER3 -> 14 | L18: =ENTRY!ET3 -> 0 | M18: =ENTRY!EP3 -> 3
B19: =ENTRY!EJ4 -> 1 | D19: =ENTRY!EL4 -> 0 | E19: =ENTRY!EN4 -> 0 | F19: =ENTRY!EM4 -> 4 | G19: =ENTRY!EO4 -> 0 | H19: =ENTRY!EK4 -> 2 | I19: =ENTRY!EQ4 -> 0 | J19: =ENTRY!ES4 -> 0 | K19: =ENTRY!ER4 -> 2 | L19: =ENTRY!ET4 -> 0 | M19: =ENTRY!EP4 -> 3
B20: =ENTRY!EJ5 -> 2 | D20: =ENTRY!EL5 -> 4 | E20: =ENTRY!EN5 -> 0 | F20: =ENTRY!EM5 -> 0 | G20: =ENTRY!EO5 -> 0 | H20: =ENTRY!EK5 -> 2 | I20: =ENTRY!EQ5 -> 3 | J20: =ENTRY!ES5 -> 0 | K20: =ENTRY!ER5 -> 0 | L20: =ENTRY!ET5 -> 0 | M20: =ENTRY!EP5 -> 3
B21: =ENTRY!EJ6 -> 2 | D21: =ENTRY!EL6 -> 0 | E21: =ENTRY!EN6 -> 0 | F21: =ENTRY!EM6 -> 7 | G21: =ENTRY!EO6 -> 6 | H21: =ENTRY!EK6 -> 6 | I21: =ENTRY!EQ6 -> 0 | J21: =ENTRY!ES6 -> 0 | K21: =ENTRY!ER6 -> 14 | L21: =ENTRY!ET6 -> 0 | M21: =ENTRY!EP6 -> 2
B22: =ENTRY!EJ7 -> 4 | D22: =ENTRY!EL7 -> 0 | E22: =ENTRY!EN7 -> 0 | F22: =ENTRY!EM7 -> 0 | G22: =ENTRY!EO7 -> 0 | H22: =ENTRY!EK7 -> 2 | I22: =ENTRY!EQ7 -> 3 | J22: =ENTRY!ES7 -> 0 | K22: =ENTRY!ER7 -> 0 | L22: =ENTRY!ET7 -> 0 | M22: =ENTRY!EP7 -> 0
B23: =ENTRY!EJ8 -> 4 | D23: =ENTRY!EL8 -> 3 | E23: =ENTRY!EN8 -> 0 | F23: =ENTRY!EM8 -> 0 | G23: =ENTRY!EO8 -> 0 | H23: =ENTRY!EK8 -> 4 | I23: =ENTRY!EQ8 -> 0 | J23: =ENTRY!ES8 -> 0 | K23: =ENTRY!ER8 -> 0 | L23: =ENTRY!ET8 -> 0 | M23: =ENTRY!EP8 -> 4
B24: =ENTRY!EJ9 -> 4 | D24: =ENTRY!EL9 -> 0 | E24: =ENTRY!EN9 -> 0 | F24: =ENTRY!EM9 -> 0 | G24: =ENTRY!EO9 -> 0 | H24: =ENTRY!EK9 -> 2 | I24: =ENTRY!EQ9 -> 0 | J24: =ENTRY!ES9 -> 0 | K24: =ENTRY!ER9 -> 3 | L24: =ENTRY!ET9 -> 0 | M24: =ENTRY!EP9 -> 4
B25: =ENTRY!EJ10 -> 4 | D25: =ENTRY!EL10 -> 0 | E25: =ENTRY!EN10 -> 0 | F25: =ENTRY!EM10 -> 0 | G25: =ENTRY!EO10 -> 0 | H25: =ENTRY!EK10 -> 3 | I25: =ENTRY!EQ10 -> 0 | J25: =ENTRY!ES10 -> 0 | K25: =ENTRY!ER10 -> 0 | L25: =ENTRY!ET10 -> 0 | M25: =ENTRY!EP10 -> 4
B26: =ENTRY!EJ11 -> 0 | D26: =ENTRY!EL11 -> 0 | E26: =ENTRY!EN11 -> 0 | F26: =ENTRY!EM11 -> 0 | G26: =ENTRY!EO11 -> 0 | H26: =ENTRY!EK11 -> 0 | I26: =ENTRY!EQ11 -> 0 | J26: =ENTRY!ES11 -> 0 | K26: =ENTRY!ER11 -> 0 | L26: =ENTRY!ET11 -> 0 | M26: =ENTRY!EP11 -> 0
B27: =ENTRY!EJ12 -> 0 | D27: =ENTRY!EL12 -> 0 | E27: =ENTRY!EN12 -> 0 | F27: =ENTRY!EM12 -> 0 | G27: =ENTRY!EO12 -> 0 | H27: =ENTRY!EK12 -> 0 | I27: =ENTRY!EQ12 -> 0 | J27: =ENTRY!ES12 -> 0 | K27: =ENTRY!ER12 -> 0 | L27: =ENTRY!ET12 -> 0 | M27: =ENTRY!EP12 -> 0
B28: =ENTRY!EJ13 -> 0 | D28: =ENTRY!EL13 -> 0 | E28: =ENTRY!EN13 -> 0 | F28: =ENTRY!EM13 -> 0 | G28: =ENTRY!EO13 -> 0 | H28: =ENTRY!EK13 -> 0 | I28: =ENTRY!EQ13 -> 0 | J28: =ENTRY!ES13 -> 0 | K28: =ENTRY!ER13 -> 0 | L28: =ENTRY!ET13 -> 0 | M28: =ENTRY!EP13 -> 0
B29: =ENTRY!EJ14 -> 0 | D29: =ENTRY!EL14 -> 0 | E29: =ENTRY!EN14 -> 0 | F29: =ENTRY!EM14 -> 0 | G29: =ENTRY!EO14 -> 0 | H29: =ENTRY!EK14 -> 0 | I29: =ENTRY!EQ14 -> 0 | J29: =ENTRY!ES14 -> 0 | K29: =ENTRY!ER14 -> 0 | L29: =ENTRY!ET14 -> 0 | M29: =ENTRY!EP14 -> 0
... B37: =ENTRY!EJ22 -> 0 | D37: =ENTRY!EL22 -> 0 | E37: =ENTRY!EN22 -> 0 | F37: =ENTRY!EM22 -> 0 | G37: =ENTRY!EO22 -> 0 | H37: =ENTRY!EK22 -> 0 | I37: =ENTRY!EQ22 -> 0 | J37: =ENTRY!ES22 -> 0 | K37: =ENTRY!ER22 -> 0 | L37: =ENTRY!ET22 -> 0 | M37: =ENTRY!EP22 -> 0
B38: TOTALS: | D38: =SUM(D18:D37) -> 7 | E38: =SUM(E18:E37) -> 0 | F38: =SUM(F18:F37) -> 15 | G38: =SUM(G18:G37) -> 6 | H38: =SUM(H18:H37) -> 23 | I38: =SUM(I18:I37) -> 6 | J38: =SUM(J18:J37) -> 0 | K38: =SUM(K18:K37) -> 33 | ... M38: =SUM(M18:M37) -> 23
B41: Table 6. | D41: ENTRANCE HOLES AND LARVAL COUNT
B43: Entrance Holes
B44: per Phloem Sample* | E44: Attack Density | H44: Living Larvae | J44: Larval Density
B45: < 1 | E45: Low | H45: <4.9 | J45: Low
B46: 1.0 - 1.9 | E46: Moderate | H46: 5.1-14.9 | J46: Moderate
B47: 2.0 - 3.9 | E47: High | H47: 15.0-24.9 | J47: High
B48: > 3.9 | E48: Severe | H48: 24.9+ | J48: Severe
B50: Mean Number of Entrance Holes: | G50: =(H38+M38)/ENTRY!L16 -> 5.75
B51: Mean Number of Living Larvae: | G51: =(F38+K38)/ENTRY!L16 -> 6
H52: *phloem sample = 15cm x 15cm (225cm2)

Sheet COMMENTS
B3: NAZCA CONSULTING LTD
F4: 2019 SPRUCE BEETLE SURVEYS
B6: LOCATION: | E6: =ENTRY!A3 -> Blackwater-Nation | I6: CLIENT: | L6: =ENTRY!I3 -> MFLNRO&RD
B7: MAPSHEET/CP. #: | E7: =ENTRY!B3 -> 93O 043 | I7: CONTRACT #: | L7: =ENTRY!J3 -> FH208240007
B8: POLYGON #: | E8: =ENTRY!C3 -> 1 | I8: SURVEYORS: | L8: =ENTRY!L3 -> A. O'Grady, C. Lewis, , T. Jenner
B9: HECTARES: | E9: =ENTRY!D3 -> 106.9 | I9: CERT. #: | L9: =ENTRY!M3 -> YES
B10: DATE SURVEYED: | E10: =ENTRY!F3 -> Dec 5,7-9, 19 | I10: SURVEY TYPE: | L10: =ENTRY!K3 -> GRID
B11: GPS: | D11: N: | E11: =ENTRY!G3 -> 55° 26' 26.0" | F11: W: | G11: =ENTRY!H3 -> 123° 32' 35.2" | I11: METERS SURVEYED: | L11: 10000
B14: SITE DETAILS:
B16: EXACT LOCATION: | E16: Nation FSR 6km spur up 5.1km | H16: TIMBER TYPES: | J16: SBlEp; BlSEp(At) | L16: SLOPE: | M16: 0-35%
J17: SBlDead Pl
B18: TOPOGRAPHY: | E18: flat/rolling | H18: RIPARIAN ZONES: | J18: Stream | L18: ASPECT: | M18: All
B20: PREVIOUS KNOWN SURVEYS: | G20: No | H20: WILDLIFE HABITAT: | J20: Ungulates
B22: ACCESS INFORMATION:
B24: WINTER ACCESS: | E24: Snowmobile, Walk 1-500m | H24: SUMMER ACCESS: | J24: 4WD Walk 1-500m
B26: BEST ACCESS FOR TREE REMOVAL: | G26: Exisiting road network and establish new roads/trails
B28: POPULATION CHARACTERISTICS:
B30: ORIGINS OF POPULATION: | F30: Existing | I30: WOODPECKER ACTIVITY: | L30: Low
B32: BEETLE INCIDENCE: | E32: Declining | I32: SPREAD POTENTIAL: | L32: Low
B34: PRIORITY LEVEL: | E34: None/Low | I34: NEXT MAJOR FLIGHT: | L34: None
B36: RECOMMENDATIONS:
B38: PRIMARY SOLUTION: | E38: Determine operational feasability/Salvage Harvest | I38: SECONDARY SOLUTION: | L38: No Action
B40: Western 1/2 all large DBH Sx dead. (>35cm).
B41: Eastern 1/2 predominately old beetle killed pine.
B42: Feels like we are 5 years too late.
B43: Old dead Sx (x's) throughout poly, deeply stained with heavy checking.
B44: Portions with no 1st layer Sx through heavy blowdown IBM killed pine.
B45: Most existing Sx (though thick at times) <25-30cm DBH.
