Workbook

Sheet ENTRY
A1: LOCATION | B1: MAPSHEET | C1: POLYGON | D1: Ha. | E1: METERS | F1: DATE | G1: GPS | H1: GPS | I1: LICENCEE | J1: CONTRACT | K1: SURVEY | L1: SURVEYORS | M1: CERT | N1: PIXEL | O1: INF=1 | P1: S/L | Q1: DISTANCE | S1: SW | T1: 1 | U1: 2 | V1: 3 | W1: 4 | X1: 5 | Y1: 6 | Z1: Bl | AA1: At | AB1: Ct | AC1: Ep | AD1: SW | AE1: 1 | AF1: 2 | AG1: 3 | AH1: 4 | AI1: 5 | AJ1: 6 | AK1: Bl | AL1: At | AM1: Ct | AN1: Ep | AO1: SW | AP1: 1 | AQ1: 2 | AR1: 3 | AS1: 4 | AT1: 5 | AU1: 6 | AV1: Bl | AW1: At | AX1: Ct | AY1: Ep | AZ1: SW | BA1: 1 | BB1: 2 | BC1: 3 | BD1: 4 | BE1: 5 | BF1: 6 | BG1: Bl | BH1: At | BI1: Ct | BJ1: Ep | BK1: SW | BL1: 1 | BM1: 2 | BN1: 3 | BO1: 4 | BP1: 5 | BQ1: 6 | BR1: Bl | BS1: At | BT1: Ct | BU1: Ep | BV1: SW | BW1: 1 | BX1: 2 | BY1: 3 | BZ1: 4 | CA1: 5 | CB1: 6 | CC1: Bl | CD1: At | CE1: Ct | CF1: Ep | CG1: SW | CH1: 1 | CI1: 2 | CJ1: 3 | CK1: 4 | CL1: 5 | CM1: 6 | CN1: Bl | CO1: At | CP1: Ct | CQ1: Ep | CR1: SW | CS1: 1 | CT1: 2 | CU1: 3 | CV1: 4 | CW1: 5 | CX1: 6 | CY1: Bl | CZ1: At | DA1: Ct | DB1: Ep | DC1: SW | DD1: 1 | DE1: 2 | DF1: 3 | DG1: 4 | DH1: 5 | DI1: 6 | DJ1: Bl | DK1: At | DL1: Ct | DM1: Ep | DN1: SW | DO1: 1 | DP1: 2 | DQ1: 3 | DR1: 4 | DS1: 5 | DT1: 6 | DU1: Bl | DV1: At | DW1: Ct | DX1: Ep | DY1: SW | DZ1: 1 | EA1: 2 | EB1: 3 | EC1: 4 | ED1: 5 | EE1: 6 | EF1: Bl | EG1: At | EH1: Ct | EI1: Ep | EJ1: =COUNTIF(EJ3:EJ200,">0") -> 8 | EK1: # ENT. | EL1: # PARENT | EM1: # | EN1: # | EO1: # CALLOW | EP1: # ENT. | EQ1: # PARENT | ER1: # | ES1: # | ET1: # CALLOW | EV1: TOTAL | EW1: TOTAL | EX1: TOTAL | EY1: TOTAL | EZ1: TOTAL | FA1: TOTAL | FB1: TOTAL | FC1: TOTAL | FD1: TOTAL | FE1: TOTAL | FF1: TOTAL | FG1: TOTAL | FH1: TOTAL | FI1: TOTAL SW & | FJ1: TOTAL # OF
B2: CP# | C2: # | E2: SURVEYED | G2: N | H2: W | J2: # | K2: TYPE | M2: # | N2: # | O2: UNINF.=0 | Q2: START | R2: END | S2: 12.5 | T2: 12.5 | U2: 12.5 | V2: 12.5 | W2: 12.5 | X2: 12.5 | Y2: 12.5 | Z2: 12.5 | AA2: 12.5 | AB2: 12.5 | AC2: 12.5 | AD2: 17.5 | AE2: 17.5 | AF2: 17.5 | AG2: 17.5 | AH2: 17.5 | AI2: 17.5 | AJ2: 17.5 | AK2: 17.5 | AL2: 17.5 | AM2: 17.5 | AN2: 17.5 | AO2: 25.1 | AP2: 25.1 | AQ2: 25.1 | AR2: 25.1 | AS2: 25.1 | AT2: 25.1 | AU2: 25.1 | AV2: 25.1 | AW2: 25.1 | AX2: 25.1 | AY2: 25.1 | AZ2: 30.1 | BA2: 30.1 | BB2: 30.1 | BC2: 30.1 | BD2: 30.1 | BE2: 30.1 | BF2: 30.1 | BG2: 30.1 | BH2: 30.1 | BI2: 30.1 | BJ2: 30.1 | BK2: 35.1 | BL2: 35.1 | BM2: 35.1 | BN2: 35.1 | BO2: 35.1 | BP2: 35.1 | BQ2: 35.1 | BR2: 35.1 | BS2: 35.1 | BT2: 35.1 | BU2: 35.1 | BV2: 40.1 | BW2: 40.1 | BX2: 40.1 | BY2: 40.1 | BZ2: 40.1 | CA2: 40.1 | CB2: 40.1 | CC2: 40.1 | CD2: 40.1 | CE2: 40.1 | CF2: 40.1 | CG2: 45.1 | CH2: 45.1 | CI2: 45.1 | CJ2: 45.1 | CK2: 45.1 | CL2: 45.1 | CM2: 45.1 | CN2: 45.1 | CO2: 45.1 | CP2: 45.1 | CQ2: 45.1 | CR2: 50.1 | CS2: 50.1 | CT2: 50.1 | CU2: 50.1 | CV2: 50.1 | CW2: 50.1 | CX2: 50.1 | CY2: 50.1 | CZ2: 50.1 | DA2: 50.1 | DB2: 50.1 | DC2: 55.1 | DD2: 55.1 | DE2: 55.1 | DF2: 55.1 | DG2: 55.1 | DH2: 55.1 | DI2: 55.1 | DJ2: 55.1 | DK2: 55.1 | DL2: 55.1 | DM2: 55.1 | DN2: 60.1 | DO2: 60.1 | DP2: 60.1 | DQ2: 60.1 | DR2: 60.1 | DS2: 60.1 | DT2: 60.1 | DU2: 60.1 | DV2: 60.1 | DW2: 60.1 | DX2: 60.1 | DY2: 65.1 | DZ2: 65.1 | EA2: 65.1 | EB2: 65.1 | EC2: 65.1 | ED2: 65.1 | EE2: 65.1 | EF2: 65.1 | EG2: 65.1 | EH2: 65.1 | EI2: 65.1 | EJ2: S/L # | EK2: HOLES | EL2: ADULTS | EM2: LARVAE | EN2: PUPAE | EO2: ADULTS | EP2: HOLES | EQ2: ADULTS | ER2: LARVAE | ES2: PUPAE | ET2: ADULTS | EV2: PIXELS | EW2: Sw | EX2: CODE 1'S | EY2: CODE 2'S | EZ2: CODE 3'S | FA2: CODE 4'S | FB2: CODE 5'S | FC2: CODE 6'S | FD2: Bl | FE2: At | FF2: Ct | FG2: Ep | FH2: SW STEMS | FI2: MERCH STEMS | FJ2: BARK PATCHES
A3: Blackwater-Nation | B3: 93O 043 | C3: 1 | D3: 106.9 | E3: 10000 | F3: Dec 5,7-9, 19 | G3: 55° 26' 26.0" | H3: 123° 32' 35.2" | I3: MFLNRO&RD | J3: FH208240007 | K3: GRID | L3: A. O'Grady, C. Lewis, , T. Jenner | M3: YES | N3: 1 | O3: {=IF(OR(AE3:AJ3>0,AP3:AU3>0,BA3:BF3>0,BL3:BQ3>0,BW3:CB3>0,CH3:CM3>0,CS3:CX3,DD3:DI3>0,DO3:DT3>0,DZ3:EE3),1,0)} -> 0 | P3: 1 | Q3: 0 | R3: 100 | S3: 11 | Z3: 22 | AA3: 14 | AD3: 1 | AK3: 6 | AO3: 1 | AV3: 1 | EJ3: 1 | EK3: 2 | EM3: 4 | EP3: 3 | ER3: 14 | EV3: =IF(R3>=1,1,0) -> 1 | EW3: =S3+AD3+AO3+AZ3+BK3+BV3+CG3+CR3+DC3+DN3+DY3 -> 13 | EX3: =T3+AE3+AP3+BA3+BL3+BW3+CH3+CS3+DD3+DO3+DZ3 -> 0 | EY3: =U3+AF3+AQ3+BB3+BM3+BX3+CI3+CT3+DE3+DP3+EA3 -> 0 | EZ3: =V3+AG3+AR3+BC3+BN3+BY3+CJ3+CU3+DF3+DQ3+EB3 -> 0 | FA3: =W3+AH3+AS3+BD3+BO3+BZ3+CK3+CV3+DG3+DR3+EC3 -> 0 | FB3: =X3+AI3+AT3+BE3+BP3+CA3+CL3+CW3+DH3+DS3+ED3 -> 0 | FC3: =Y3+AJ3+AU3+BF3+BQ3+CB3+CM3+CX3+DI3+DT3+EE3 -> 0 | FD3: =Z3+AK3+AV3+BG3+BR3+CC3+CN3+CY3+DJ3+DU3+EF3 -> 29 | ... FG3: =AC3+AN3+AY3+BJ3+BU3+CF3+CQ3+DB3+DM3+DX3+EI3 -> 0 | FH3: =EW3+EX3+EY3+EZ3+FA3+FB3+FC3 -> 13 | FI3: =FD3+FE3+FF3+FG3+FH3 -> 56 | FJ3: =IF(EK3>=1,1,0) -> 1 | FK3: =IF(EP3>=1,1,0) -> 1
N4: 2 | O4: {=IF(OR(AE4:AJ4>0,AP4:AU4>0,BA4:BF4>0,BL4:BQ4>0,BW4:CB4>0,CH4:CM4>0,CS4:CX4,DD4:DI4>0,DO4:DT4>0,DZ4:EE4),1,0)} -> 0 | P4: 1 | Q4: 100 | R4: 200 | S4: 6 | Z4: 14 | AD4: 4 | AK4: 3 | AN4: 3 | AO4: 1 | AV4: 5 | AY4: 1 | AZ4: 3 | BG4: 3 | BJ4: 3 | BR4: 1 | EJ4: 1 | EK4: 2 | EM4: 4 | EP4: 3 | ER4: 2 | EV4: =IF(R4>=1,1,0) -> 1 | EW4: =S4+AD4+AO4+AZ4+BK4+BV4+CG4+CR4+DC4+DN4+DY4 -> 14 | EX4: =T4+AE4+AP4+BA4+BL4+BW4+CH4+CS4+DD4+DO4+DZ4 -> 0 | EY4: =U4+AF4+AQ4+BB4+BM4+BX4+CI4+CT4+DE4+DP4+EA4 -> 0 | EZ4: =V4+AG4+AR4+BC4+BN4+BY4+CJ4+CU4+DF4+DQ4+EB4 -> 0 | FA4: =W4+AH4+AS4+BD4+BO4+BZ4+CK4+CV4+DG4+DR4+EC4 -> 0 | FB4: =X4+AI4+AT4+BE4+BP4+CA4+CL4+CW4+DH4+DS4+ED4 -> 0 | FC4: =Y4+AJ4+AU4+BF4+BQ4+CB4+CM4+CX4+DI4+DT4+EE4 -> 0 | FD4: =Z4+AK4+AV4+BG4+BR4+CC4+CN4+CY4+DJ4+DU4+EF4 -> 26 | ... FG4: =AC4+AN4+AY4+BJ4+BU4+CF4+CQ4+DB4+DM4+DX4+EI4 -> 7 | FH4: =EW4+EX4+EY4+EZ4+FA4+FB4+FC4 -> 14 | FI4: =FD4+FE4+FF4+FG4+FH4 -> 47 | FJ4: =IF(EK4>=1,1,0) -> 1 | FK4: =IF(EP4>=1,1,0) -> 1
N5: 3 | O5: {=IF(OR(AE5:AJ5>0,AP5:AU5>0,BA5:BF5>0,BL5:BQ5>0,BW5:CB5>0,CH5:CM5>0,CS5:CX5,DD5:DI5>0,DO5:DT5>0,DZ5:EE5),1,0)} -> 0 | P5: 1 | Q5: 200 | R5: 300 | S5: 5 | Z5: 30 | AD5: 2 | AK5: 18 | AN5: 1 | AO5: 1 | AV5: 13 | AZ5: 2 | BG5: 8 | BR5: 3 | CN5: 1 | EJ5: 2 | EK5: 2 | EL5: 4 | EP5: 3 | EQ5: 3 | EV5: =IF(R5>=1,1,0) -> 1 | EW5: =S5+AD5+AO5+AZ5+BK5+BV5+CG5+CR5+DC5+DN5+DY5 -> 10 | EX5: =T5+AE5+AP5+BA5+BL5+BW5+CH5+CS5+DD5+DO5+DZ5 -> 0 | EY5: =U5+AF5+AQ5+BB5+BM5+BX5+CI5+CT5+DE5+DP5+EA5 -> 0 | EZ5: =V5+AG5+AR5+BC5+BN5+BY5+CJ5+CU5+DF5+DQ5+EB5 -> 0 | FA5: =W5+AH5+AS5+BD5+BO5+BZ5+CK5+CV5+DG5+DR5+EC5 -> 0 | FB5: =X5+AI5+AT5+BE5+BP5+CA5+CL5+CW5+DH5+DS5+ED5 -> 0 | FC5: =Y5+AJ5+AU5+BF5+BQ5+CB5+CM5+CX5+DI5+DT5+EE5 -> 0 | FD5: =Z5+AK5+AV5+BG5+BR5+CC5+CN5+CY5+DJ5+DU5+EF5 -> 73 | ... FG5: =AC5+AN5+AY5+BJ5+BU5+CF5+CQ5+DB5+DM5+DX5+EI5 -> 1 | FH5: =EW5+EX5+EY5+EZ5+FA5+FB5+FC5 -> 10 | FI5: =FD5+FE5+FF5+FG5+FH5 -> 84 | FJ5: =IF(EK5>=1,1,0) -> 1 | FK5: =IF(EP5>=1,1,0) -> 1
N6: 4 | O6: {=IF(OR(AE6:AJ6>0,AP6:AU6>0,BA6:BF6>0,BL6:BQ6>0,BW6:CB6>0,CH6:CM6>0,CS6:CX6,DD6:DI6>0,DO6:DT6>0,DZ6:EE6),1,0)} -> 0 | P6: 1 | Q6: 300 | R6: 400 | S6: 1 | Z6: 9 | AD6: 5 | AK6: 3 | AO6: 2 | AV6: 4 | AZ6: 1 | BG6: 7 | BJ6: 1 | BK6: 4 | BR6: 4 | BU6: 1 | BV6: 2 | EJ6: 2 | EK6: 6 | EM6: 7 | EO6: 6 | EP6: 2 | ER6: 14 | EV6: =IF(R6>=1,1,0) -> 1 | EW6: =S6+AD6+AO6+AZ6+BK6+BV6+CG6+CR6+DC6+DN6+DY6 -> 15 | EX6: =T6+AE6+AP6+BA6+BL6+BW6+CH6+CS6+DD6+DO6+DZ6 -> 0 | EY6: =U6+AF6+AQ6+BB6+BM6+BX6+CI6+CT6+DE6+DP6+EA6 -> 0 | EZ6: =V6+AG6+AR6+BC6+BN6+BY6+CJ6+CU6+DF6+DQ6+EB6 -> 0 | FA6: =W6+AH6+AS6+BD6+BO6+BZ6+CK6+CV6+DG6+DR6+EC6 -> 0 | FB6: =X6+AI6+AT6+BE6+BP6+CA6+CL6+CW6+DH6+DS6+ED6 -> 0 | FC6: =Y6+AJ6+AU6+BF6+BQ6+CB6+CM6+CX6+DI6+DT6+EE6 -> 0 | FD6: =Z6+AK6+AV6+BG6+BR6+CC6+CN6+CY6+DJ6+DU6+EF6 -> 27 | ... FG6: =AC6+AN6+AY6+BJ6+BU6+CF6+CQ6+DB6+DM6+DX6+EI6 -> 2 | FH6: =EW6+EX6+EY6+EZ6+FA6+FB6+FC6 -> 15 | FI6: =FD6+FE6+FF6+FG6+FH6 -> 44 | FJ6: =IF(EK6>=1,1,0) -> 1 | FK6: =IF(EP6>=1,1,0) -> 1
A7: TOTAL STEMS PER HECTARE | D7: TOTAL STEMS IN BLOCK | G7: TOTAL STEMS IN BLOCK PER CODE | N7: 5 | O7: {=IF(OR(AE7:AJ7>0,AP7:AU7>0,BA7:BF7>0,BL7:BQ7>0,BW7:CB7>0,CH7:CM7>0,CS7:CX7,DD7:DI7>0,DO7:DT7>0,DZ7:EE7),1,0)} -> 0 | P7: 1 | Q7: 400 | R7: 500 | S7: 3 | Z7: 3 | AC7: 7 | AD7: 3 | AK7: 1 | AO7: 1 | AV7: 1 | BG7: 2 | BJ7: 2 | BU7: 2 | BV7: 2 | CG7: 1 | EJ7: 4 | EK7: 2 | EQ7: 3 | EV7: =IF(R7>=1,1,0) -> 1 | EW7: =S7+AD7+AO7+AZ7+BK7+BV7+CG7+CR7+DC7+DN7+DY7 -> 10 | EX7: =T7+AE7+AP7+BA7+BL7+BW7+CH7+CS7+DD7+DO7+DZ7 -> 0 | EY7: =U7+AF7+AQ7+BB7+BM7+BX7+CI7+CT7+DE7+DP7+EA7 -> 0 | EZ7: =V7+AG7+AR7+BC7+BN7+BY7+CJ7+CU7+DF7+DQ7+EB7 -> 0 | FA7: =W7+AH7+AS7+BD7+BO7+BZ7+CK7+CV7+DG7+DR7+EC7 -> 0 | FB7: =X7+AI7+AT7+BE7+BP7+CA7+CL7+CW7+DH7+DS7+ED7 -> 0 | FC7: =Y7+AJ7+AU7+BF7+BQ7+CB7+CM7+CX7+DI7+DT7+EE7 -> 0 | FD7: =Z7+AK7+AV7+BG7+BR7+CC7+CN7+CY7+DJ7+DU7+EF7 -> 7 | ... FG7: =AC7+AN7+AY7+BJ7+BU7+CF7+CQ7+DB7+DM7+DX7+EI7 -> 11 | FH7: =EW7+EX7+EY7+EZ7+FA7+FB7+FC7 -> 10 | FI7: =FD7+FE7+FF7+FG7+FH7 -> 28 | FJ7: =IF(EK7>=1,1,0) -> 1 | FK7: =IF(EP7>=1,1,0) -> 0
A8: =TOTALS!D20+TOTALS!E20+TOTALS!F20+TOTALS!G20+TOTALS!H20+TOTALS!I20+TOTALS!J20+TOTALS!I31+TOTALS!I32+TOTALS!I33 -> 425.1 | D8: =A8*D3 -> 45443.19 | I8: HEALTHY | J8: =TOTALS!D20*D3 -> 28467.47 | N8: 6 | O8: {=IF(OR(AE8:AJ8>0,AP8:AU8>0,BA8:BF8>0,BL8:BQ8>0,BW8:CB8>0,CH8:CM8>0,CS8:CX8,DD8:DI8>0,DO8:DT8>0,DZ8:EE8),1,0)} -> 0 | P8: 1 | Q8: 500 | R8: 600 | S8: 7 | Z8: 1 | AC8: 2 | AD8: 4 | AK8: 7 | AN8: 2 | AO8: 4 | AV8: 1 | AZ8: 1 | BG8: 1 | BK8: 4 | BU8: 1 | EJ8: 4 | EK8: 4 | EL8: 3 | EP8: 4 | EV8: =IF(R8>=1,1,0) -> 1 | EW8: =S8+AD8+AO8+AZ8+BK8+BV8+CG8+CR8+DC8+DN8+DY8 -> 20 | EX8: =T8+AE8+AP8+BA8+BL8+BW8+CH8+CS8+DD8+DO8+DZ8 -> 0 | EY8: =U8+AF8+AQ8+BB8+BM8+BX8+CI8+CT8+DE8+DP8+EA8 -> 0 | EZ8: =V8+AG8+AR8+BC8+BN8+BY8+CJ8+CU8+DF8+DQ8+EB8 -> 0 | FA8: =W8+AH8+AS8+BD8+BO8+BZ8+CK8+CV8+DG8+DR8+EC8 -> 0 | FB8: =X8+AI8+AT8+BE8+BP8+CA8+CL8+CW8+DH8+DS8+ED8 -> 0 | FC8: =Y8+AJ8+AU8+BF8+BQ8+CB8+CM8+CX8+DI8+DT8+EE8 -> 0 | FD8: =Z8+AK8+AV8+BG8+BR8+CC8+CN8+CY8+DJ8+DU8+EF8 -> 10 | ... FG8: =AC8+AN8+AY8+BJ8+BU8+CF8+CQ8+DB8+DM8+DX8+EI8 -> 5 | FH8: =EW8+EX8+EY8+EZ8+FA8+FB8+FC8 -> 20 | FI8: =FD8+FE8+FF8+FG8+FH8 -> 35 | FJ8: =IF(EK8>=1,1,0) -> 1 | FK8: =IF(EP8>=1,1,0) -> 1
I9: CODE 1 | J9: =TOTALS!E20*D3 -> 64.14 | N9: 7 | O9: {=IF(OR(AE9:AJ9>0,AP9:AU9>0,BA9:BF9>0,BL9:BQ9>0,BW9:CB9>0,CH9:CM9>0,CS9:CX9,DD9:DI9>0,DO9:DT9>0,DZ9:EE9),1,0)} -> 0 | P9: 1 | Q9: 600 | R9: 700 | S9: 13 | X9: 0 | Z9: 4 | AA9: 0 | AB9: 0 | AC9: 2 | AD9: 13 | AI9: 0 | AK9: 5 | AL9: 0 | AM9: 0 | AN9: 4 | AO9: 2 | AV9: 4 | AY9: 1 | BG9: 4 | BV9: 1 | EJ9: 4 | EK9: 2 | EP9: 4 | ER9: 3 | EV9: =IF(R9>=1,1,0) -> 1 | EW9: =S9+AD9+AO9+AZ9+BK9+BV9+CG9+CR9+DC9+DN9+DY9 -> 29 | EX9: =T9+AE9+AP9+BA9+BL9+BW9+CH9+CS9+DD9+DO9+DZ9 -> 0 | EY9: =U9+AF9+AQ9+BB9+BM9+BX9+CI9+CT9+DE9+DP9+EA9 -> 0 | EZ9: =V9+AG9+AR9+BC9+BN9+BY9+CJ9+CU9+DF9+DQ9+EB9 -> 0 | FA9: =W9+AH9+AS9+BD9+BO9+BZ9+CK9+CV9+DG9+DR9+EC9 -> 0 | FB9: =X9+AI9+AT9+BE9+BP9+CA9+CL9+CW9+DH9+DS9+ED9 -> 0 | FC9: =Y9+AJ9+AU9+BF9+BQ9+CB9+CM9+CX9+DI9+DT9+EE9 -> 0 | FD9: =Z9+AK9+AV9+BG9+BR9+CC9+CN9+CY9+DJ9+DU9+EF9 -> 17 | ... FG9: =AC9+AN9+AY9+BJ9+BU9+CF9+CQ9+DB9+DM9+DX9+EI9 -> 7 | FH9: =EW9+EX9+EY9+EZ9+FA9+FB9+FC9 -> 29 | FI9: =FD9+FE9+FF9+FG9+FH9 -> 53 | FJ9: =IF(EK9>=1,1,0) -> 1 | FK9: =IF(EP9>=1,1,0) -> 1
I10: CODE 2 | J10: =TOTALS!F20*D3 -> 0 | N10: 8 | O10: {=IF(OR(AE10:AJ10>0,AP10:AU10>0,BA10:BF10>0,BL10:BQ10>0,BW10:CB10>0,CH10:CM10>0,CS10:CX10,DD10:DI10>0,DO10:DT10>0,DZ10:EE10),1,0)} -> 0 | P10: 1 | Q10: 700 | R10: 800 | S10: 6 | Z10: 1 | AC10: 1 | AD10: 13 | AK10: 4 | AN10: 1 | AO10: 3 | AV10: 1 | AZ10: 1 | EJ10: 4 | EK10: 3 | EP10: 4 | EV10: =IF(R10>=1,1,0) -> 1 | EW10: =S10+AD10+AO10+AZ10+BK10+BV10+CG10+CR10+DC10+DN10+DY10 -> 23 | EX10: =T10+AE10+AP10+BA10+BL10+BW10+CH10+CS10+DD10+DO10+DZ10 -> 0 | EY10: =U10+AF10+AQ10+BB10+BM10+BX10+CI10+CT10+DE10+DP10+EA10 -> 0 | EZ10: =V10+AG10+AR10+BC10+BN10+BY10+CJ10+CU10+DF10+DQ10+EB10 -> 0 | FA10: =W10+AH10+AS10+BD10+BO10+BZ10+CK10+CV10+DG10+DR10+EC10 -> 0 | FB10: =X10+AI10+AT10+BE10+BP10+CA10+CL10+CW10+DH10+DS10+ED10 -> 0 | FC10: =Y10+AJ10+AU10+BF10+BQ10+CB10+CM10+CX10+DI10+DT10+EE10 -> 0 | FD10: =Z10+AK10+AV10+BG10+BR10+CC10+CN10+CY10+DJ10+DU10+EF10 -> 6 | ... FG10: =AC10+AN10+AY10+BJ10+BU10+CF10+CQ10+DB10+DM10+DX10+EI10 -> 2 | FH10: =EW10+EX10+EY10+EZ10+FA10+FB10+FC10 -> 23 | FI10: =FD10+FE10+FF10+FG10+FH10 -> 31 | FJ10: =IF(EK10>=1,1,0) -> 1 | FK10: =IF(EP10>=1,1,0) -> 1
I11: CODE 3 | J11: =TOTALS!G20*D3 -> 32.07 | N11: 9 | O11: {=IF(OR(AE11:AJ11>0,AP11:AU11>0,BA11:BF11>0,BL11:BQ11>0,BW11:CB11>0,CH11:CM11>0,CS11:CX11,DD11:DI11>0,DO11:DT11>0,DZ11:EE11),1,0)} -> 0 | P11: 1 | Q11: 800 | R11: 900 | S11: 14 | Z11: 20 | AD11: 3 | AK11: 6 | AO11: 4 | AV11: 1 | AY11: 1 | AZ11: 2 | BU11: 1 | BV11: 2 | EV11: =IF(R11>=1,1,0) -> 1 | EW11: =S11+AD11+AO11+AZ11+BK11+BV11+CG11+CR11+DC11+DN11+DY11 -> 25 | EX11: =T11+AE11+AP11+BA11+BL11+BW11+CH11+CS11+DD11+DO11+DZ11 -> 0 | EY11: =U11+AF11+AQ11+BB11+BM11+BX11+CI11+CT11+DE11+DP11+EA11 -> 0 | EZ11: =V11+AG11+AR11+BC11+BN11+BY11+CJ11+CU11+DF11+DQ11+EB11 -> 0 | FA11: =W11+AH11+AS11+BD11+BO11+BZ11+CK11+CV11+DG11+DR11+EC11 -> 0 | FB11: =X11+AI11+AT11+BE11+BP11+CA11+CL11+CW11+DH11+DS11+ED11 -> 0 | FC11: =Y11+AJ11+AU11+BF11+BQ11+CB11+CM11+CX11+DI11+DT11+EE11 -> 0 | FD11: =Z11+AK11+AV11+BG11+BR11+CC11+CN11+CY11+DJ11+DU11+EF11 -> 27 | ... FG11: =AC11+AN11+AY11+BJ11+BU11+CF11+CQ11+DB11+DM11+DX11+EI11 -> 2 | FH11: =EW11+EX11+EY11+EZ11+FA11+FB11+FC11 -> 25 | FI11: =FD11+FE11+FF11+FG11+FH11 -> 54 | FJ11: =IF(EK11>=1,1,0) -> 0 | FK11: =IF(EP11>=1,1,0) -> 0
A12: TOTAL INFESTED FOR EACH CODE | E12: TOTAL DBH PER CODE | I12: CODE 4 | J12: =TOTALS!H20*D3 -> 0 | N12: 10 | O12: {=IF(OR(AE12:AJ12>0,AP12:AU12>0,BA12:BF12>0,BL12:BQ12>0,BW12:CB12>0,CH12:CM12>0,CS12:CX12,DD12:DI12>0,DO12:DT12>0,DZ12:EE12),1,0)} -> 1 | P12: 1 | Q12: 900 | R12: 1000 | S12: 9 | Z12: 2 | AD12: 6 | AK12: 7 | AN12: 3 | AO12: 3 | AP12: 1 | AV12: 1 | AZ12: 1 | BG12: 2 | BU12: 1 | EV12: =IF(R12>=1,1,0) -> 1 | EW12: =S12+AD12+AO12+AZ12+BK12+BV12+CG12+CR12+DC12+DN12+DY12 -> 19 | EX12: =T12+AE12+AP12+BA12+BL12+BW12+CH12+CS12+DD12+DO12+DZ12 -> 1 | EY12: =U12+AF12+AQ12+BB12+BM12+BX12+CI12+CT12+DE12+DP12+EA12 -> 0 | EZ12: =V12+AG12+AR12+BC12+BN12+BY12+CJ12+CU12+DF12+DQ12+EB12 -> 0 | FA12: =W12+AH12+AS12+BD12+BO12+BZ12+CK12+CV12+DG12+DR12+EC12 -> 0 | FB12: =X12+AI12+AT12+BE12+BP12+CA12+CL12+CW12+DH12+DS12+ED12 -> 0 | FC12: =Y12+AJ12+AU12+BF12+BQ12+CB12+CM12+CX12+DI12+DT12+EE12 -> 0 | FD12: =Z12+AK12+AV12+BG12+BR12+CC12+CN12+CY12+DJ12+DU12+EF12 -> 12 | ... FG12: =AC12+AN12+AY12+BJ12+BU12+CF12+CQ12+DB12+DM12+DX12+EI12 -> 4 | FH12: =EW12+EX12+EY12+EZ12+FA12+FB12+FC12 -> 20 | FI12: =FD12+FE12+FF12+FG12+FH12 -> 36 | FJ12: =IF(EK12>=1,1,0) -> 0 | FK12: =IF(EP12>=1,1,0) -> 0
I13: CODE 5 | J13: =TOTALS!I20*D3 -> 10.69 | N13: 11 | O13: {=IF(OR(AE13:AJ13>0,AP13:AU13>0,BA13:BF13>0,BL13:BQ13>0,BW13:CB13>0,CH13:CM13>0,CS13:CX13,DD13:DI13>0,DO13:DT13>0,DZ13:EE13),1,0)} -> 0 | P13: 1 | Q13: 1000 | R13: 1100 | Z13: 1 | AD13: 1 | AK13: 1 | AO13: 1 | AV13: 3 | AZ13: 1 | BG13: 1 | BV13: 1 | EV13: =IF(R13>=1,1,0) -> 1 | EW13: =S13+AD13+AO13+AZ13+BK13+BV13+CG13+CR13+DC13+DN13+DY13 -> 4 | EX13: =T13+AE13+AP13+BA13+BL13+BW13+CH13+CS13+DD13+DO13+DZ13 -> 0 | EY13: =U13+AF13+AQ13+BB13+BM13+BX13+CI13+CT13+DE13+DP13+EA13 -> 0 | EZ13: =V13+AG13+AR13+BC13+BN13+BY13+CJ13+CU13+DF13+DQ13+EB13 -> 0 | FA13: =W13+AH13+AS13+BD13+BO13+BZ13+CK13+CV13+DG13+DR13+EC13 -> 0 | FB13: =X13+AI13+AT13+BE13+BP13+CA13+CL13+CW13+DH13+DS13+ED13 -> 0 | FC13: =Y13+AJ13+AU13+BF13+BQ13+CB13+CM13+CX13+DI13+DT13+EE13 -> 0 | FD13: =Z13+AK13+AV13+BG13+BR13+CC13+CN13+CY13+DJ13+DU13+EF13 -> 6 | ... FG13: =AC13+AN13+AY13+BJ13+BU13+CF13+CQ13+DB13+DM13+DX13+EI13 -> 0 | FH13: =EW13+EX13+EY13+EZ13+FA13+FB13+FC13 -> 4 | FI13: =FD13+FE13+FF13+FG13+FH13 -> 10 | FJ13: =IF(EK13>=1,1,0) -> 0 | FK13: =IF(EP13>=1,1,0) -> 0
A14: 1 | B14: =AE203+AP203+BA203+BL203+BW203+CH203+CS203+DD203+DO203 -> 6 | E14: 1 | F14: =(AE203*0.2125)+(AP203*0.275)+(BA203*0.325)+(BL203*0.375)+(BW203*0.425)+(CH203*0.475)+(CS203*0.525)+(DD203*0.575)+(DO203*0.601) -> 2 | I14: CODE 6 | J14: =TOTALS!J20*D3 -> 21.38 | N14: 12 | O14: {=IF(OR(AE14:AJ14>0,AP14:AU14>0,BA14:BF14>0,BL14:BQ14>0,BW14:CB14>0,CH14:CM14>0,CS14:CX14,DD14:DI14>0,DO14:DT14>0,DZ14:EE14),1,0)} -> 1 | P14: 1 | Q14: 1100 | R14: 1200 | S14: 1 | Z14: 4 | AD14: 1 | AK14: 2 | AO14: 4 | AU14: 1 | AV14: 5 | AZ14: 1 | BG14: 3 | BR14: 3 | CC14: 1 | EV14: =IF(R14>=1,1,0) -> 1 | EW14: =S14+AD14+AO14+AZ14+BK14+BV14+CG14+CR14+DC14+DN14+DY14 -> 7 | EX14: =T14+AE14+AP14+BA14+BL14+BW14+CH14+CS14+DD14+DO14+DZ14 -> 0 | EY14: =U14+AF14+AQ14+BB14+BM14+BX14+CI14+CT14+DE14+DP14+EA14 -> 0 | EZ14: =V14+AG14+AR14+BC14+BN14+BY14+CJ14+CU14+DF14+DQ14+EB14 -> 0 | FA14: =W14+AH14+AS14+BD14+BO14+BZ14+CK14+CV14+DG14+DR14+EC14 -> 0 | FB14: =X14+AI14+AT14+BE14+BP14+CA14+CL14+CW14+DH14+DS14+ED14 -> 0 | FC14: =Y14+AJ14+AU14+BF14+BQ14+CB14+CM14+CX14+DI14+DT14+EE14 -> 1 | FD14: =Z14+AK14+AV14+BG14+BR14+CC14+CN14+CY14+DJ14+DU14+EF14 -> 18 | ... FG14: =AC14+AN14+AY14+BJ14+BU14+CF14+CQ14+DB14+DM14+DX14+EI14 -> 0 | FH14: =EW14+EX14+EY14+EZ14+FA14+FB14+FC14 -> 8 | FI14: =FD14+FE14+FF14+FG14+FH14 -> 26 | FJ14: =IF(EK14>=1,1,0) -> 0 | FK14: =IF(EP14>=1,1,0) -> 0
A15: 2 | B15: =AF203+AQ203+BB203+BM203+BX203+CI203+DD203+DE203+DP203 -> 0 | E15: 2 | F15: =(AF203*0.2125)+(AQ203*0.275)+(BB203*0.325)+(BM203*0.375)+(BX203*0.425)+(CI203*0.475)+(CT203*0.525)+(DE203*0.575)+(DP203*0.601) -> 0 | N15: 13 | O15: {=IF(OR(AE15:AJ15>0,AP15:AU15>0,BA15:BF15>0,BL15:BQ15>0,BW15:CB15>0,CH15:CM15>0,CS15:CX15,DD15:DI15>0,DO15:DT15>0,DZ15:EE15),1,0)} -> 0 | P15: 1 | Q15: 1200 | R15: 1300 | S15: 8 | Z15: 5 | AC15: 8 | AD15: 10 | AK15: 4 | AN15: 4 | AO15: 4 | AV15: 2 | AY15: 1 | AZ15: 2 | BG15: 1 | BJ15: 1 | BK15: 3 | BR15: 3 | BV15: 1 | CC15: 1 | EV15: =IF(R15>=1,1,0) -> 1 | EW15: =S15+AD15+AO15+AZ15+BK15+BV15+CG15+CR15+DC15+DN15+DY15 -> 28 | EX15: =T15+AE15+AP15+BA15+BL15+BW15+CH15+CS15+DD15+DO15+DZ15 -> 0 | EY15: =U15+AF15+AQ15+BB15+BM15+BX15+CI15+CT15+DE15+DP15+EA15 -> 0 | EZ15: =V15+AG15+AR15+BC15+BN15+BY15+CJ15+CU15+DF15+DQ15+EB15 -> 0 | FA15: =W15+AH15+AS15+BD15+BO15+BZ15+CK15+CV15+DG15+DR15+EC15 -> 0 | FB15: =X15+AI15+AT15+BE15+BP15+CA15+CL15+CW15+DH15+DS15+ED15 -> 0 | FC15: =Y15+AJ15+AU15+BF15+BQ15+CB15+CM15+CX15+DI15+DT15+EE15 -> 0 | FD15: =Z15+AK15+AV15+BG15+BR15+CC15+CN15+CY15+DJ15+DU15+EF15 -> 16 | ... FG15: =AC15+AN15+AY15+BJ15+BU15+CF15+CQ15+DB15+DM15+DX15+EI15 -> 14 | FH15: =EW15+EX15+EY15+EZ15+FA15+FB15+FC15 -> 28 | FI15: =FD15+FE15+FF15+FG15+FH15 -> 58 | FJ15: =IF(EK15>=1,1,0) -> 0 | FK15: =IF(EP15>=1,1,0) -> 0
A16: 3 | B16: =AG203+AR203+BC203+BN203+BY203+CJ203+CU203+DF203+DQ203 -> 3 | E16: 3 | F16: =(AG203*0.2125)+(AR203*0.275)+(BC203*0.325)+(BN203*0.375)+(BY203*0.425)+(CJ203*0.475)+(CU203*0.525)+(DF203*0.575)+(DQ203*0.601) -> 1.075 | I16: TOTAL # OF BARK PATCHES | L16: =EJ1 -> 8 | N16: 14 | O16: {=IF(OR(AE16:AJ16>0,AP16:AU16>0,BA16:BF16>0,BL16:BQ16>0,BW16:CB16>0,CH16:CM16>0,CS16:CX16,DD16:DI16>0,DO16:DT16>0,DZ16:EE16),1,0)} -> 0 | P16: 1 | Q16: 1300 | R16: 1400 | S16: 7 | AC16: 15 | AD16: 4 | AN16: 6 | AY16: 4 | AZ16: 2 | BG16: 3 | BJ16: 1 | BK16: 1 | BU16: 1 | BV16: 0 | EV16: =IF(R16>=1,1,0) -> 1 | EW16: =S16+AD16+AO16+AZ16+BK16+BV16+CG16+CR16+DC16+DN16+DY16 -> 14 | EX16: =T16+AE16+AP16+BA16+BL16+BW16+CH16+CS16+DD16+DO16+DZ16 -> 0 | EY16: =U16+AF16+AQ16+BB16+BM16+BX16+CI16+CT16+DE16+DP16+EA16 -> 0 | EZ16: =V16+AG16+AR16+BC16+BN16+BY16+CJ16+CU16+DF16+DQ16+EB16 -> 0 | FA16: =W16+AH16+AS16+BD16+BO16+BZ16+CK16+CV16+DG16+DR16+EC16 -> 0 | FB16: =X16+AI16+AT16+BE16+BP16+CA16+CL16+CW16+DH16+DS16+ED16 -> 0 | FC16: =Y16+AJ16+AU16+BF16+BQ16+CB16+CM16+CX16+DI16+DT16+EE16 -> 0 | FD16: =Z16+AK16+AV16+BG16+BR16+CC16+CN16+CY16+DJ16+DU16+EF16 -> 3 | ... FG16: =AC16+AN16+AY16+BJ16+BU16+CF16+CQ16+DB16+DM16+DX16+EI16 -> 27 | FH16: =EW16+EX16+EY16+EZ16+FA16+FB16+FC16 -> 14 | FI16: =FD16+FE16+FF16+FG16+FH16 -> 44 | FJ16: =IF(EK16>=1,1,0) -> 0 | FK16: =IF(EP16>=1,1,0) -> 0
A17: 4 | B17: =AH203+AS203+BD203+BO203+BZ203+CK203+CV203+DG203+DR203 -> 0 | E17: 4 | F17: =(AH203*0.2125)+(AS203*0.275)+(BD203*0.325)+(BO203*0.375)+(BZ203*0.425)+(CK203*0.475)+(CV203*0.525)+(DG203*0.575)+(DR203*0.601) -> 0 | N17: 15 | O17: {=IF(OR(AE17:AJ17>0,AP17:AU17>0,BA17:BF17>0,BL17:BQ17>0,BW17:CB17>0,CH17:CM17>0,CS17:CX17,DD17:DI17>0,DO17:DT17>0,DZ17:EE17),1,0)} -> 0 | P17: 1 | Q17: 1400 | R17: 1500 | S17: 1 | AC17: 3 | AD17: 2 | AK17: 3 | AV17: 3 | AZ17: 5 | BK17: 1 | EV17: =IF(R17>=1,1,0) -> 1 | EW17: =S17+AD17+AO17+AZ17+BK17+BV17+CG17+CR17+DC17+DN17+DY17 -> 9 | EX17: =T17+AE17+AP17+BA17+BL17+BW17+CH17+CS17+DD17+DO17+DZ17 -> 0 | EY17: =U17+AF17+AQ17+BB17+BM17+BX17+CI17+CT17+DE17+DP17+EA17 -> 0 | EZ17: =V17+AG17+AR17+BC17+BN17+BY17+CJ17+CU17+DF17+DQ17+EB17 -> 0 | FA17: =W17+AH17+AS17+BD17+BO17+BZ17+CK17+CV17+DG17+DR17+EC17 -> 0 | FB17: =X17+AI17+AT17+BE17+BP17+CA17+CL17+CW17+DH17+DS17+ED17 -> 0 | FC17: =Y17+AJ17+AU17+BF17+BQ17+CB17+CM17+CX17+DI17+DT17+EE17 -> 0 | FD17: =Z17+AK17+AV17+BG17+BR17+CC17+CN17+CY17+DJ17+DU17+EF17 -> 6 | ... FG17: =AC17+AN17+AY17+BJ17+BU17+CF17+CQ17+DB17+DM17+DX17+EI17 -> 3 | FH17: =EW17+EX17+EY17+EZ17+FA17+FB17+FC17 -> 9 | FI17: =FD17+FE17+FF17+FG17+FH17 -> 18 | FJ17: =IF(EK17>=1,1,0) -> 0 | FK17: =IF(EP17>=1,1,0) -> 0
A18: 5 | B18: =AI203+AT203+BE203+BP203+CA203+CL203+CW203+DH203+DS203 -> 1 | E18: 5 | F18: =(AI203*0.2125)+(AT203*0.275)+(BE203*0.325)+(BP203*0.375)+(CA203*0.425)+(CL203*0.475)+(CW203*0.525)+(DH203*0.575)+(DS203*0.601) -> 0.325 | N18: 16 | O18: {=IF(OR(AE18:AJ18>0,AP18:AU18>0,BA18:BF18>0,BL18:BQ18>0,BW18:CB18>0,CH18:CM18>0,CS18:CX18,DD18:DI18>0,DO18:DT18>0,DZ18:EE18),1,0)} -> 1 | P18: 1 | Q18: 1500 | R18: 1600 | S18: 1 | Z18: 2 | AD18: 2 | AN18: 1 | AO18: 4 | AV18: 2 | AY18: 1 | AZ18: 4 | BA18: 1 | BG18: 1 | BJ18: 1 | BK18: 2 | BR18: 1 | BU18: 2 | BV18: 1 | EV18: =IF(R18>=1,1,0) -> 1 | EW18: =S18+AD18+AO18+AZ18+BK18+BV18+CG18+CR18+DC18+DN18+DY18 -> 14 | EX18: =T18+AE18+AP18+BA18+BL18+BW18+CH18+CS18+DD18+DO18+DZ18 -> 1 | EY18: =U18+AF18+AQ18+BB18+BM18+BX18+CI18+CT18+DE18+DP18+EA18 -> 0 | EZ18: =V18+AG18+AR18+BC18+BN18+BY18+CJ18+CU18+DF18+DQ18+EB18 -> 0 | FA18: =W18+AH18+AS18+BD18+BO18+BZ18+CK18+CV18+DG18+DR18+EC18 -> 0 | FB18: =X18+AI18+AT18+BE18+BP18+CA18+CL18+CW18+DH18+DS18+ED18 -> 0 | FC18: =Y18+AJ18+AU18+BF18+BQ18+CB18+CM18+CX18+DI18+DT18+EE18 -> 0 | FD18: =Z18+AK18+AV18+BG18+BR18+CC18+CN18+CY18+DJ18+DU18+EF18 -> 6 | ... FG18: =AC18+AN18+AY18+BJ18+BU18+CF18+CQ18+DB18+DM18+DX18+EI18 -> 5 | FH18: =EW18+EX18+EY18+EZ18+FA18+FB18+FC18 -> 15 | FI18: =FD18+FE18+FF18+FG18+FH18 -> 26 | FJ18: =IF(EK18>=1,1,0) -> 0 | FK18: =IF(EP18>=1,1,0) -> 0
A19: 6 | B19: =AJ203+AU203+BF203+BQ203+CB203+CM203+CX203+DI203+DT203 -> 2 | E19: 6 | F19: =(AJ203*0.2125)+(AU203*0.275)+(BF203*0.325)+(BQ203*0.375)+(CB203*0.425)+(CM203*0.475)+(CX203*0.525)+(DI203*0.575)+(DT203*0.601) -> 0.7 | N19: 17 | O19: {=IF(OR(AE19:AJ19>0,AP19:AU19>0,BA19:BF19>0,BL19:BQ19>0,BW19:CB19>0,CH19:CM19>0,CS19:CX19,DD19:DI19>0,DO19:DT19>0,DZ19:EE19),1,0)} -> 0 | P19: 1 | Q19: 1600 | R19: 1700 | S19: 3 | Z19: 4 | AC19: 2 | AD19: 5 | AK19: 4 | AN19: 5 | AO19: 1 | AV19: 2 | AY19: 3 | AZ19: 2 | BG19: 1 | BJ19: 1 | BK19: 2 | BR19: 1 | BU19: 2 | EV19: =IF(R19>=1,1,0) -> 1 | EW19: =S19+AD19+AO19+AZ19+BK19+BV19+CG19+CR19+DC19+DN19+DY19 -> 13 | EX19: =T19+AE19+AP19+BA19+BL19+BW19+CH19+CS19+DD19+DO19+DZ19 -> 0 | EY19: =U19+AF19+AQ19+BB19+BM19+BX19+CI19+CT19+DE19+DP19+EA19 -> 0 | EZ19: =V19+AG19+AR19+BC19+BN19+BY19+CJ19+CU19+DF19+DQ19+EB19 -> 0 | FA19: =W19+AH19+AS19+BD19+BO19+BZ19+CK19+CV19+DG19+DR19+EC19 -> 0 | FB19: =X19+AI19+AT19+BE19+BP19+CA19+CL19+CW19+DH19+DS19+ED19 -> 0 | FC19: =Y19+AJ19+AU19+BF19+BQ19+CB19+CM19+CX19+DI19+DT19+EE19 -> 0 | FD19: =Z19+AK19+AV19+BG19+BR19+CC19+CN19+CY19+DJ19+DU19+EF19 -> 12 | ... FG19: =AC19+AN19+AY19+BJ19+BU19+CF19+CQ19+DB19+DM19+DX19+EI19 -> 13 | FH19: =EW19+EX19+EY19+EZ19+FA19+FB19+FC19 -> 13 | FI19: =FD19+FE19+FF19+FG19+FH19 -> 38 | FJ19: =IF(EK19>=1,1,0) -> 0 | FK19: =IF(EP19>=1,1,0) -> 0
N20: 18 | O20: {=IF(OR(AE20:AJ20>0,AP20:AU20>0,BA20:BF20>0,BL20:BQ20>0,BW20:CB20>0,CH20:CM20>0,CS20:CX20,DD20:DI20>0,DO20:DT20>0,DZ20:EE20),1,0)} -> 0 | P20: 1 | Q20: 1700 | R20: 1800 | S20: 1 | Z20: 1 | AD20: 1 | AK20: 1 | AN20: 1 | AO20: 1 | AV20: 2 | AY20: 1 | AZ20: 1 | BG20: 1 | BK20: 1 | BV20: 1 | EV20: =IF(R20>=1,1,0) -> 1 | EW20: =S20+AD20+AO20+AZ20+BK20+BV20+CG20+CR20+DC20+DN20+DY20 -> 6 | EX20: =T20+AE20+AP20+BA20+BL20+BW20+CH20+CS20+DD20+DO20+DZ20 -> 0 | EY20: =U20+AF20+AQ20+BB20+BM20+BX20+CI20+CT20+DE20+DP20+EA20 -> 0 | EZ20: =V20+AG20+AR20+BC20+BN20+BY20+CJ20+CU20+DF20+DQ20+EB20 -> 0 | FA20: =W20+AH20+AS20+BD20+BO20+BZ20+CK20+CV20+DG20+DR20+EC20 -> 0 | FB20: =X20+AI20+AT20+BE20+BP20+CA20+CL20+CW20+DH20+DS20+ED20 -> 0 | FC20: =Y20+AJ20+AU20+BF20+BQ20+CB20+CM20+CX20+DI20+DT20+EE20 -> 0 | FD20: =Z20+AK20+AV20+BG20+BR20+CC20+CN20+CY20+DJ20+DU20+EF20 -> 5 | ... FG20: =AC20+AN20+AY20+BJ20+BU20+CF20+CQ20+DB20+DM20+DX20+EI20 -> 2 | FH20: =EW20+EX20+EY20+EZ20+FA20+FB20+FC20 -> 6 | FI20: =FD20+FE20+FF20+FG20+FH20 -> 13 | FJ20: =IF(EK20>=1,1,0) -> 0 | FK20: =IF(EP20>=1,1,0) -> 0
B21: AVERAGE DBH PER CODE | E21: AVERAGE HEIGHT PER DBH CLASS | N21: 19 | O21: {=IF(OR(AE21:AJ21>0,AP21:AU21>0,BA21:BF21>0,BL21:BQ21>0,BW21:CB21>0,CH21:CM21>0,CS21:CX21,DD21:DI21>0,DO21:DT21>0,DZ21:EE21),1,0)} -> 0 | P21: 1 | Q21: 1800 | R21: 1900 | S21: 12 | Z21: 10 | AC21: 4 | AD21: 8 | AK21: 1 | AN21: 4 | AO21: 6 | AV21: 3 | AY21: 2 | AZ21: 3 | BG21: 1 | BJ21: 3 | BK21: 1 | CR21: 1 | EV21: =IF(R21>=1,1,0) -> 1 | EW21: =S21+AD21+AO21+AZ21+BK21+BV21+CG21+CR21+DC21+DN21+DY21 -> 31 | EX21: =T21+AE21+AP21+BA21+BL21+BW21+CH21+CS21+DD21+DO21+DZ21 -> 0 | EY21: =U21+AF21+AQ21+BB21+BM21+BX21+CI21+CT21+DE21+DP21+EA21 -> 0 | EZ21: =V21+AG21+AR21+BC21+BN21+BY21+CJ21+CU21+DF21+DQ21+EB21 -> 0 | FA21: =W21+AH21+AS21+BD21+BO21+BZ21+CK21+CV21+DG21+DR21+EC21 -> 0 | FB21: =X21+AI21+AT21+BE21+BP21+CA21+CL21+CW21+DH21+DS21+ED21 -> 0 | FC21: =Y21+AJ21+AU21+BF21+BQ21+CB21+CM21+CX21+DI21+DT21+EE21 -> 0 | FD21: =Z21+AK21+AV21+BG21+BR21+CC21+CN21+CY21+DJ21+DU21+EF21 -> 15 | ... FG21: =AC21+AN21+AY21+BJ21+BU21+CF21+CQ21+DB21+DM21+DX21+EI21 -> 13 | FH21: =EW21+EX21+EY21+EZ21+FA21+FB21+FC21 -> 31 | FI21: =FD21+FE21+FF21+FG21+FH21 -> 59 | FJ21: =IF(EK21>=1,1,0) -> 0 | FK21: =IF(EP21>=1,1,0) -> 0
B22: 1 | C22: =F14/B14 -> 0.33333333 | E22: (ENTER 1 IN FIRST COLUMN IF ENTERING HEIGHT) | N22: 20 | O22: {=IF(OR(AE22:AJ22>0,AP22:AU22>0,BA22:BF22>0,BL22:BQ22>0,BW22:CB22>0,CH22:CM22>0,CS22:CX22,DD22:DI22>0,DO22:DT22>0,DZ22:EE22),1,0)} -> 0 | P22: 1 | Q22: 1900 | R22: 2000 | S22: 13 | Z22: 8 | AC22: 3 | AD22: 5 | AK22: 5 | AN22: 4 | AV22: 5 | AX22: 0 | AY22: 1 | AZ22: 1 | BG22: 2 | BJ22: 1 | EV22: =IF(R22>=1,1,0) -> 1 | EW22: =S22+AD22+AO22+AZ22+BK22+BV22+CG22+CR22+DC22+DN22+DY22 -> 19 | EX22: =T22+AE22+AP22+BA22+BL22+BW22+CH22+CS22+DD22+DO22+DZ22 -> 0 | EY22: =U22+AF22+AQ22+BB22+BM22+BX22+CI22+CT22+DE22+DP22+EA22 -> 0 | EZ22: =V22+AG22+AR22+BC22+BN22+BY22+CJ22+CU22+DF22+DQ22+EB22 -> 0 | FA22: =W22+AH22+AS22+BD22+BO22+BZ22+CK22+CV22+DG22+DR22+EC22 -> 0 | FB22: =X22+AI22+AT22+BE22+BP22+CA22+CL22+CW22+DH22+DS22+ED22 -> 0 | FC22: =Y22+AJ22+AU22+BF22+BQ22+CB22+CM22+CX22+DI22+DT22+EE22 -> 0 | FD22: =Z22+AK22+AV22+BG22+BR22+CC22+CN22+CY22+DJ22+DU22+EF22 -> 20 | ... FG22: =AC22+AN22+AY22+BJ22+BU22+CF22+CQ22+DB22+DM22+DX22+EI22 -> 9 | FH22: =EW22+EX22+EY22+EZ22+FA22+FB22+FC22 -> 19 | FI22: =FD22+FE22+FF22+FG22+FH22 -> 48 | FJ22: =IF(EK22>=1,1,0) -> 0 | FK22: =IF(EP22>=1,1,0) -> 0
B23: 2 | C23: =F15/B15 -> #DIV/0! | E23: (ENTER 0 IN FIRST COLUMN IF NOT ENTERING HEIGHT) | N23: 21 | O23: {=IF(OR(AE23:AJ23>0,AP23:AU23>0,BA23:BF23>0,BL23:BQ23>0,BW23:CB23>0,CH23:CM23>0,CS23:CX23,DD23:DI23>0,DO23:DT23>0,DZ23:EE23),1,0)} -> 0 | P23: 1 | Q23: 2000 | R23: 2100 | S23: 3 | Z23: 6 | AD23: 3 | AK23: 5 | AO23: 3 | AV23: 2 | AZ23: 1 | BK23: 2 | EV23: =IF(R23>=1,1,0) -> 1 | EW23: =S23+AD23+AO23+AZ23+BK23+BV23+CG23+CR23+DC23+DN23+DY23 -> 12 | EX23: =T23+AE23+AP23+BA23+BL23+BW23+CH23+CS23+DD23+DO23+DZ23 -> 0 | EY23: =U23+AF23+AQ23+BB23+BM23+BX23+CI23+CT23+DE23+DP23+EA23 -> 0 | EZ23: =V23+AG23+AR23+BC23+BN23+BY23+CJ23+CU23+DF23+DQ23+EB23 -> 0 | FA23: =W23+AH23+AS23+BD23+BO23+BZ23+CK23+CV23+DG23+DR23+EC23 -> 0 | FB23: =X23+AI23+AT23+BE23+BP23+CA23+CL23+CW23+DH23+DS23+ED23 -> 0 | FC23: =Y23+AJ23+AU23+BF23+BQ23+CB23+CM23+CX23+DI23+DT23+EE23 -> 0 | FD23: =Z23+AK23+AV23+BG23+BR23+CC23+CN23+CY23+DJ23+DU23+EF23 -> 13 | ... FG23: =AC23+AN23+AY23+BJ23+BU23+CF23+CQ23+DB23+DM23+DX23+EI23 -> 0 | FH23: =EW23+EX23+EY23+EZ23+FA23+FB23+FC23 -> 12 | FI23: =FD23+FE23+FF23+FG23+FH23 -> 25 | FJ23: =IF(EK23>=1,1,0) -> 0 | FK23: =IF(EP23>=1,1,0) -> 0
B24: 3 | C24: =F16/B16 -> 0.35833333 | E24: (ENTER HEIGHT IN SECOND COLUMN) | N24: 22 | O24: {=IF(OR(AE24:AJ24>0,AP24:AU24>0,BA24:BF24>0,BL24:BQ24>0,BW24:CB24>0,CH24:CM24>0,CS24:CX24,DD24:DI24>0,DO24:DT24>0,DZ24:EE24),1,0)} -> 0 | P24: 1 | Q24: 2100 | R24: 2200 | S24: 1 | Z24: 6 | AD24: 10 | AK24: 2 | AN24: 1 | AO24: 1 | AV24: 3 | AZ24: 4 | BV24: 1 | EV24: =IF(R24>=1,1,0) -> 1 | EW24: =S24+AD24+AO24+AZ24+BK24+BV24+CG24+CR24+DC24+DN24+DY24 -> 17 | EX24: =T24+AE24+AP24+BA24+BL24+BW24+CH24+CS24+DD24+DO24+DZ24 -> 0 | EY24: =U24+AF24+AQ24+BB24+BM24+BX24+CI24+CT24+DE24+DP24+EA24 -> 0 | EZ24: =V24+AG24+AR24+BC24+BN24+BY24+CJ24+CU24+DF24+DQ24+EB24 -> 0 | FA24: =W24+AH24+AS24+BD24+BO24+BZ24+CK24+CV24+DG24+DR24+EC24 -> 0 | FB24: =X24+AI24+AT24+BE24+BP24+CA24+CL24+CW24+DH24+DS24+ED24 -> 0 | FC24: =Y24+AJ24+AU24+BF24+BQ24+CB24+CM24+CX24+DI24+DT24+EE24 -> 0 | FD24: =Z24+AK24+AV24+BG24+BR24+CC24+CN24+CY24+DJ24+DU24+EF24 -> 11 | ... FG24: =AC24+AN24+AY24+BJ24+BU24+CF24+CQ24+DB24+DM24+DX24+EI24 -> 1 | FH24: =EW24+EX24+EY24+EZ24+FA24+FB24+FC24 -> 17 | FI24: =FD24+FE24+FF24+FG24+FH24 -> 29 | FJ24: =IF(EK24>=1,1,0) -> 0 | FK24: =IF(EP24>=1,1,0) -> 0
B25: 4 | C25: =F17/B17 -> #DIV/0! | E25: 17.1 | N25: 23 | O25: {=IF(OR(AE25:AJ25>0,AP25:AU25>0,BA25:BF25>0,BL25:BQ25>0,BW25:CB25>0,CH25:CM25>0,CS25:CX25,DD25:DI25>0,DO25:DT25>0,DZ25:EE25),1,0)} -> 0 | P25: 1 | Q25: 2200 | R25: 2300 | S25: 3 | Z25: 14 | AD25: 3 | AK25: 11 | AO25: 3 | AV25: 1 | AZ25: 1 | BG25: 2 | BJ25: 3 | EV25: =IF(R25>=1,1,0) -> 1 | EW25: =S25+AD25+AO25+AZ25+BK25+BV25+CG25+CR25+DC25+DN25+DY25 -> 10 | EX25: =T25+AE25+AP25+BA25+BL25+BW25+CH25+CS25+DD25+DO25+DZ25 -> 0 | EY25: =U25+AF25+AQ25+BB25+BM25+BX25+CI25+CT25+DE25+DP25+EA25 -> 0 | EZ25: =V25+AG25+AR25+BC25+BN25+BY25+CJ25+CU25+DF25+DQ25+EB25 -> 0 | FA25: =W25+AH25+AS25+BD25+BO25+BZ25+CK25+CV25+DG25+DR25+EC25 -> 0 | FB25: =X25+AI25+AT25+BE25+BP25+CA25+CL25+CW25+DH25+DS25+ED25 -> 0 | FC25: =Y25+AJ25+AU25+BF25+BQ25+CB25+CM25+CX25+DI25+DT25+EE25 -> 0 | FD25: =Z25+AK25+AV25+BG25+BR25+CC25+CN25+CY25+DJ25+DU25+EF25 -> 28 | ... FG25: =AC25+AN25+AY25+BJ25+BU25+CF25+CQ25+DB25+DM25+DX25+EI25 -> 3 | FH25: =EW25+EX25+EY25+EZ25+FA25+FB25+FC25 -> 10 | FI25: =FD25+FE25+FF25+FG25+FH25 -> 41 | FJ25: =IF(EK25>=1,1,0) -> 0 | FK25: =IF(EP25>=1,1,0) -> 0
B26: 5 | C26: =F18/B18 -> 0.325 | E26: 25.1 | N26: 24 | O26: {=IF(OR(AE26:AJ26>0,AP26:AU26>0,BA26:BF26>0,BL26:BQ26>0,BW26:CB26>0,CH26:CM26>0,CS26:CX26,DD26:DI26>0,DO26:DT26>0,DZ26:EE26),1,0)} -> 0 | P26: 1 | Q26: 2300 | R26: 2400 | S26: 4 | Z26: 4 | AC26: 1 | AD26: 5 | AK26: 5 | AO26: 6 | AV26: 1 | AY26: 1 | AZ26: 4 | BG26: 2 | BK26: 1 | BR26: 1 | BV26: 1 | CG26: 1 | EV26: =IF(R26>=1,1,0) -> 1 | EW26: =S26+AD26+AO26+AZ26+BK26+BV26+CG26+CR26+DC26+DN26+DY26 -> 22 | EX26: =T26+AE26+AP26+BA26+BL26+BW26+CH26+CS26+DD26+DO26+DZ26 -> 0 | EY26: =U26+AF26+AQ26+BB26+BM26+BX26+CI26+CT26+DE26+DP26+EA26 -> 0 | EZ26: =V26+AG26+AR26+BC26+BN26+BY26+CJ26+CU26+DF26+DQ26+EB26 -> 0 | FA26: =W26+AH26+AS26+BD26+BO26+BZ26+CK26+CV26+DG26+DR26+EC26 -> 0 | FB26: =X26+AI26+AT26+BE26+BP26+CA26+CL26+CW26+DH26+DS26+ED26 -> 0 | FC26: =Y26+AJ26+AU26+BF26+BQ26+CB26+CM26+CX26+DI26+DT26+EE26 -> 0 | FD26: =Z26+AK26+AV26+BG26+BR26+CC26+CN26+CY26+DJ26+DU26+EF26 -> 13 | ... FG26: =AC26+AN26+AY26+BJ26+BU26+CF26+CQ26+DB26+DM26+DX26+EI26 -> 2 | FH26: =EW26+EX26+EY26+EZ26+FA26+FB26+FC26 -> 22 | FI26: =FD26+FE26+FF26+FG26+FH26 -> 37 | FJ26: =IF(EK26>=1,1,0) -> 0 | FK26: =IF(EP26>=1,1,0) -> 0
B27: 6 | C27: =F19/B19 -> 0.35 | E27: 30.1 | N27: 25 | O27: {=IF(OR(AE27:AJ27>0,AP27:AU27>0,BA27:BF27>0,BL27:BQ27>0,BW27:CB27>0,CH27:CM27>0,CS27:CX27,DD27:DI27>0,DO27:DT27>0,DZ27:EE27),1,0)} -> 0 | P27: 1 | Q27: 2400 | R27: 2500 | S27: 3 | Z27: 5 | AD27: 2 | AK27: 6 | AV27: 3 | AY27: 1 | AZ27: 1 | BG27: 6 | BJ27: 1 | CN27: 1 | CY27: 1 | EV27: =IF(R27>=1,1,0) -> 1 | EW27: =S27+AD27+AO27+AZ27+BK27+BV27+CG27+CR27+DC27+DN27+DY27 -> 6 | EX27: =T27+AE27+AP27+BA27+BL27+BW27+CH27+CS27+DD27+DO27+DZ27 -> 0 | EY27: =U27+AF27+AQ27+BB27+BM27+BX27+CI27+CT27+DE27+DP27+EA27 -> 0 | EZ27: =V27+AG27+AR27+BC27+BN27+BY27+CJ27+CU27+DF27+DQ27+EB27 -> 0 | FA27: =W27+AH27+AS27+BD27+BO27+BZ27+CK27+CV27+DG27+DR27+EC27 -> 0 | FB27: =X27+AI27+AT27+BE27+BP27+CA27+CL27+CW27+DH27+DS27+ED27 -> 0 | FC27: =Y27+AJ27+AU27+BF27+BQ27+CB27+CM27+CX27+DI27+DT27+EE27 -> 0 | FD27: =Z27+AK27+AV27+BG27+BR27+CC27+CN27+CY27+DJ27+DU27+EF27 -> 22 | ... FG27: =AC27+AN27+AY27+BJ27+BU27+CF27+CQ27+DB27+DM27+DX27+EI27 -> 2 | FH27: =EW27+EX27+EY27+EZ27+FA27+FB27+FC27 -> 6 | FI27: =FD27+FE27+FF27+FG27+FH27 -> 30 | FJ27: =IF(EK27>=1,1,0) -> 0 | FK27: =IF(EP27>=1,1,0) -> 0
E28: 35.1 | N28: 26 | O28: {=IF(OR(AE28:AJ28>0,AP28:AU28>0,BA28:BF28>0,BL28:BQ28>0,BW28:CB28>0,CH28:CM28>0,CS28:CX28,DD28:DI28>0,DO28:DT28>0,DZ28:EE28),1,0)} -> 0 | P28: 1 | Q28: 2500 | R28: 2600 | Z28: 4 | AC28: 1 | AD28: 4 | AK28: 10 | AN28: 1 | AV28: 7 | AY28: 2 | AZ28: 2 | BG28: 6 | BJ28: 2 | BK28: 1 | BR28: 5 | BV28: 1 | EV28: =IF(R28>=1,1,0) -> 1 | EW28: =S28+AD28+AO28+AZ28+BK28+BV28+CG28+CR28+DC28+DN28+DY28 -> 8 | EX28: =T28+AE28+AP28+BA28+BL28+BW28+CH28+CS28+DD28+DO28+DZ28 -> 0 | EY28: =U28+AF28+AQ28+BB28+BM28+BX28+CI28+CT28+DE28+DP28+EA28 -> 0 | EZ28: =V28+AG28+AR28+BC28+BN28+BY28+CJ28+CU28+DF28+DQ28+EB28 -> 0 | FA28: =W28+AH28+AS28+BD28+BO28+BZ28+CK28+CV28+DG28+DR28+EC28 -> 0 | FB28: =X28+AI28+AT28+BE28+BP28+CA28+CL28+CW28+DH28+DS28+ED28 -> 0 | FC28: =Y28+AJ28+AU28+BF28+BQ28+CB28+CM28+CX28+DI28+DT28+EE28 -> 0 | FD28: =Z28+AK28+AV28+BG28+BR28+CC28+CN28+CY28+DJ28+DU28+EF28 -> 32 | ... FG28: =AC28+AN28+AY28+BJ28+BU28+CF28+CQ28+DB28+DM28+DX28+EI28 -> 6 | FH28: =EW28+EX28+EY28+EZ28+FA28+FB28+FC28 -> 8 | FI28: =FD28+FE28+FF28+FG28+FH28 -> 46 | FJ28: =IF(EK28>=1,1,0) -> 0 | FK28: =IF(EP28>=1,1,0) -> 0
E29: 40.1 | N29: 27 | O29: {=IF(OR(AE29:AJ29>0,AP29:AU29>0,BA29:BF29>0,BL29:BQ29>0,BW29:CB29>0,CH29:CM29>0,CS29:CX29,DD29:DI29>0,DO29:DT29>0,DZ29:EE29),1,0)} -> 0 | P29: 1 | Q29: 2600 | R29: 2700 | S29: 6 | Z29: 23 | AD29: 7 | AK29: 16 | AO29: 2 | AV29: 10 | AZ29: 1 | BG29: 10 | BJ29: 1 | BR29: 5 | CC29: 1 | EV29: =IF(R29>=1,1,0) -> 1 | EW29: =S29+AD29+AO29+AZ29+BK29+BV29+CG29+CR29+DC29+DN29+DY29 -> 16 | EX29: =T29+AE29+AP29+BA29+BL29+BW29+CH29+CS29+DD29+DO29+DZ29 -> 0 | EY29: =U29+AF29+AQ29+BB29+BM29+BX29+CI29+CT29+DE29+DP29+EA29 -> 0 | EZ29: =V29+AG29+AR29+BC29+BN29+BY29+CJ29+CU29+DF29+DQ29+EB29 -> 0 | FA29: =W29+AH29+AS29+BD29+BO29+BZ29+CK29+CV29+DG29+DR29+EC29 -> 0 | FB29: =X29+AI29+AT29+BE29+BP29+CA29+CL29+CW29+DH29+DS29+ED29 -> 0 | FC29: =Y29+AJ29+AU29+BF29+BQ29+CB29+CM29+CX29+DI29+DT29+EE29 -> 0 | FD29: =Z29+AK29+AV29+BG29+BR29+CC29+CN29+CY29+DJ29+DU29+EF29 -> 65 | ... FG29: =AC29+AN29+AY29+BJ29+BU29+CF29+CQ29+DB29+DM29+DX29+EI29 -> 1 | FH29: =EW29+EX29+EY29+EZ29+FA29+FB29+FC29 -> 16 | FI29: =FD29+FE29+FF29+FG29+FH29 -> 82 | FJ29: =IF(EK29>=1,1,0) -> 0 | FK29: =IF(EP29>=1,1,0) -> 0
E30: 45.1 | N30: 28 | O30: {=IF(OR(AE30:AJ30>0,AP30:AU30>0,BA30:BF30>0,BL30:BQ30>0,BW30:CB30>0,CH30:CM30>0,CS30:CX30,DD30:DI30>0,DO30:DT30>0,DZ30:EE30),1,0)} -> 0 | P30: 1 | Q30: 2700 | R30: 2800 | S30: 8 | Z30: 11 | AD30: 6 | AK30: 8 | AN30: 2 | AO30: 4 | AY30: 2 | AZ30: 4 | BG30: 3 | BJ30: 3 | BK30: 1 | BR30: 1 | EV30: =IF(R30>=1,1,0) -> 1 | EW30: =S30+AD30+AO30+AZ30+BK30+BV30+CG30+CR30+DC30+DN30+DY30 -> 23 | EX30: =T30+AE30+AP30+BA30+BL30+BW30+CH30+CS30+DD30+DO30+DZ30 -> 0 | EY30: =U30+AF30+AQ30+BB30+BM30+BX30+CI30+CT30+DE30+DP30+EA30 -> 0 | EZ30: =V30+AG30+AR30+BC30+BN30+BY30+CJ30+CU30+DF30+DQ30+EB30 -> 0 | FA30: =W30+AH30+AS30+BD30+BO30+BZ30+CK30+CV30+DG30+DR30+EC30 -> 0 | FB30: =X30+AI30+AT30+BE30+BP30+CA30+CL30+CW30+DH30+DS30+ED30 -> 0 | FC30: =Y30+AJ30+AU30+BF30+BQ30+CB30+CM30+CX30+DI30+DT30+EE30 -> 0 | FD30: =Z30+AK30+AV30+BG30+BR30+CC30+CN30+CY30+DJ30+DU30+EF30 -> 23 | ... FG30: =AC30+AN30+AY30+BJ30+BU30+CF30+CQ30+DB30+DM30+DX30+EI30 -> 7 | FH30: =EW30+EX30+EY30+EZ30+FA30+FB30+FC30 -> 23 | FI30: =FD30+FE30+FF30+FG30+FH30 -> 53 | FJ30: =IF(EK30>=1,1,0) -> 0 | FK30: =IF(EP30>=1,1,0) -> 0
E31: 50.1 | N31: 29 | O31: {=IF(OR(AE31:AJ31>0,AP31:AU31>0,BA31:BF31>0,BL31:BQ31>0,BW31:CB31>0,CH31:CM31>0,CS31:CX31,DD31:DI31>0,DO31:DT31>0,DZ31:EE31),1,0)} -> 0 | P31: 1 | Q31: 2800 | R31: 2900 | S31: 2 | Z31: 16 | AC31: 1 | AD31: 4 | AK31: 10 | AO31: 3 | AZ31: 3 | BK31: 1 | EV31: =IF(R31>=1,1,0) -> 1 | EW31: =S31+AD31+AO31+AZ31+BK31+BV31+CG31+CR31+DC31+DN31+DY31 -> 13 | EX31: =T31+AE31+AP31+BA31+BL31+BW31+CH31+CS31+DD31+DO31+DZ31 -> 0 | EY31: =U31+AF31+AQ31+BB31+BM31+BX31+CI31+CT31+DE31+DP31+EA31 -> 0 | EZ31: =V31+AG31+AR31+BC31+BN31+BY31+CJ31+CU31+DF31+DQ31+EB31 -> 0 | FA31: =W31+AH31+AS31+BD31+BO31+BZ31+CK31+CV31+DG31+DR31+EC31 -> 0 | FB31: =X31+AI31+AT31+BE31+BP31+CA31+CL31+CW31+DH31+DS31+ED31 -> 0 | FC31: =Y31+AJ31+AU31+BF31+BQ31+CB31+CM31+CX31+DI31+DT31+EE31 -> 0 | FD31: =Z31+AK31+AV31+BG31+BR31+CC31+CN31+CY31+DJ31+DU31+EF31 -> 26 | ... FG31: =AC31+AN31+AY31+BJ31+BU31+CF31+CQ31+DB31+DM31+DX31+EI31 -> 1 | FH31: =EW31+EX31+EY31+EZ31+FA31+FB31+FC31 -> 13 | FI31: =FD31+FE31+FF31+FG31+FH31 -> 40 | FJ31: =IF(EK31>=1,1,0) -> 0 | FK31: =IF(EP31>=1,1,0) -> 0
E32: 55.1 | N32: 30 | O32: {=IF(OR(AE32:AJ32>0,AP32:AU32>0,BA32:BF32>0,BL32:BQ32>0,BW32:CB32>0,CH32:CM32>0,CS32:CX32,DD32:DI32>0,DO32:DT32>0,DZ32:EE32),1,0)} -> 0 | P32: 2 | Q32: 0 | R32: 100 | S32: 7 | Z32: 16 | AC32: 5 | AD32: 8 | AK32: 4 | AN32: 5 | AO32: 1 | EV32: =IF(R32>=1,1,0) -> 1 | EW32: =S32+AD32+AO32+AZ32+BK32+BV32+CG32+CR32+DC32+DN32+DY32 -> 16 | EX32: =T32+AE32+AP32+BA32+BL32+BW32+CH32+CS32+DD32+DO32+DZ32 -> 0 | EY32: =U32+AF32+AQ32+BB32+BM32+BX32+CI32+CT32+DE32+DP32+EA32 -> 0 | EZ32: =V32+AG32+AR32+BC32+BN32+BY32+CJ32+CU32+DF32+DQ32+EB32 -> 0 | FA32: =W32+AH32+AS32+BD32+BO32+BZ32+CK32+CV32+DG32+DR32+EC32 -> 0 | FB32: =X32+AI32+AT32+BE32+BP32+CA32+CL32+CW32+DH32+DS32+ED32 -> 0 | FC32: =Y32+AJ32+AU32+BF32+BQ32+CB32+CM32+CX32+DI32+DT32+EE32 -> 0 | FD32: =Z32+AK32+AV32+BG32+BR32+CC32+CN32+CY32+DJ32+DU32+EF32 -> 20 | ... FG32: =AC32+AN32+AY32+BJ32+BU32+CF32+CQ32+DB32+DM32+DX32+EI32 -> 10 | FH32: =EW32+EX32+EY32+EZ32+FA32+FB32+FC32 -> 16 | FI32: =FD32+FE32+FF32+FG32+FH32 -> 46 | FJ32: =IF(EK32>=1,1,0) -> 0 | FK32: =IF(EP32>=1,1,0) -> 0
E33: 60.1 | N33: 31 | O33: {=IF(OR(AE33:AJ33>0,AP33:AU33>0,BA33:BF33>0,BL33:BQ33>0,BW33:CB33>0,CH33:CM33>0,CS33:CX33,DD33:DI33>0,DO33:DT33>0,DZ33:EE33),1,0)} -> 0 | P33: 2 | Q33: 100 | R33: 200 | S33: 5 | Z33: 18 | AD33: 3 | AK33: 22 | AN33: 1 | AO33: 1 | AV33: 6 | AY33: 1 | AZ33: 1 | BG33: 4 | BJ33: 3 | BK33: 1 | CC33: 1 | EV33: =IF(R33>=1,1,0) -> 1 | EW33: =S33+AD33+AO33+AZ33+BK33+BV33+CG33+CR33+DC33+DN33+DY33 -> 11 | EX33: =T33+AE33+AP33+BA33+BL33+BW33+CH33+CS33+DD33+DO33+DZ33 -> 0 | EY33: =U33+AF33+AQ33+BB33+BM33+BX33+CI33+CT33+DE33+DP33+EA33 -> 0 | EZ33: =V33+AG33+AR33+BC33+BN33+BY33+CJ33+CU33+DF33+DQ33+EB33 -> 0 | FA33: =W33+AH33+AS33+BD33+BO33+BZ33+CK33+CV33+DG33+DR33+EC33 -> 0 | FB33: =X33+AI33+AT33+BE33+BP33+CA33+CL33+CW33+DH33+DS33+ED33 -> 0 | FC33: =Y33+AJ33+AU33+BF33+BQ33+CB33+CM33+CX33+DI33+DT33+EE33 -> 0 | FD33: =Z33+AK33+AV33+BG33+BR33+CC33+CN33+CY33+DJ33+DU33+EF33 -> 51 | ... FG33: =AC33+AN33+AY33+BJ33+BU33+CF33+CQ33+DB33+DM33+DX33+EI33 -> 5 | FH33: =EW33+EX33+EY33+EZ33+FA33+FB33+FC33 -> 11 | FI33: =FD33+FE33+FF33+FG33+FH33 -> 67 | FJ33: =IF(EK33>=1,1,0) -> 0 | FK33: =IF(EP33>=1,1,0) -> 0
E34: TOTAL | F34: =SUM(F25:F33) -> 0 | G34: =SUM(G25:G33) -> 0 | N34: 32 | O34: {=IF(OR(AE34:AJ34>0,AP34:AU34>0,BA34:BF34>0,BL34:BQ34>0,BW34:CB34>0,CH34:CM34>0,CS34:CX34,DD34:DI34>0,DO34:DT34>0,DZ34:EE34),1,0)} -> 0 | P34: 2 | Q34: 200 | R34: 300 | Z34: 6 | AD34: 2 | AK34: 7 | AO34: 6 | AV34: 5 | AY34: 1 | AZ34: 8 | BG34: 9 | BJ34: 3 | BK34: 3 | BR34: 5 | CC34: 2 | CQ34: 1 | CY34: 1 | EV34: =IF(R34>=1,1,0) -> 1 | EW34: =S34+AD34+AO34+AZ34+BK34+BV34+CG34+CR34+DC34+DN34+DY34 -> 19 | EX34: =T34+AE34+AP34+BA34+BL34+BW34+CH34+CS34+DD34+DO34+DZ34 -> 0 | EY34: =U34+AF34+AQ34+BB34+BM34+BX34+CI34+CT34+DE34+DP34+EA34 -> 0 | EZ34: =V34+AG34+AR34+BC34+BN34+BY34+CJ34+CU34+DF34+DQ34+EB34 -> 0 | FA34: =W34+AH34+AS34+BD34+BO34+BZ34+CK34+CV34+DG34+DR34+EC34 -> 0 | FB34: =X34+AI34+AT34+BE34+BP34+CA34+CL34+CW34+DH34+DS34+ED34 -> 0 | FC34: =Y34+AJ34+AU34+BF34+BQ34+CB34+CM34+CX34+DI34+DT34+EE34 -> 0 | FD34: =Z34+AK34+AV34+BG34+BR34+CC34+CN34+CY34+DJ34+DU34+EF34 -> 35 | ... FG34: =AC34+AN34+AY34+BJ34+BU34+CF34+CQ34+DB34+DM34+DX34+EI34 -> 5 | FH34: =EW34+EX34+EY34+EZ34+FA34+FB34+FC34 -> 19 | FI34: =FD34+FE34+FF34+FG34+FH34 -> 59 | FJ34: =IF(EK34>=1,1,0) -> 0 | FK34: =IF(EP34>=1,1,0) -> 0
N35: 33 | O35: {=IF(OR(AE35:AJ35>0,AP35:AU35>0,BA35:BF35>0,BL35:BQ35>0,BW35:CB35>0,CH35:CM35>0,CS35:CX35,DD35:DI35>0,DO35:DT35>0,DZ35:EE35),1,0)} -> 0 | P35: 2 | Q35: 300 | R35: 400 | S35: 5 | Z35: 13 | AD35: 4 | AK35: 17 | AO35: 2 | AV35: 7 | AZ35: 2 | BG35: 14 | BK35: 1 | BR35: 6 | EV35: =IF(R35>=1,1,0) -> 1 | EW35: =S35+AD35+AO35+AZ35+BK35+BV35+CG35+CR35+DC35+DN35+DY35 -> 14 | EX35: =T35+AE35+AP35+BA35+BL35+BW35+CH35+CS35+DD35+DO35+DZ35 -> 0 | EY35: =U35+AF35+AQ35+BB35+BM35+BX35+CI35+CT35+DE35+DP35+EA35 -> 0 | EZ35: =V35+AG35+AR35+BC35+BN35+BY35+CJ35+CU35+DF35+DQ35+EB35 -> 0 | FA35: =W35+AH35+AS35+BD35+BO35+BZ35+CK35+CV35+DG35+DR35+EC35 -> 0 | FB35: =X35+AI35+AT35+BE35+BP35+CA35+CL35+CW35+DH35+DS35+ED35 -> 0 | FC35: =Y35+AJ35+AU35+BF35+BQ35+CB35+CM35+CX35+DI35+DT35+EE35 -> 0 | FD35: =Z35+AK35+AV35+BG35+BR35+CC35+CN35+CY35+DJ35+DU35+EF35 -> 57 | ... FG35: =AC35+AN35+AY35+BJ35+BU35+CF35+CQ35+DB35+DM35+DX35+EI35 -> 0 | FH35: =EW35+EX35+EY35+EZ35+FA35+FB35+FC35 -> 14 | FI35: =FD35+FE35+FF35+FG35+FH35 -> 71 | FJ35: =IF(EK35>=1,1,0) -> 0 | FK35: =IF(EP35>=1,1,0) -> 0
E36: AVERAGE HEIGHT OVER ENTIRE STEM COUNT | N36: 34 | O36: {=IF(OR(AE36:AJ36>0,AP36:AU36>0,BA36:BF36>0,BL36:BQ36>0,BW36:CB36>0,CH36:CM36>0,CS36:CX36,DD36:DI36>0,DO36:DT36>0,DZ36:EE36),1,0)} -> 0 | P36: 2 | Q36: 400 | R36: 500 | S36: 11 | Z36: 26 | AD36: 10 | AK36: 6 | AN36: 4 | AV36: 2 | AY36: 1 | AZ36: 1 | BG36: 1 | BJ36: 1 | BK36: 1 | BR36: 3 | BU36: 1 | EV36: =IF(R36>=1,1,0) -> 1 | EW36: =S36+AD36+AO36+AZ36+BK36+BV36+CG36+CR36+DC36+DN36+DY36 -> 23 | EX36: =T36+AE36+AP36+BA36+BL36+BW36+CH36+CS36+DD36+DO36+DZ36 -> 0 | EY36: =U36+AF36+AQ36+BB36+BM36+BX36+CI36+CT36+DE36+DP36+EA36 -> 0 | EZ36: =V36+AG36+AR36+BC36+BN36+BY36+CJ36+CU36+DF36+DQ36+EB36 -> 0 | FA36: =W36+AH36+AS36+BD36+BO36+BZ36+CK36+CV36+DG36+DR36+EC36 -> 0 | FB36: =X36+AI36+AT36+BE36+BP36+CA36+CL36+CW36+DH36+DS36+ED36 -> 0 | FC36: =Y36+AJ36+AU36+BF36+BQ36+CB36+CM36+CX36+DI36+DT36+EE36 -> 0 | FD36: =Z36+AK36+AV36+BG36+BR36+CC36+CN36+CY36+DJ36+DU36+EF36 -> 38 | ... FG36: =AC36+AN36+AY36+BJ36+BU36+CF36+CQ36+DB36+DM36+DX36+EI36 -> 7 | FH36: =EW36+EX36+EY36+EZ36+FA36+FB36+FC36 -> 23 | FI36: =FD36+FE36+FF36+FG36+FH36 -> 68 | FJ36: =IF(EK36>=1,1,0) -> 0 | FK36: =IF(EP36>=1,1,0) -> 0
N37: 35 | O37: {=IF(OR(AE37:AJ37>0,AP37:AU37>0,BA37:BF37>0,BL37:BQ37>0,BW37:CB37>0,CH37:CM37>0,CS37:CX37,DD37:DI37>0,DO37:DT37>0,DZ37:EE37),1,0)} -> 0 | P37: 2 | Q37: 500 | R37: 600 | S37: 4 | Z37: 12 | AD37: 9 | AK37: 10 | AO37: 9 | AV37: 4 | AY37: 1 | AZ37: 4 | BG37: 1 | BJ37: 1 | BK37: 1 | BR37: 1 | EV37: =IF(R37>=1,1,0) -> 1 | EW37: =S37+AD37+AO37+AZ37+BK37+BV37+CG37+CR37+DC37+DN37+DY37 -> 27 | EX37: =T37+AE37+AP37+BA37+BL37+BW37+CH37+CS37+DD37+DO37+DZ37 -> 0 | EY37: =U37+AF37+AQ37+BB37+BM37+BX37+CI37+CT37+DE37+DP37+EA37 -> 0 | EZ37: =V37+AG37+AR37+BC37+BN37+BY37+CJ37+CU37+DF37+DQ37+EB37 -> 0 | FA37: =W37+AH37+AS37+BD37+BO37+BZ37+CK37+CV37+DG37+DR37+EC37 -> 0 | FB37: =X37+AI37+AT37+BE37+BP37+CA37+CL37+CW37+DH37+DS37+ED37 -> 0 | FC37: =Y37+AJ37+AU37+BF37+BQ37+CB37+CM37+CX37+DI37+DT37+EE37 -> 0 | FD37: =Z37+AK37+AV37+BG37+BR37+CC37+CN37+CY37+DJ37+DU37+EF37 -> 28 | ... FG37: =AC37+AN37+AY37+BJ37+BU37+CF37+CQ37+DB37+DM37+DX37+EI37 -> 2 | FH37: =EW37+EX37+EY37+EZ37+FA37+FB37+FC37 -> 27 | FI37: =FD37+FE37+FF37+FG37+FH37 -> 57 | FJ37: =IF(EK37>=1,1,0) -> 0 | FK37: =IF(EP37>=1,1,0) -> 0
E38: =G34/F34 -> #DIV/0! | N38: 36 | O38: {=IF(OR(AE38:AJ38>0,AP38:AU38>0,BA38:BF38>0,BL38:BQ38>0,BW38:CB38>0,CH38:CM38>0,CS38:CX38,DD38:DI38>0,DO38:DT38>0,DZ38:EE38),1,0)} -> 0 | P38: 2 | Q38: 600 | R38: 700 | S38: 3 | Z38: 2 | AC38: 3 | AD38: 4 | AK38: 4 | AN38: 1 | AO38: 2 | AV38: 4 | AY38: 1 | AZ38: 1 | BG38: 5 | BJ38: 2 | BK38: 1 | BR38: 3 | EV38: =IF(R38>=1,1,0) -> 1 | EW38: =S38+AD38+AO38+AZ38+BK38+BV38+CG38+CR38+DC38+DN38+DY38 -> 11 | EX38: =T38+AE38+AP38+BA38+BL38+BW38+CH38+CS38+DD38+DO38+DZ38 -> 0 | EY38: =U38+AF38+AQ38+BB38+BM38+BX38+CI38+CT38+DE38+DP38+EA38 -> 0 | EZ38: =V38+AG38+AR38+BC38+BN38+BY38+CJ38+CU38+DF38+DQ38+EB38 -> 0 | FA38: =W38+AH38+AS38+BD38+BO38+BZ38+CK38+CV38+DG38+DR38+EC38 -> 0 | FB38: =X38+AI38+AT38+BE38+BP38+CA38+CL38+CW38+DH38+DS38+ED38 -> 0 | FC38: =Y38+AJ38+AU38+BF38+BQ38+CB38+CM38+CX38+DI38+DT38+EE38 -> 0 | FD38: =Z38+AK38+AV38+BG38+BR38+CC38+CN38+CY38+DJ38+DU38+EF38 -> 18 | ... FG38: =AC38+AN38+AY38+BJ38+BU38+CF38+CQ38+DB38+DM38+DX38+EI38 -> 7 | FH38: =EW38+EX38+EY38+EZ38+FA38+FB38+FC38 -> 11 | FI38: =FD38+FE38+FF38+FG38+FH38 -> 36 | FJ38: =IF(EK38>=1,1,0) -> 0 | FK38: =IF(EP38>=1,1,0) -> 0
N39: 37 | O39: {=IF(OR(AE39:AJ39>0,AP39:AU39>0,BA39:BF39>0,BL39:BQ39>0,BW39:CB39>0,CH39:CM39>0,CS39:CX39,DD39:DI39>0,DO39:DT39>0,DZ39:EE39),1,0)} -> 1 | P39: 2 | Q39: 700 | R39: 800 | S39: 8 | Z39: 2 | AC39: 11 | AD39: 8 | AK39: 2 | AN39: 10 | AO39: 1 | AY39: 2 | AZ39: 1 | BJ39: 2 | CB39: 1 | EV39: =IF(R39>=1,1,0) -> 1 | EW39: =S39+AD39+AO39+AZ39+BK39+BV39+CG39+CR39+DC39+DN39+DY39 -> 18 | EX39: =T39+AE39+AP39+BA39+BL39+BW39+CH39+CS39+DD39+DO39+DZ39 -> 0 | EY39: =U39+AF39+AQ39+BB39+BM39+BX39+CI39+CT39+DE39+DP39+EA39 -> 0 | EZ39: =V39+AG39+AR39+BC39+BN39+BY39+CJ39+CU39+DF39+DQ39+EB39 -> 0 | FA39: =W39+AH39+AS39+BD39+BO39+BZ39+CK39+CV39+DG39+DR39+EC39 -> 0 | FB39: =X39+AI39+AT39+BE39+BP39+CA39+CL39+CW39+DH39+DS39+ED39 -> 0 | FC39: =Y39+AJ39+AU39+BF39+BQ39+CB39+CM39+CX39+DI39+DT39+EE39 -> 1 | FD39: =Z39+AK39+AV39+BG39+BR39+CC39+CN39+CY39+DJ39+DU39+EF39 -> 4 | ... FG39: =AC39+AN39+AY39+BJ39+BU39+CF39+CQ39+DB39+DM39+DX39+EI39 -> 25 | FH39: =EW39+EX39+EY39+EZ39+FA39+FB39+FC39 -> 19 | FI39: =FD39+FE39+FF39+FG39+FH39 -> 48 | FJ39: =IF(EK39>=1,1,0) -> 0 | FK39: =IF(EP39>=1,1,0) -> 0
N40: 38 | O40: {=IF(OR(AE40:AJ40>0,AP40:AU40>0,BA40:BF40>0,BL40:BQ40>0,BW40:CB40>0,CH40:CM40>0,CS40:CX40,DD40:DI40>0,DO40:DT40>0,DZ40:EE40),1,0)} -> 0 | P40: 2 | Q40: 800 | R40: 900 | S40: 30 | Z40: 7 | AC40: 9 | AD40: 30 | AK40: 4 | AN40: 6 | AO40: 10 | AZ40: 9 | EV40: =IF(R40>=1,1,0) -> 1 | EW40: =S40+AD40+AO40+AZ40+BK40+BV40+CG40+CR40+DC40+DN40+DY40 -> 79 | EX40: =T40+AE40+AP40+BA40+BL40+BW40+CH40+CS40+DD40+DO40+DZ40 -> 0 | EY40: =U40+AF40+AQ40+BB40+BM40+BX40+CI40+CT40+DE40+DP40+EA40 -> 0 | EZ40: =V40+AG40+AR40+BC40+BN40+BY40+CJ40+CU40+DF40+DQ40+EB40 -> 0 | FA40: =W40+AH40+AS40+BD40+BO40+BZ40+CK40+CV40+DG40+DR40+EC40 -> 0 | FB40: =X40+AI40+AT40+BE40+BP40+CA40+CL40+CW40+DH40+DS40+ED40 -> 0 | FC40: =Y40+AJ40+AU40+BF40+BQ40+CB40+CM40+CX40+DI40+DT40+EE40 -> 0 | FD40: =Z40+AK40+AV40+BG40+BR40+CC40+CN40+CY40+DJ40+DU40+EF40 -> 11 | ... FG40: =AC40+AN40+AY40+BJ40+BU40+CF40+CQ40+DB40+DM40+DX40+EI40 -> 15 | FH40: =EW40+EX40+EY40+EZ40+FA40+FB40+FC40 -> 79 | FI40: =FD40+FE40+FF40+FG40+FH40 -> 105 | FJ40: =IF(EK40>=1,1,0) -> 0 | FK40: =IF(EP40>=1,1,0) -> 0
...

Sheet TOTALS
B2: NAZCA CONSULTING LTD
B3: UNIT SUMMARY REPORT
C6: LOCATION: | E6: =ENTRY!A3 -> Blackwater-Nation | H6: CLIENT: | J6: =ENTRY!I3 -> MFLNRO&RD
C7: MAPSHEET #: | E7: =ENTRY!B3 -> 93O 043 | H7: CONTRACT #: | J7: =ENTRY!J3 -> FH208240007
C8: POLYGON #: | E8: =ENTRY!C3 -> 1 | H8: SURVEYOR: | J8: =ENTRY!L3 -> A. O'Grady, C. Lewis, , T. Jenner
C9: SURVEY TYPE: | E9: =ENTRY!K3 -> GRID | H9: CERT. #: | J9: =ENTRY!M3 -> YES
C10: DATE: | E10: =ENTRY!F3 -> Dec 5,7-9, 19 | H10: GPS. | I10: N: | J10: =ENTRY!G3 -> 55° 26' 26.0" | K10: W: | L10: =ENTRY!H3 -> 123° 32' 35.2"
C11: HECTARES: | E11: =ENTRY!D3 -> 106.9 | H11: METERS SURVEYED: | K11: =ENTRY!E3 -> 10000
B14: TABLE 1. | C14: INFESTATION SUMMARY BY; TOTAL, HECTARE, AND PERCENTAGE
D15: HEALTHY | E15: 2019 | G15: 2018 | I15: 2017*
D16: SPRUCE | E16: CODE 1 | F16: CODE 2 | G16: CODE 3 | H16: CODE 4 | I16: CODE 5 | J16: CODE 6
B18: TOTALS | D18: =ENTRY!EW203 -> 2663 | E18: =ENTRY!EX203 -> 6 | F18: =ENTRY!EY203 -> 0 | G18: =ENTRY!EZ203 -> 3 | H18: =ENTRY!FA203 -> 0 | I18: =ENTRY!FB203 -> 1 | J18: =ENTRY!FC203 -> 2
B20: PER HECTARE | D20: =ENTRY!EW203/ENTRY!EV203*10 -> 266.3 | E20: =ENTRY!EX203/ENTRY!EV203*10 -> 0.6 | F20: =ENTRY!EY203/ENTRY!EV203*10 -> 0 | G20: =ENTRY!EZ203/ENTRY!EV203*10 -> 0.3 | H20: =ENTRY!FA203/ENTRY!EV203*10 -> 0 | I20: =ENTRY!FB203/ENTRY!EV203*10 -> 0.1 | J20: =ENTRY!FC203/ENTRY!EV203*10 -> 0.2
B22: PERCENTAGES | D22: =ENTRY!J8/ENTRY!D8*100 -> 62.644084 | E22: =ENTRY!J9/ENTRY!D8*100 -> 0.14114326 | F22: =ENTRY!J10/ENTRY!D8*100 -> 0 | G22: =ENTRY!J11/ENTRY!D8*100 -> 0.07057163 | H22: =ENTRY!J12/ENTRY!D8*100 -> 0 | I22: =ENTRY!J13/ENTRY!D8*100 -> 0.023523877 | J22: =ENTRY!J14/ENTRY!D8*100 -> 0.047047753
B28: TABLE 2. | C28: OTHER MERCHANTABLE TIMBER
E29: TIMBER | G29: TOTAL STEMS | I29: TOTAL STEMS
E30: TYPE | G30: IN SAMPLE | I30: PER HECTARE
E31: BALSAM | G31: =ENTRY!FD203 -> 1493 | I31: =ENTRY!FD203/ENTRY!EV203*10 -> 149.3
E32: ASPEN | G32: =ENTRY!FE203 -> 80 | I32: =ENTRY!FE203/ENTRY!EV203*10 -> 8
E33: COTTONWOOD | G33: =ENTRY!FF203 -> 3 | I33: =ENTRY!FF203/ENTRY!EV203*10 -> 0.3
E34: BIRCH | G34: =ENTRY!FG203 -> 628 | I34: =ENTRY!FG203/ENTRY!EV203*10 -> 62.8
B36: TABLE 3. | C36: STEM COUNT
B38: TOTAL PIXELS | G38: =ENTRY!EV203 -> 100
B40: TOTAL INFESTED PIXELS | G40: =ENTRY!O203 -> 9
B42: OTHER MERCHANTABLE STEMS IN SAMPLE | G42: =G31+G32+G33+G34 -> 2204
B44: TOTAL SPRUCE STEMS IN SAMPLE | G44: =ENTRY!FH203 -> 2675
B45: TOTAL % SPRUCE IN SAMPLE | G45: =G44/ENTRY!FI203*100 -> 54.826809
B49: TABLE 4. | C49: INFESTATION BY D.B.H. CLASS
C50: DBH | D50: S.A.F. | E50: HEALTHY | F50: 2019 | H50: 2018 | J50: 2017* | L50: OTHER
C51: CLASS | E51: SPRUCE | F51: CODE 1 | G51: CODE 2 | H51: CODE 3 | I51: CODE 4 | J51: CODE 5 | K51: CODE 6 | L51: MERCH.
C52: 12.5-17.4 | E52: =ENTRY!S$203 -> 1112 | F52: =ENTRY!T$203 -> 0 | G52: =ENTRY!U$203 -> 0 | H52: =ENTRY!V$203 -> 0 | I52: =ENTRY!W$203 -> 0 | J52: =ENTRY!X$203 -> 0 | K52: =ENTRY!Y$203 -> 0 | L52: =ENTRY!Z$203+ENTRY!AA203+ENTRY!AB203+ENTRY!AC203 -> 841
C53: 17.5-25.0 | D53: 3.3 | E53: =SUM(ENTRY!AD3:'ENTRY'!AD202) -> 898 | F53: =SUM(ENTRY!AE3:'ENTRY'!AE202) -> 0 | G53: =SUM(ENTRY!AF3:'ENTRY'!AF202) -> 0 | H53: =SUM(ENTRY!AG3:'ENTRY'!AG202) -> 0 | I53: =SUM(ENTRY!AH3:'ENTRY'!AH202) -> 0 | J53: =SUM(ENTRY!AI3:'ENTRY'!AI202) -> 0 | K53: =SUM(ENTRY!AJ3:'ENTRY'!AJ202) -> 0 | L53: =ENTRY!AK203+ENTRY!AL203+ENTRY!AM203+ENTRY!AN203 -> 689
C54: 25.1-30.0 | D54: 5.3 | E54: =SUM(ENTRY!AO3:'ENTRY'!AO202) -> 309 | F54: =SUM(ENTRY!AP3:'ENTRY'!AP202) -> 1 | G54: =SUM(ENTRY!AQ3:'ENTRY'!AQ202) -> 0 | H54: =SUM(ENTRY!AR3:'ENTRY'!AR202) -> 0 | I54: =SUM(ENTRY!AS3:'ENTRY'!AS202) -> 0 | J54: =SUM(ENTRY!AT3:'ENTRY'!AT202) -> 0 | K54: =SUM(ENTRY!AU3:'ENTRY'!AU202) -> 1 | L54: =ENTRY!AV203+ENTRY!AW203+ENTRY!AX203+ENTRY!AY203 -> 317
C55: 30.1-35.0 | D55: 7.1 | E55: =SUM(ENTRY!AZ3:'ENTRY'!AZ202) -> 222 | F55: =SUM(ENTRY!BA3:'ENTRY'!BA202) -> 3 | G55: =SUM(ENTRY!BB3:'ENTRY'!BB202) -> 0 | H55: =SUM(ENTRY!BC3:'ENTRY'!BC202) -> 1 | I55: =SUM(ENTRY!BD3:'ENTRY'!BD202) -> 0 | J55: =SUM(ENTRY!BE3:'ENTRY'!BE202) -> 1 | K55: =SUM(ENTRY!BF3:'ENTRY'!BF202) -> 0 | L55: =ENTRY!BG203+ENTRY!BH203+ENTRY!BI203+ENTRY!BJ203 -> 246
C56: 35.1-40.0 | D56: 9.4 | E56: =SUM(ENTRY!BK3:'ENTRY'!BK202) -> 80 | F56: =SUM(ENTRY!BL3:'ENTRY'!BL202) -> 2 | G56: =SUM(ENTRY!BM3:'ENTRY'!BM202) -> 0 | H56: =SUM(ENTRY!BN3:'ENTRY'!BN202) -> 2 | I56: =SUM(ENTRY!BO3:'ENTRY'!BO202) -> 0 | J56: =SUM(ENTRY!BP3:'ENTRY'!BP202) -> 0 | K56: =SUM(ENTRY!BQ3:'ENTRY'!BQ202) -> 0 | L56: =ENTRY!BR203+ENTRY!BS203+ENTRY!BT203+ENTRY!BU203 -> 88
C57: 40.1-45.0 | D57: 11.6 | E57: =SUM(ENTRY!BV3:'ENTRY'!BV202) -> 29 | F57: =SUM(ENTRY!BW3:'ENTRY'!BW202) -> 0 | G57: =SUM(ENTRY!BX3:'ENTRY'!BX202) -> 0 | H57: =SUM(ENTRY!BY3:'ENTRY'!BY202) -> 0 | I57: =SUM(ENTRY!BZ3:'ENTRY'!BZ202) -> 0 | J57: =SUM(ENTRY!CA3:'ENTRY'!CA202) -> 0 | K57: =SUM(ENTRY!CB3:'ENTRY'!CB202) -> 1 | L57: =ENTRY!CC203+ENTRY!CD203+ENTRY!CE203+ENTRY!CF203 -> 14
C58: 45.1-50.0 | D58: 13.8 | E58: =SUM(ENTRY!CG3:'ENTRY'!CG202) -> 8 | F58: =SUM(ENTRY!CH3:'ENTRY'!CH202) -> 0 | G58: =SUM(ENTRY!CI3:'ENTRY'!CI202) -> 0 | H58: =SUM(ENTRY!CJ3:'ENTRY'!CJ202) -> 0 | I58: =SUM(ENTRY!CK3:'ENTRY'!CK202) -> 0 | J58: =SUM(ENTRY!CL3:'ENTRY'!CL202) -> 0 | K58: =SUM(ENTRY!CM3:'ENTRY'!CM202) -> 0 | L58: =ENTRY!CN203+ENTRY!CO203+ENTRY!CP203+ENTRY!CQ203 -> 5
C59: 50.1-55.0 | D59: 16.2 | E59: =SUM(ENTRY!CR3:'ENTRY'!CR202) -> 2 | F59: =SUM(ENTRY!CS3:'ENTRY'!CS202) -> 0 | G59: =SUM(ENTRY!CT3:'ENTRY'!CT202) -> 0 | H59: =SUM(ENTRY!CU3:'ENTRY'!CU202) -> 0 | I59: =SUM(ENTRY!CV3:'ENTRY'!CV202) -> 0 | J59: =SUM(ENTRY!CW3:'ENTRY'!CW202) -> 0 | K59: =SUM(ENTRY!CX3:'ENTRY'!CX202) -> 0 | L59: =ENTRY!CY203+ENTRY!CZ203+ENTRY!DA203+ENTRY!DB203 -> 3
C60: 55.1-60.0 | D60: 18.7 | E60: =SUM(ENTRY!DC3:'ENTRY'!DC202) -> 2 | F60: =SUM(ENTRY!DD3:'ENTRY'!DD202) -> 0 | G60: =SUM(ENTRY!DE3:'ENTRY'!DE202) -> 0 | H60: =SUM(ENTRY!DF3:'ENTRY'!DF202) -> 0 | I60: =SUM(ENTRY!DG3:'ENTRY'!DG202) -> 0 | J60: =SUM(ENTRY!DH3:'ENTRY'!DH202) -> 0 | K60: =SUM(ENTRY!DI3:'ENTRY'!DI202) -> 0 | L60: =ENTRY!DJ203+ENTRY!DK203+ENTRY!DL203+ENTRY!DM203 -> 0
C61: 60.1-65.0 | D61: 25.3 | E61: =SUM(ENTRY!DN3:'ENTRY'!DN202) -> 1 | F61: =SUM(ENTRY!DO3:'ENTRY'!DO202) -> 0 | G61: =SUM(ENTRY!DP3:'ENTRY'!DP202) -> 0 | H61: =SUM(ENTRY!DQ3:'ENTRY'!DQ202) -> 0 | I61: =SUM(ENTRY!DR3:'ENTRY'!DR202) -> 0 | J61: =SUM(ENTRY!DS3:'ENTRY'!DS202) -> 0 | K61: =SUM(ENTRY!DT3:'ENTRY'!DT202) -> 0 | L61: =ENTRY!DU203+ENTRY!DV203+ENTRY!DW203+ENTRY!DX203 -> 1
...

Sheet BARK PATCH
B2: NAZCA CONSULTING LTD
B3: 2019 SPRUCE BEETLE SURVEYS
D6: LOCATION: | F6: =ENTRY!A3 -> Blackwater-Nation | I6: CLIENT: | K6: =ENTRY!I3 -> MFLNRO&RD
D7: MAPSHEET #: | F7: =ENTRY!B3 -> 93O 043 | I7: CONTRACT #: | K7: =ENTRY!J3 -> FH208240007
D8: POLYGON #: | F8: =ENTRY!C3 -> 1 | I8: SURVEYOR: | K8: =ENTRY!L3 -> A. O'Grady, C. Lewis, , T. Jenner
D9: SURVEY TYPE: | F9: =ENTRY!K3 -> GRID | I9: CERT. #: | K9: =ENTRY!M3 -> YES
D10: DATE: | F10: =ENTRY!F3 -> Dec 5,7-9, 19 | I10: GPS. | J10: N: | K10: =ENTRY!H3 -> 123° 32' 35.2" | L10: W: | M10: =ENTRY!G3 -> 55° 26' 26.0"
D11: HECTARES: | F11: =ENTRY!D3 -> 106.9 | I11: METERS SURVEYED: | L11: =ENTRY!E3 -> 10000
B14: Table 5. | D14: BARK PATCH SUMMARY
D15: NORTH | I15: SOUTH
D16: NO. OF | E16: NO. OF | F16: NO. OF | G16: NO. OF | H16: NO. OF | I16: NO. OF | J16: NO. OF | K16: NO. OF | L16: NO. OF | M16: NO. OF
B17: S/L # | D17: ADULTS | E17: PUPAE | F17: LARVAE | G17: CALLOWS | H17: ENT.HOLES | I17: ADULTS | J17: PUPAE | K17: LARVAE | L17: CALLOWS | M17: ENT.HOLES
B18: =ENTRY!EJ3 -> 1 | D18: =ENTRY!EL3 -> 0 | E18: =ENTRY!EN3 -> 0 | F18: =ENTRY!EM3 -> 4 | G18: =ENTRY!EO3 -> 0 | H18: =ENTRY!EK3 -> 2 | I18: =ENTRY!EQ3 -> 0 | J18: =ENTRY!ES3 -> 0 | K18: =ENTRY!ER3 -> 14 | L18: =ENTRY!ET3 -> 0 | M18: =ENTRY!EP3 -> 3
B19: =ENTRY!EJ4 -> 1 | D19: =ENTRY!EL4 -> 0 | E19: =ENTRY!EN4 -> 0 | F19: =ENTRY!EM4 -> 4 | G19: =ENTRY!EO4 -> 0 | H19: =ENTRY!EK4 -> 2 | I19: =ENTRY!EQ4 -> 0 | J19: =ENTRY!ES4 -> 0 | K19: =ENTRY!ER4 -> 2 | L19: =ENTRY!ET4 -> 0 | M19: =ENTRY!EP4 -> 3
B20: =ENTRY!EJ5 -> 2 | D20: =ENTRY!EL5 -> 4 | E20: =ENTRY!EN5 -> 0 | F20: =ENTRY!EM5 -> 0 | G20: =ENTRY!EO5 -> 0 | H20: =ENTRY!EK5 -> 2 | I20: =ENTRY!EQ5 -> 3 | J20: =ENTRY!ES5 -> 0 | K20: =ENTRY!ER5 -> 0 | L20: =ENTRY!ET5 -> 0 | M20: =ENTRY!EP5 -> 3
B21: =ENTRY!EJ6 -> 2 | D21: =ENTRY!EL6 -> 0 | E21: =ENTRY!EN6 -> 0 | F21: =ENTRY!EM6 -> 7 | G21: =ENTRY!EO6 -> 6 | H21: =ENTRY!EK6 -> 6 | I21: =ENTRY!EQ6 -> 0 | J21: =ENTRY!ES6 -> 0 | K21: =ENTRY!ER6 -> 14 | L21: =ENTRY!ET6 -> 0 | M21: =ENTRY!EP6 -> 2
B22: =ENTRY!EJ7 -> 4 | D22: =ENTRY!EL7 -> 0 | E22: =ENTRY!EN7 -> 0 | F22: =ENTRY!EM7 -> 0 | G22: =ENTRY!EO7 -> 0 | H22: =ENTRY!EK7 -> 2 | I22: =ENTRY!EQ7 -> 3 | J22: =ENTRY!ES7 -> 0 | K22: =ENTRY!ER7 -> 0 | L22: =ENTRY!ET7 -> 0 | M22: =ENTRY!EP7 -> 0
B23: =ENTRY!EJ8 -> 4 | D23: =ENTRY!EL8 -> 3 | E23: =ENTRY!EN8 -> 0 | F23: =ENTRY!EM8 -> 0 | G23: =ENTRY!EO8 -> 0 | H23: =ENTRY!EK8 -> 4 | I23: =ENTRY!EQ8 -> 0 | J23: =ENTRY!ES8 -> 0 | K23: =ENTRY!ER8 -> 0 | L23: =ENTRY!ET8 -> 0 | M23: =ENTRY!EP8 -> 4
B24: =ENTRY!EJ9 -> 4 | D24: =ENTRY!EL9 -> 0 | E24: =ENTRY!EN9 -> 0 | F24: =ENTRY!EM9 -> 0 | G24: =ENTRY!EO9 -> 0 | H24: =ENTRY!EK9 -> 2 | I24: =ENTRY!EQ9 -> 0 | J24: =ENTRY!ES9 -> 0 | K24: =ENTRY!ER9 -> 3 | L24: =ENTRY!ET9 -> 0 | M24: =ENTRY!EP9 -> 4
B25: =ENTRY!EJ10 -> 4 | D25: =ENTRY!EL10 -> 0 | E25: =ENTRY!EN10 -> 0 | F25: =ENTRY!EM10 -> 0 | G25: =ENTRY!EO10 -> 0 | H25: =ENTRY!EK10 -> 3 | I25: =ENTRY!EQ10 -> 0 | J25: =ENTRY!ES10 -> 0 | K25: =ENTRY!ER10 -> 0 | L25: =ENTRY!ET10 -> 0 | M25: =ENTRY!EP10 -> 4
B26: =ENTRY!EJ11 -> 0 | D26: =ENTRY!EL11 -> 0 | E26: =ENTRY!EN11 -> 0 | F26: =ENTRY!EM11 -> 0 | G26: =ENTRY!EO11 -> 0 | H26: =ENTRY!EK11 -> 0 | I26: =ENTRY!EQ11 -> 0 | J26: =ENTRY!ES11 -> 0 | K26: =ENTRY!ER11 -> 0 | L26: =ENTRY!ET11 -> 0 | M26: =ENTRY!EP11 -> 0
B27: =ENTRY!EJ12 -> 0 | D27: =ENTRY!EL12 -> 0 | E27: =ENTRY!EN12 -> 0 | F27: =ENTRY!EM12 -> 0 | G27: =ENTRY!EO12 -> 0 | H27: =ENTRY!EK12 -> 0 | I27: =ENTRY!EQ12 -> 0 | J27: =ENTRY!ES12 -> 0 | K27: =ENTRY!ER12 -> 0 | L27: =ENTRY!ET12 -> 0 | M27: =ENTRY!EP12 -> 0
B28: =ENTRY!EJ13 -> 0 | D28: =ENTRY!EL13 -> 0 | E28: =ENTRY!EN13 -> 0 | F28: =ENTRY!EM13 -> 0 | G28: =ENTRY!EO13 -> 0 | H28: =ENTRY!EK13 -> 0 | I28: =ENTRY!EQ13 -> 0 | J28: =ENTRY!ES13 -> 0 | K28: =ENTRY!ER13 -> 0 | L28: =ENTRY!ET13 -> 0 | M28: =ENTRY!EP13 -> 0
B29: =ENTRY!EJ14 -> 0 | D29: =ENTRY!EL14 -> 0 | E29: =ENTRY!EN14 -> 0 | F29: =ENTRY!EM14 -> 0 | G29: =ENTRY!EO14 -> 0 | H29: =ENTRY!EK14 -> 0 | I29: =ENTRY!EQ14 -> 0 | J29: =ENTRY!ES14 -> 0 | K29: =ENTRY!ER14 -> 0 | L29: =ENTRY!ET14 -> 0 | M29: =ENTRY!EP14 -> 0
... B37: =ENTRY!EJ22 -> 0 | D37: =ENTRY!EL22 -> 0 | E37: =ENTRY!EN22 -> 0 | F37: =ENTRY!EM22 -> 0 | G37: =ENTRY!EO22 -> 0 | H37: =ENTRY!EK22 -> 0 | I37: =ENTRY!EQ22 -> 0 | J37: =ENTRY!ES22 -> 0 | K37: =ENTRY!ER22 -> 0 | L37: =ENTRY!ET22 -> 0 | M37: =ENTRY!EP22 -> 0
B38: TOTALS: | D38: =SUM(D18:D37) -> 7 | E38: =SUM(E18:E37) -> 0 | F38: =SUM(F18:F37) -> 15 | G38: =SUM(G18:G37) -> 6 | H38: =SUM(H18:H37) -> 23 | I38: =SUM(I18:I37) -> 6 | J38: =SUM(J18:J37) -> 0 | K38: =SUM(K18:K37) -> 33 | ... M38: =SUM(M18:M37) -> 23
B41: Table 6. | D41: ENTRANCE HOLES AND LARVAL COUNT
B43: Entrance Holes
B44: per Phloem Sample* | E44: Attack Density | H44: Living Larvae | J44: Larval Density
B45: < 1 | E45: Low | H45: <4.9 | J45: Low
B46: 1.0 - 1.9 | E46: Moderate | H46: 5.1-14.9 | J46: Moderate
B47: 2.0 - 3.9 | E47: High | H47: 15.0-24.9 | J47: High
B48: > 3.9 | E48: Severe | H48: 24.9+ | J48: Severe
B50: Mean Number of Entrance Holes: | G50: =(H38+M38)/ENTRY!L16 -> 5.75
B51: Mean Number of Living Larvae: | G51: =(F38+K38)/ENTRY!L16 -> 6
H52: *phloem sample = 15cm x 15cm (225cm2)

Sheet COMMENTS
B3: NAZCA CONSULTING LTD
F4: 2019 SPRUCE BEETLE SURVEYS
B6: LOCATION: | E6: =ENTRY!A3 -> Blackwater-Nation | I6: CLIENT: | L6: =ENTRY!I3 -> MFLNRO&RD
B7: MAPSHEET/CP. #: | E7: =ENTRY!B3 -> 93O 043 | I7: CONTRACT #: | L7: =ENTRY!J3 -> FH208240007
B8: POLYGON #: | E8: =ENTRY!C3 -> 1 | I8: SURVEYORS: | L8: =ENTRY!L3 -> A. O'Grady, C. Lewis, , T. Jenner
B9: HECTARES: | E9: =ENTRY!D3 -> 106.9 | I9: CERT. #: | L9: =ENTRY!M3 -> YES
B10: DATE SURVEYED: | E10: =ENTRY!F3 -> Dec 5,7-9, 19 | I10: SURVEY TYPE: | L10: =ENTRY!K3 -> GRID
B11: GPS: | D11: N: | E11: =ENTRY!G3 -> 55° 26' 26.0" | F11: W: | G11: =ENTRY!H3 -> 123° 32' 35.2" | I11: METERS SURVEYED: | L11: 10000
B14: SITE DETAILS:
B16: EXACT LOCATION: | E16: Nation FSR 6km spur up 5.1km | H16: TIMBER TYPES: | J16: SBlEp; BlSEp(At) | L16: SLOPE: | M16: 0-35%
J17: SBlDead Pl
B18: TOPOGRAPHY: | E18: flat/rolling | H18: RIPARIAN ZONES: | J18: Stream | L18: ASPECT: | M18: All
B20: PREVIOUS KNOWN SURVEYS: | G20: No | H20: WILDLIFE HABITAT: | J20: Ungulates
